{"text_format":"1","workbook":"xlsx","n_sheets":13,"sheets":["Stammdaten","Lehrerliste","ZVA","Tabelle5","Prüfungskommissionen","test","Pivot","Schulen","G","Tabelle2","Tabelle1","Tabelle3","Tabelle4"],"not_rendered":{"charts":0,"images":0,"macros":1,"external_links":0,"defined_names":10,"comments":1,"pivot_tables":2},"unopened":[],"bounds":{"document_bytes":16777216,"sheet_cells":100000,"rows_first":2000,"rows_last":500,"rows_between":2000,"halvings":0,"cell_chars":16384,"cell_head_chars":4096},"cells_cut":0,"cells_raw":0,"read":"whole","date_system":"1900"}

{"sheet":"Stammdaten","index":0,"n_rows":300,"n_cols":17,"rows_kept":300,"cut":false,"hidden":false,"merged":[[7,9,7,13],[1,3,1,4],[6,2,6,3],[4,2,4,6],[3,2,3,6],[2,3,2,4]]}
[null,null,null,null,null,null,null,null,null,null,null,null,null,null,null,null,"Vers. 1"]
[null,null,null,"Prüfungsentschädigungen APS/BS/LuF SJ 2023/2024",null,null,null,null,null,null,null,null,null,null,null,"Vers. 1","2017-10-02"]
[null,null,"Zusatztext:",null,null,null,null,null,null,null,null,null,null,null,null,"2024-06-17"]
[]
["Schulkennzahl:",null,{"$f":"IFERROR(IF(B5=\"\",\"\",VLOOKUP(B5,Schulen!$A$1:$D$550,2,FALSE)),\"\")","v":""},null,null,null,null,null,null,null,null,null,null,null,null,{"$f":"IFERROR(IF(B5=\"\",\"\",VLOOKUP(B5,Schulen!Q:R,2,0)),\"\")","v":""}]
["Auszahlungsdatum:",{"$f":"MIN(C10:C300)","v":"00:00:00"},"(wird beim erstellen des ZVA autom. angepasst)",null,{"$f":"SUM(P10:P300)","v":0},null,{"$f":"IF(G8=0,\"ZVA ok\",\"ZVA!!!\")","v":"ZVA ok"}]
["Lohnart:",4811,{"$f":"IF(B7=\"\",\"\",VLOOKUP(B7,Schulen!$H$1:$J$3,2))","v":"Prüfungsentschädigung"},null,{"$f":"ZVA!G4","v":0}]
["Zweckgebundene Gebarung:",{"$f":"IF(B7=4811,\"\",IF(B7=\"\",\"\",IF(B5=\"\",\"\",VLOOKUP(B5,Schulen!$A$1:$G$51,4,0))))","v":""},"Auftrag:",{"$f":"IF(B8=\"\",\"\",\"30W000000002\")","v":""},{"$f":"E6-E7","v":0},null,{"$f":"ROUND(E8,2)","v":0},null,null,{"$f":"SUBTOTAL(9,K10:K300)","v":0}]
["Zu- und Vorname, akad. Grad","Personal-Nr.","Prüfungs-\ndatum","Art der Prüfung","Prüfungstätigkeit","TP","Gegen-\nstand","Klasse","Ausm.\nin %","Std. Proj.","Anz.\nder Kand\n","Art","P","Abg. je\nPr.Kdt.","AJK","Gesamt","G"]
[{"$f":"IF(B10=\"\",\"\",VLOOKUP(B10,Lehrerliste!$A$1:$B$8857,2,0))","v":""},null,null,null,null,null,null,null,null,null,null,{"$f":"IF(D10=\"Reifepr./Diplompr.\",1,IF(D10=\"Abschlussprüfung\",10,IF(D10=\"Vorpr. d. Reifepr./Diplompr./AP\",2,IF(D10=\"Externistenreifeprüfung\",3,IF(D10=\"Zulassungsprüfung z. Extern.RP\",4,IF(D10=\"Sonst. Externistenprüfungen\",5,IF(D10=\"Aufnahms- u. Einstufungsprüfungen\",6,IF(D10=\"Komm. Prüfung/Kolloquien\",7,IF(D10=\"Zertifikatsprüfung Käsek./Jungbark.\",8,IF(D10=\"BRP / Lehre m. Matura\",9,IF(D10=\"Zertifikatsprüfung Weinsommelier\",8,\"\")))))))))))","v":""},{"$f":"IF(E10=\"Vorsitz\",1,IF(E10=\"Vorsitz/mdl. Kompens.\",1,IF(E10=\"Schulleiter/AV/fachk. LP\",1,IF(E10=\"Schulleit./AV/LP/mdl. Komp\",1,IF(E10=\"JV/FV/SK/LP\",1,IF(E10=\"JV/FV/SK/LP/mdl. Komp.\",1,IF(E10=\"Klassenvorstand\",1,IF(E10=\"Klassenvorst./mdl. Komp.\",1,IF(E10=\"Schulleiter/AV/LP\",1,IF(E10=\"KV/FV/SK/LP\",1,\"\"))))))))))","v":""},{"$f":"IFERROR(IF(K10=\"\",\"\",IF(AND(L10=1,M10=1),(O10*F10),IF(AND(L10=11,M10=1),(O10*F10), IF(AND(L10=10,M10=1),(O10*F10),VALUE(O10))))),\"\")","v":""},{"$f":"IF(E10=\"\",\"\",IF(E10=\"Projekt bzw. BDA\",VLOOKUP(J10,G!$V$1:$W$100,2),INDEX(G!$C$2:$C$93,MATCH(Stammdaten!D10&Stammdaten!E10,G!$A$2:$A$93&G!$B$2:$B$93,0))))","v":""},{"$f":"IFERROR(IF(B10=\"\",\"\",IF(K10=\"\",\"0,00\",IF(AND(L10=1,M10=1),VALUE(Q10*F10),IF(AND(L10=11,M10=1),VALUE(Q10*F10),IF(AND(L10=10,M10=1),VALUE(Q10*F10),VALUE(Q10)))))),\"\")","v":""},{"$f":"IF(E10=\"Projekt bzw. BDA\",O10/100*I10*K10,IF(AND(E10=\"Diplomarbeit/Prüfer\",K10>=5),O10/100*I10*5,IF(AND(E10=\"Betreuung bis 5 FBA\",K10>=2),O10/100*I10*1,IF(AND(E10=\"Betreuung FBA/je Prüfer\",K10>=2),O10/100*I10*1,IF(K10<>\"\",(O10/100*I10*K10),IF(K10=\"\",\"\"))))))","v":""}]
[{"$f":"IF(B11=\"\",\"\",VLOOKUP(B11,Lehrerliste!$A$1:$B$8857,2,0))","v":""},null,null,null,null,null,null,null,null,null,null,"","","",{"$f":"IF(E11=\"\",\"\",IF(E11=\"Projekt bzw. BDA\",VLOOKUP(J11,G!$V$1:$W$100,2),INDEX(G!$C$2:$C$93,MATCH(Stammdaten!D11&Stammdaten!E11,G!$A$2:$A$93&G!$B$2:$B$93,0))))","v":""},{"$f":"IFERROR(IF(B11=\"\",\"\",IF(K11=\"\",\"0,00\",IF(AND(L11=1,M11=1),VALUE(Q11*F11),IF(AND(L11=11,M11=1),VALUE(Q11*F11),IF(AND(L11=10,M11=1),VALUE(Q11*F11),VALUE(Q11)))))),\"\")","v":""},{"$f":"IF(E11=\"Projekt bzw. BDA\",O11/100*I11*K11,IF(AND(E11=\"Diplomarbeit/Prüfer\",K11>=5),O11/100*I11*5,IF(AND(E11=\"Betreuung bis 5 FBA\",K11>=2),O11/100*I11*1,IF(AND(E11=\"Betreuung FBA/je Prüfer\",K11>=2),O11/100*I11*1,IF(K11<>\"\",(O11/100*I11*K11),IF(K11=\"\",\"\"))))))","v":""}]
[{"$f":"IF(B12=\"\",\"\",VLOOKUP(B12,Lehrerliste!$A$1:$B$8857,2,0))","v":""},null,null,null,null,null,null,null,null,null,null,"","","",{"$f":"IF(E12=\"\",\"\",IF(E12=\"Projekt bzw. BDA\",VLOOKUP(J12,G!$V$1:$W$100,2),INDEX(G!$C$2:$C$93,MATCH(Stammdaten!D12&Stammdaten!E12,G!$A$2:$A$93&G!$B$2:$B$93,0))))","v":""},"",{"$f":"IF(E12=\"Projekt bzw. BDA\",O12/100*I12*K12,IF(AND(E12=\"Diplomarbeit/Prüfer\",K12>=5),O12/100*I12*5,IF(AND(E12=\"Betreuung bis 5 FBA\",K12>=2),O12/100*I12*1,IF(AND(E12=\"Betreuung FBA/je Prüfer\",K12>=2),O12/100*I12*1,IF(K12<>\"\",(O12/100*I12*K12),IF(K12=\"\",\"\"))))))","v":""}]
[{"$f":"IF(B13=\"\",\"\",VLOOKUP(B13,Lehrerliste!$A$1:$B$8857,2,0))","v":""},null,null,null,null,null,null,null,null,null,null,"","","",{"$f":"IF(E13=\"\",\"\",IF(E13=\"Projekt bzw. BDA\",VLOOKUP(J13,G!$V$1:$W$100,2),INDEX(G!$C$2:$C$93,MATCH(Stammdaten!D13&Stammdaten!E13,G!$A$2:$A$93&G!$B$2:$B$93,0))))","v":""},"",{"$f":"IF(E13=\"Projekt bzw. BDA\",O13/100*I13*K13,IF(AND(E13=\"Diplomarbeit/Prüfer\",K13>=5),O13/100*I13*5,IF(AND(E13=\"Betreuung bis 5 FBA\",K13>=2),O13/100*I13*1,IF(AND(E13=\"Betreuung FBA/je Prüfer\",K13>=2),O13/100*I13*1,IF(K13<>\"\",(O13/100*I13*K13),IF(K13=\"\",\"\"))))))","v":""}]
[{"$f":"IF(B14=\"\",\"\",VLOOKUP(B14,Lehrerliste!$A$1:$B$8857,2,0))","v":""},null,null,null,null,null,null,null,null,null,null,"","","",{"$f":"IF(E14=\"\",\"\",IF(E14=\"Projekt bzw. BDA\",VLOOKUP(J14,G!$V$1:$W$100,2),INDEX(G!$C$2:$C$93,MATCH(Stammdaten!D14&Stammdaten!E14,G!$A$2:$A$93&G!$B$2:$B$93,0))))","v":""},"",{"$f":"IF(E14=\"Projekt bzw. BDA\",O14/100*I14*K14,IF(AND(E14=\"Diplomarbeit/Prüfer\",K14>=5),O14/100*I14*5,IF(AND(E14=\"Betreuung bis 5 FBA\",K14>=2),O14/100*I14*1,IF(AND(E14=\"Betreuung FBA/je Prüfer\",K14>=2),O14/100*I14*1,IF(K14<>\"\",(O14/100*I14*K14),IF(K14=\"\",\"\"))))))","v":""}]
[{"$f":"IF(B15=\"\",\"\",VLOOKUP(B15,Lehrerliste!$A$1:$B$8857,2,0))","v":""},null,null,null,null,null,null,null,null,null,null,"","","",{"$f":"IF(E15=\"\",\"\",IF(E15=\"Projekt bzw. BDA\",VLOOKUP(J15,G!$V$1:$W$100,2),INDEX(G!$C$2:$C$93,MATCH(Stammdaten!D15&Stammdaten!E15,G!$A$2:$A$93&G!$B$2:$B$93,0))))","v":""},"",{"$f":"IF(E15=\"Projekt bzw. BDA\",O15/100*I15*K15,IF(AND(E15=\"Diplomarbeit/Prüfer\",K15>=5),O15/100*I15*5,IF(AND(E15=\"Betreuung bis 5 FBA\",K15>=2),O15/100*I15*1,IF(AND(E15=\"Betreuung FBA/je Prüfer\",K15>=2),O15/100*I15*1,IF(K15<>\"\",(O15/100*I15*K15),IF(K15=\"\",\"\"))))))","v":""}]
[{"$f":"IF(B16=\"\",\"\",VLOOKUP(B16,Lehrerliste!$A$1:$B$8857,2,0))","v":""},null,null,null,null,null,null,null,null,null,null,"","","",{"$f":"IF(E16=\"\",\"\",IF(E16=\"Projekt bzw. BDA\",VLOOKUP(J16,G!$V$1:$W$100,2),INDEX(G!$C$2:$C$93,MATCH(Stammdaten!D16&Stammdaten!E16,G!$A$2:$A$93&G!$B$2:$B$93,0))))","v":""},"",{"$f":"IF(E16=\"Projekt bzw. BDA\",O16/100*I16*K16,IF(AND(E16=\"Diplomarbeit/Prüfer\",K16>=5),O16/100*I16*5,IF(AND(E16=\"Betreuung bis 5 FBA\",K16>=2),O16/100*I16*1,IF(AND(E16=\"Betreuung FBA/je Prüfer\",K16>=2),O16/100*I16*1,IF(K16<>\"\",(O16/100*I16*K16),IF(K16=\"\",\"\"))))))","v":""}]
[{"$f":"IF(B17=\"\",\"\",VLOOKUP(B17,Lehrerliste!$A$1:$B$8857,2,0))","v":""},null,null,null,null,null,null,null,null,null,null,"","","",{"$f":"IF(E17=\"\",\"\",IF(E17=\"Projekt bzw. BDA\",VLOOKUP(J17,G!$V$1:$W$100,2),INDEX(G!$C$2:$C$93,MATCH(Stammdaten!D17&Stammdaten!E17,G!$A$2:$A$93&G!$B$2:$B$93,0))))","v":""},"",{"$f":"IF(E17=\"Projekt bzw. BDA\",O17/100*I17*K17,IF(AND(E17=\"Diplomarbeit/Prüfer\",K17>=5),O17/100*I17*5,IF(AND(E17=\"Betreuung bis 5 FBA\",K17>=2),O17/100*I17*1,IF(AND(E17=\"Betreuung FBA/je Prüfer\",K17>=2),O17/100*I17*1,IF(K17<>\"\",(O17/100*I17*K17),IF(K17=\"\",\"\"))))))","v":""}]
[{"$f":"IF(B18=\"\",\"\",VLOOKUP(B18,Lehrerliste!$A$1:$B$8857,2,0))","v":""},null,null,null,null,null,null,null,null,null,null,"","","",{"$f":"IF(E18=\"\",\"\",IF(E18=\"Projekt bzw. BDA\",VLOOKUP(J18,G!$V$1:$W$100,2),INDEX(G!$C$2:$C$93,MATCH(Stammdaten!D18&Stammdaten!E18,G!$A$2:$A$93&G!$B$2:$B$93,0))))","v":""},"",{"$f":"IF(E18=\"Projekt bzw. BDA\",O18/100*I18*K18,IF(AND(E18=\"Diplomarbeit/Prüfer\",K18>=5),O18/100*I18*5,IF(AND(E18=\"Betreuung bis 5 FBA\",K18>=2),O18/100*I18*1,IF(AND(E18=\"Betreuung FBA/je Prüfer\",K18>=2),O18/100*I18*1,IF(K18<>\"\",(O18/100*I18*K18),IF(K18=\"\",\"\"))))))","v":""}]
[{"$f":"IF(B19=\"\",\"\",VLOOKUP(B19,Lehrerliste!$A$1:$B$8857,2,0))","v":""},null,null,null,null,null,null,null,null,null,null,{"$f":"IF(D19=\"Reifepr./Diplompr.\",1,IF(D19=\"Abschlussprüfung\",10,IF(D19=\"Vorpr. d. Reifepr./Diplompr./AP\",2,IF(D19=\"Externistenreifeprüfung\",3,IF(D19=\"Zulassungsprüfung z. Extern.RP\",4,IF(D19=\"Sonst. Externistenprüfungen\",5,IF(D19=\"Aufnahms- u. Einstufungsprüfungen\",6,IF(D19=\"Komm. Prüfung/Kolloquien\",7,IF(D19=\"Zertifikatsprüfung Käsek./Jungbark.\",8,IF(D19=\"BRP / Lehre m. Matura\",9,IF(D19=\"Zertifikatsprüfung Weinsommelier\",8,\"\")))))))))))","v":""},{"$f":"IF(E19=\"Vorsitz\",1,IF(E19=\"Vorsitz/mdl. Kompens.\",1,IF(E19=\"Schulleiter/AV/fachk. LP\",1,IF(E19=\"Schulleit./AV/LP/mdl. Komp\",1,IF(E19=\"JV/FV/SK/LP\",1,IF(E19=\"JV/FV/SK/LP/mdl. Komp.\",1,IF(E19=\"Klassenvorstand\",1,IF(E19=\"Klassenvorst./mdl. Komp.\",1,IF(E19=\"Schulleiter/AV/LP\",1,IF(E19=\"KV/FV/SK/LP\",1,\"\"))))))))))","v":""},{"$f":"IFERROR(IF(K19=\"\",\"\",IF(AND(L19=1,M19=1),(O19*F19),IF(AND(L19=11,M19=1),(O19*F19), IF(AND(L19=10,M19=1),(O19*F19),VALUE(O19))))),\"\")","v":""},{"$f":"IF(E19=\"\",\"\",IF(E19=\"Projekt bzw. BDA\",VLOOKUP(J19,G!$V$1:$W$100,2),INDEX(G!$C$2:$C$93,MATCH(Stammdaten!D19&Stammdaten!E19,G!$A$2:$A$93&G!$B$2:$B$93,0))))","v":""},"",{"$f":"IF(E19=\"Projekt bzw. BDA\",O19/100*I19*K19,IF(AND(E19=\"Diplomarbeit/Prüfer\",K19>=5),O19/100*I19*5,IF(AND(E19=\"Betreuung bis 5 FBA\",K19>=2),O19/100*I19*1,IF(AND(E19=\"Betreuung FBA/je Prüfer\",K19>=2),O19/100*I19*1,IF(K19<>\"\",(O19/100*I19*K19),IF(K19=\"\",\"\"))))))","v":""}]
[{"$f":"IF(B20=\"\",\"\",VLOOKUP(B20,Lehrerliste!$A$1:$B$8857,2,0))","v":""},null,null,null,null,null,null,null,null,null,null,"","","",{"$f":"IF(E20=\"\",\"\",IF(E20=\"Projekt bzw. BDA\",VLOOKUP(J20,G!$V$1:$W$100,2),INDEX(G!$C$2:$C$93,MATCH(Stammdaten!D20&Stammdaten!E20,G!$A$2:$A$93&G!$B$2:$B$93,0))))","v":""},"",{"$f":"IF(E20=\"Projekt bzw. BDA\",O20/100*I20*K20,IF(AND(E20=\"Diplomarbeit/Prüfer\",K20>=5),O20/100*I20*5,IF(AND(E20=\"Betreuung bis 5 FBA\",K20>=2),O20/100*I20*1,IF(AND(E20=\"Betreuung FBA/je Prüfer\",K20>=2),O20/100*I20*1,IF(K20<>\"\",(O20/100*I20*K20),IF(K20=\"\",\"\"))))))","v":""}]
[{"$f":"IF(B21=\"\",\"\",VLOOKUP(B21,Lehrerliste!$A$1:$B$8857,2,0))","v":""},null,null,null,null,null,null,null,null,null,null,"","","",{"$f":"IF(E21=\"\",\"\",IF(E21=\"Projekt bzw. BDA\",VLOOKUP(J21,G!$V$1:$W$100,2),INDEX(G!$C$2:$C$93,MATCH(Stammdaten!D21&Stammdaten!E21,G!$A$2:$A$93&G!$B$2:$B$93,0))))","v":""},"",{"$f":"IF(E21=\"Projekt bzw. BDA\",O21/100*I21*K21,IF(AND(E21=\"Diplomarbeit/Prüfer\",K21>=5),O21/100*I21*5,IF(AND(E21=\"Betreuung bis 5 FBA\",K21>=2),O21/100*I21*1,IF(AND(E21=\"Betreuung FBA/je Prüfer\",K21>=2),O21/100*I21*1,IF(K21<>\"\",(O21/100*I21*K21),IF(K21=\"\",\"\"))))))","v":""}]
[{"$f":"IF(B22=\"\",\"\",VLOOKUP(B22,Lehrerliste!$A$1:$B$8857,2,0))","v":""},null,null,null,null,null,null,null,null,null,null,"","","",{"$f":"IF(E22=\"\",\"\",IF(E22=\"Projekt bzw. BDA\",VLOOKUP(J22,G!$V$1:$W$100,2),INDEX(G!$C$2:$C$93,MATCH(Stammdaten!D22&Stammdaten!E22,G!$A$2:$A$93&G!$B$2:$B$93,0))))","v":""},"",{"$f":"IF(E22=\"Projekt bzw. BDA\",O22/100*I22*K22,IF(AND(E22=\"Diplomarbeit/Prüfer\",K22>=5),O22/100*I22*5,IF(AND(E22=\"Betreuung bis 5 FBA\",K22>=2),O22/100*I22*1,IF(AND(E22=\"Betreuung FBA/je Prüfer\",K22>=2),O22/100*I22*1,IF(K22<>\"\",(O22/100*I22*K22),IF(K22=\"\",\"\"))))))","v":""}]
[{"$f":"IF(B23=\"\",\"\",VLOOKUP(B23,Lehrerliste!$A$1:$B$8857,2,0))","v":""},null,null,null,null,null,null,null,null,null,null,"","","",{"$f":"IF(E23=\"\",\"\",IF(E23=\"Projekt bzw. BDA\",VLOOKUP(J23,G!$V$1:$W$100,2),INDEX(G!$C$2:$C$93,MATCH(Stammdaten!D23&Stammdaten!E23,G!$A$2:$A$93&G!$B$2:$B$93,0))))","v":""},"",{"$f":"IF(E23=\"Projekt bzw. BDA\",O23/100*I23*K23,IF(AND(E23=\"Diplomarbeit/Prüfer\",K23>=5),O23/100*I23*5,IF(AND(E23=\"Betreuung bis 5 FBA\",K23>=2),O23/100*I23*1,IF(AND(E23=\"Betreuung FBA/je Prüfer\",K23>=2),O23/100*I23*1,IF(K23<>\"\",(O23/100*I23*K23),IF(K23=\"\",\"\"))))))","v":""}]
[{"$f":"IF(B24=\"\",\"\",VLOOKUP(B24,Lehrerliste!$A$1:$B$8857,2,0))","v":""},null,null,null,null,null,null,null,null,null,null,"","","",{"$f":"IF(E24=\"\",\"\",IF(E24=\"Projekt bzw. BDA\",VLOOKUP(J24,G!$V$1:$W$100,2),INDEX(G!$C$2:$C$93,MATCH(Stammdaten!D24&Stammdaten!E24,G!$A$2:$A$93&G!$B$2:$B$93,0))))","v":""},"",{"$f":"IF(E24=\"Projekt bzw. BDA\",O24/100*I24*K24,IF(AND(E24=\"Diplomarbeit/Prüfer\",K24>=5),O24/100*I24*5,IF(AND(E24=\"Betreuung bis 5 FBA\",K24>=2),O24/100*I24*1,IF(AND(E24=\"Betreuung FBA/je Prüfer\",K24>=2),O24/100*I24*1,IF(K24<>\"\",(O24/100*I24*K24),IF(K24=\"\",\"\"))))))","v":""}]
[{"$f":"IF(B25=\"\",\"\",VLOOKUP(B25,Lehrerliste!$A$1:$B$8857,2,0))","v":""},null,null,null,null,null,null,null,null,null,null,"","","",{"$f":"IF(E25=\"\",\"\",IF(E25=\"Projekt bzw. BDA\",VLOOKUP(J25,G!$V$1:$W$100,2),INDEX(G!$C$2:$C$93,MATCH(Stammdaten!D25&Stammdaten!E25,G!$A$2:$A$93&G!$B$2:$B$93,0))))","v":""},"",{"$f":"IF(E25=\"Projekt bzw. BDA\",O25/100*I25*K25,IF(AND(E25=\"Diplomarbeit/Prüfer\",K25>=5),O25/100*I25*5,IF(AND(E25=\"Betreuung bis 5 FBA\",K25>=2),O25/100*I25*1,IF(AND(E25=\"Betreuung FBA/je Prüfer\",K25>=2),O25/100*I25*1,IF(K25<>\"\",(O25/100*I25*K25),IF(K25=\"\",\"\"))))))","v":""}]
[{"$f":"IF(B26=\"\",\"\",VLOOKUP(B26,Lehrerliste!$A$1:$B$8857,2,0))","v":""},null,null,null,null,null,null,null,null,null,null,"","","",{"$f":"IF(E26=\"\",\"\",IF(E26=\"Projekt bzw. BDA\",VLOOKUP(J26,G!$V$1:$W$100,2),INDEX(G!$C$2:$C$93,MATCH(Stammdaten!D26&Stammdaten!E26,G!$A$2:$A$93&G!$B$2:$B$93,0))))","v":""},"",{"$f":"IF(E26=\"Projekt bzw. BDA\",O26/100*I26*K26,IF(AND(E26=\"Diplomarbeit/Prüfer\",K26>=5),O26/100*I26*5,IF(AND(E26=\"Betreuung bis 5 FBA\",K26>=2),O26/100*I26*1,IF(AND(E26=\"Betreuung FBA/je Prüfer\",K26>=2),O26/100*I26*1,IF(K26<>\"\",(O26/100*I26*K26),IF(K26=\"\",\"\"))))))","v":""}]
[{"$f":"IF(B27=\"\",\"\",VLOOKUP(B27,Lehrerliste!$A$1:$B$8857,2,0))","v":""},null,null,null,null,null,null,null,null,null,null,"","","",{"$f":"IF(E27=\"\",\"\",IF(E27=\"Projekt bzw. BDA\",VLOOKUP(J27,G!$V$1:$W$100,2),INDEX(G!$C$2:$C$93,MATCH(Stammdaten!D27&Stammdaten!E27,G!$A$2:$A$93&G!$B$2:$B$93,0))))","v":""},"",{"$f":"IF(E27=\"Projekt bzw. BDA\",O27/100*I27*K27,IF(AND(E27=\"Diplomarbeit/Prüfer\",K27>=5),O27/100*I27*5,IF(AND(E27=\"Betreuung bis 5 FBA\",K27>=2),O27/100*I27*1,IF(AND(E27=\"Betreuung FBA/je Prüfer\",K27>=2),O27/100*I27*1,IF(K27<>\"\",(O27/100*I27*K27),IF(K27=\"\",\"\"))))))","v":""}]
[{"$f":"IF(B28=\"\",\"\",VLOOKUP(B28,Lehrerliste!$A$1:$B$8857,2,0))","v":""},null,null,null,null,null,null,null,null,null,null,"","","",{"$f":"IF(E28=\"\",\"\",IF(E28=\"Projekt bzw. BDA\",VLOOKUP(J28,G!$V$1:$W$100,2),INDEX(G!$C$2:$C$93,MATCH(Stammdaten!D28&Stammdaten!E28,G!$A$2:$A$93&G!$B$2:$B$93,0))))","v":""},"",{"$f":"IF(E28=\"Projekt bzw. BDA\",O28/100*I28*K28,IF(AND(E28=\"Diplomarbeit/Prüfer\",K28>=5),O28/100*I28*5,IF(AND(E28=\"Betreuung bis 5 FBA\",K28>=2),O28/100*I28*1,IF(AND(E28=\"Betreuung FBA/je Prüfer\",K28>=2),O28/100*I28*1,IF(K28<>\"\",(O28/100*I28*K28),IF(K28=\"\",\"\"))))))","v":""}]
[{"$f":"IF(B29=\"\",\"\",VLOOKUP(B29,Lehrerliste!$A$1:$B$8857,2,0))","v":""},null,null,null,null,null,null,null,null,null,null,"","","",{"$f":"IF(E29=\"\",\"\",IF(E29=\"Projekt bzw. BDA\",VLOOKUP(J29,G!$V$1:$W$100,2),INDEX(G!$C$2:$C$93,MATCH(Stammdaten!D29&Stammdaten!E29,G!$A$2:$A$93&G!$B$2:$B$93,0))))","v":""},"",{"$f":"IF(E29=\"Projekt bzw. BDA\",O29/100*I29*K29,IF(AND(E29=\"Diplomarbeit/Prüfer\",K29>=5),O29/100*I29*5,IF(AND(E29=\"Betreuung bis 5 FBA\",K29>=2),O29/100*I29*1,IF(AND(E29=\"Betreuung FBA/je Prüfer\",K29>=2),O29/100*I29*1,IF(K29<>\"\",(O29/100*I29*K29),IF(K29=\"\",\"\"))))))","v":""}]
[{"$f":"IF(B30=\"\",\"\",VLOOKUP(B30,Lehrerliste!$A$1:$B$8857,2,0))","v":""},null,null,null,null,null,null,null,null,null,null,"","","",{"$f":"IF(E30=\"\",\"\",IF(E30=\"Projekt bzw. BDA\",VLOOKUP(J30,G!$V$1:$W$100,2),INDEX(G!$C$2:$C$93,MATCH(Stammdaten!D30&Stammdaten!E30,G!$A$2:$A$93&G!$B$2:$B$93,0))))","v":""},"",{"$f":"IF(E30=\"Projekt bzw. BDA\",O30/100*I30*K30,IF(AND(E30=\"Diplomarbeit/Prüfer\",K30>=5),O30/100*I30*5,IF(AND(E30=\"Betreuung bis 5 FBA\",K30>=2),O30/100*I30*1,IF(AND(E30=\"Betreuung FBA/je Prüfer\",K30>=2),O30/100*I30*1,IF(K30<>\"\",(O30/100*I30*K30),IF(K30=\"\",\"\"))))))","v":""}]
[{"$f":"IF(B31=\"\",\"\",VLOOKUP(B31,Lehrerliste!$A$1:$B$8857,2,0))","v":""},null,null,null,null,null,null,null,null,null,null,"","","",{"$f":"IF(E31=\"\",\"\",IF(E31=\"Projekt bzw. BDA\",VLOOKUP(J31,G!$V$1:$W$100,2),INDEX(G!$C$2:$C$93,MATCH(Stammdaten!D31&Stammdaten!E31,G!$A$2:$A$93&G!$B$2:$B$93,0))))","v":""},"",{"$f":"IF(E31=\"Projekt bzw. BDA\",O31/100*I31*K31,IF(AND(E31=\"Diplomarbeit/Prüfer\",K31>=5),O31/100*I31*5,IF(AND(E31=\"Betreuung bis 5 FBA\",K31>=2),O31/100*I31*1,IF(AND(E31=\"Betreuung FBA/je Prüfer\",K31>=2),O31/100*I31*1,IF(K31<>\"\",(O31/100*I31*K31),IF(K31=\"\",\"\"))))))","v":""}]
[{"$f":"IF(B32=\"\",\"\",VLOOKUP(B32,Lehrerliste!$A$1:$B$8857,2,0))","v":""},null,null,null,null,null,null,null,null,null,null,"","","",{"$f":"IF(E32=\"\",\"\",IF(E32=\"Projekt bzw. BDA\",VLOOKUP(J32,G!$V$1:$W$100,2),INDEX(G!$C$2:$C$93,MATCH(Stammdaten!D32&Stammdaten!E32,G!$A$2:$A$93&G!$B$2:$B$93,0))))","v":""},"",{"$f":"IF(E32=\"Projekt bzw. BDA\",O32/100*I32*K32,IF(AND(E32=\"Diplomarbeit/Prüfer\",K32>=5),O32/100*I32*5,IF(AND(E32=\"Betreuung bis 5 FBA\",K32>=2),O32/100*I32*1,IF(AND(E32=\"Betreuung FBA/je Prüfer\",K32>=2),O32/100*I32*1,IF(K32<>\"\",(O32/100*I32*K32),IF(K32=\"\",\"\"))))))","v":""}]
[{"$f":"IF(B33=\"\",\"\",VLOOKUP(B33,Lehrerliste!$A$1:$B$8857,2,0))","v":""},null,null,null,null,null,null,null,null,null,null,"","","",{"$f":"IF(E33=\"\",\"\",IF(E33=\"Projekt bzw. BDA\",VLOOKUP(J33,G!$V$1:$W$100,2),INDEX(G!$C$2:$C$93,MATCH(Stammdaten!D33&Stammdaten!E33,G!$A$2:$A$93&G!$B$2:$B$93,0))))","v":""},"",{"$f":"IF(E33=\"Projekt bzw. BDA\",O33/100*I33*K33,IF(AND(E33=\"Diplomarbeit/Prüfer\",K33>=5),O33/100*I33*5,IF(AND(E33=\"Betreuung bis 5 FBA\",K33>=2),O33/100*I33*1,IF(AND(E33=\"Betreuung FBA/je Prüfer\",K33>=2),O33/100*I33*1,IF(K33<>\"\",(O33/100*I33*K33),IF(K33=\"\",\"\"))))))","v":""}]
[{"$f":"IF(B34=\"\",\"\",VLOOKUP(B34,Lehrerliste!$A$1:$B$8857,2,0))","v":""},null,null,null,null,null,null,null,null,null,null,"","","",{"$f":"IF(E34=\"\",\"\",IF(E34=\"Projekt bzw. BDA\",VLOOKUP(J34,G!$V$1:$W$100,2),INDEX(G!$C$2:$C$93,MATCH(Stammdaten!D34&Stammdaten!E34,G!$A$2:$A$93&G!$B$2:$B$93,0))))","v":""},"",{"$f":"IF(E34=\"Projekt bzw. BDA\",O34/100*I34*K34,IF(AND(E34=\"Diplomarbeit/Prüfer\",K34>=5),O34/100*I34*5,IF(AND(E34=\"Betreuung bis 5 FBA\",K34>=2),O34/100*I34*1,IF(AND(E34=\"Betreuung FBA/je Prüfer\",K34>=2),O34/100*I34*1,IF(K34<>\"\",(O34/100*I34*K34),IF(K34=\"\",\"\"))))))","v":""}]
[{"$f":"IF(B35=\"\",\"\",VLOOKUP(B35,Lehrerliste!$A$1:$B$8857,2,0))","v":""},null,null,null,null,null,null,null,null,null,null,"","","",{"$f":"IF(E35=\"\",\"\",IF(E35=\"Projekt bzw. BDA\",VLOOKUP(J35,G!$V$1:$W$100,2),INDEX(G!$C$2:$C$93,MATCH(Stammdaten!D35&Stammdaten!E35,G!$A$2:$A$93&G!$B$2:$B$93,0))))","v":""},"",{"$f":"IF(E35=\"Projekt bzw. BDA\",O35/100*I35*K35,IF(AND(E35=\"Diplomarbeit/Prüfer\",K35>=5),O35/100*I35*5,IF(AND(E35=\"Betreuung bis 5 FBA\",K35>=2),O35/100*I35*1,IF(AND(E35=\"Betreuung FBA/je Prüfer\",K35>=2),O35/100*I35*1,IF(K35<>\"\",(O35/100*I35*K35),IF(K35=\"\",\"\"))))))","v":""}]
[{"$f":"IF(B36=\"\",\"\",VLOOKUP(B36,Lehrerliste!$A$1:$B$8857,2,0))","v":""},null,null,null,null,null,null,null,null,null,null,"","","",{"$f":"IF(E36=\"\",\"\",IF(E36=\"Projekt bzw. BDA\",VLOOKUP(J36,G!$V$1:$W$100,2),INDEX(G!$C$2:$C$93,MATCH(Stammdaten!D36&Stammdaten!E36,G!$A$2:$A$93&G!$B$2:$B$93,0))))","v":""},"",{"$f":"IF(E36=\"Projekt bzw. BDA\",O36/100*I36*K36,IF(AND(E36=\"Diplomarbeit/Prüfer\",K36>=5),O36/100*I36*5,IF(AND(E36=\"Betreuung bis 5 FBA\",K36>=2),O36/100*I36*1,IF(AND(E36=\"Betreuung FBA/je Prüfer\",K36>=2),O36/100*I36*1,IF(K36<>\"\",(O36/100*I36*K36),IF(K36=\"\",\"\"))))))","v":""}]
[{"$f":"IF(B37=\"\",\"\",VLOOKUP(B37,Lehrerliste!$A$1:$B$8857,2,0))","v":""},null,null,null,null,null,null,null,null,null,null,"","","",{"$f":"IF(E37=\"\",\"\",IF(E37=\"Projekt bzw. BDA\",VLOOKUP(J37,G!$V$1:$W$100,2),INDEX(G!$C$2:$C$93,MATCH(Stammdaten!D37&Stammdaten!E37,G!$A$2:$A$93&G!$B$2:$B$93,0))))","v":""},"",{"$f":"IF(E37=\"Projekt bzw. BDA\",O37/100*I37*K37,IF(AND(E37=\"Diplomarbeit/Prüfer\",K37>=5),O37/100*I37*5,IF(AND(E37=\"Betreuung bis 5 FBA\",K37>=2),O37/100*I37*1,IF(AND(E37=\"Betreuung FBA/je Prüfer\",K37>=2),O37/100*I37*1,IF(K37<>\"\",(O37/100*I37*K37),IF(K37=\"\",\"\"))))))","v":""}]
[{"$f":"IF(B38=\"\",\"\",VLOOKUP(B38,Lehrerliste!$A$1:$B$8857,2,0))","v":""},null,null,null,null,null,null,null,null,null,null,"","","",{"$f":"IF(E38=\"\",\"\",IF(E38=\"Projekt bzw. BDA\",VLOOKUP(J38,G!$V$1:$W$100,2),INDEX(G!$C$2:$C$93,MATCH(Stammdaten!D38&Stammdaten!E38,G!$A$2:$A$93&G!$B$2:$B$93,0))))","v":""},"",{"$f":"IF(E38=\"Projekt bzw. BDA\",O38/100*I38*K38,IF(AND(E38=\"Diplomarbeit/Prüfer\",K38>=5),O38/100*I38*5,IF(AND(E38=\"Betreuung bis 5 FBA\",K38>=2),O38/100*I38*1,IF(AND(E38=\"Betreuung FBA/je Prüfer\",K38>=2),O38/100*I38*1,IF(K38<>\"\",(O38/100*I38*K38),IF(K38=\"\",\"\"))))))","v":""}]
[{"$f":"IF(B39=\"\",\"\",VLOOKUP(B39,Lehrerliste!$A$1:$B$8857,2,0))","v":""},null,null,null,null,null,null,null,null,null,null,"","","",{"$f":"IF(E39=\"\",\"\",IF(E39=\"Projekt bzw. BDA\",VLOOKUP(J39,G!$V$1:$W$100,2),INDEX(G!$C$2:$C$93,MATCH(Stammdaten!D39&Stammdaten!E39,G!$A$2:$A$93&G!$B$2:$B$93,0))))","v":""},"",{"$f":"IF(E39=\"Projekt bzw. BDA\",O39/100*I39*K39,IF(AND(E39=\"Diplomarbeit/Prüfer\",K39>=5),O39/100*I39*5,IF(AND(E39=\"Betreuung bis 5 FBA\",K39>=2),O39/100*I39*1,IF(AND(E39=\"Betreuung FBA/je Prüfer\",K39>=2),O39/100*I39*1,IF(K39<>\"\",(O39/100*I39*K39),IF(K39=\"\",\"\"))))))","v":""}]
[{"$f":"IF(B40=\"\",\"\",VLOOKUP(B40,Lehrerliste!$A$1:$B$8857,2,0))","v":""},null,null,null,null,null,null,null,null,null,null,"","","",{"$f":"IF(E40=\"\",\"\",IF(E40=\"Projekt bzw. BDA\",VLOOKUP(J40,G!$V$1:$W$100,2),INDEX(G!$C$2:$C$93,MATCH(Stammdaten!D40&Stammdaten!E40,G!$A$2:$A$93&G!$B$2:$B$93,0))))","v":""},"",{"$f":"IF(E40=\"Projekt bzw. BDA\",O40/100*I40*K40,IF(AND(E40=\"Diplomarbeit/Prüfer\",K40>=5),O40/100*I40*5,IF(AND(E40=\"Betreuung bis 5 FBA\",K40>=2),O40/100*I40*1,IF(AND(E40=\"Betreuung FBA/je Prüfer\",K40>=2),O40/100*I40*1,IF(K40<>\"\",(O40/100*I40*K40),IF(K40=\"\",\"\"))))))","v":""}]
[{"$f":"IF(B41=\"\",\"\",VLOOKUP(B41,Lehrerliste!$A$1:$B$8857,2,0))","v":""},null,null,null,null,null,null,null,null,null,null,"","","",{"$f":"IF(E41=\"\",\"\",IF(E41=\"Projekt bzw. BDA\",VLOOKUP(J41,G!$V$1:$W$100,2),INDEX(G!$C$2:$C$93,MATCH(Stammdaten!D41&Stammdaten!E41,G!$A$2:$A$93&G!$B$2:$B$93,0))))","v":""},"",{"$f":"IF(E41=\"Projekt bzw. BDA\",O41/100*I41*K41,IF(AND(E41=\"Diplomarbeit/Prüfer\",K41>=5),O41/100*I41*5,IF(AND(E41=\"Betreuung bis 5 FBA\",K41>=2),O41/100*I41*1,IF(AND(E41=\"Betreuung FBA/je Prüfer\",K41>=2),O41/100*I41*1,IF(K41<>\"\",(O41/100*I41*K41),IF(K41=\"\",\"\"))))))","v":""}]
[{"$f":"IF(B42=\"\",\"\",VLOOKUP(B42,Lehrerliste!$A$1:$B$8857,2,0))","v":""},null,null,null,null,null,null,null,null,null,null,"","","",{"$f":"IF(E42=\"\",\"\",IF(E42=\"Projekt bzw. BDA\",VLOOKUP(J42,G!$V$1:$W$100,2),INDEX(G!$C$2:$C$93,MATCH(Stammdaten!D42&Stammdaten!E42,G!$A$2:$A$93&G!$B$2:$B$93,0))))","v":""},"",{"$f":"IF(E42=\"Projekt bzw. BDA\",O42/100*I42*K42,IF(AND(E42=\"Diplomarbeit/Prüfer\",K42>=5),O42/100*I42*5,IF(AND(E42=\"Betreuung bis 5 FBA\",K42>=2),O42/100*I42*1,IF(AND(E42=\"Betreuung FBA/je Prüfer\",K42>=2),O42/100*I42*1,IF(K42<>\"\",(O42/100*I42*K42),IF(K42=\"\",\"\"))))))","v":""}]
[{"$f":"IF(B43=\"\",\"\",VLOOKUP(B43,Lehrerliste!$A$1:$B$8857,2,0))","v":""},null,null,null,null,null,null,null,null,null,null,"","","",{"$f":"IF(E43=\"\",\"\",IF(E43=\"Projekt bzw. BDA\",VLOOKUP(J43,G!$V$1:$W$100,2),INDEX(G!$C$2:$C$93,MATCH(Stammdaten!D43&Stammdaten!E43,G!$A$2:$A$93&G!$B$2:$B$93,0))))","v":""},"",{"$f":"IF(E43=\"Projekt bzw. BDA\",O43/100*I43*K43,IF(AND(E43=\"Diplomarbeit/Prüfer\",K43>=5),O43/100*I43*5,IF(AND(E43=\"Betreuung bis 5 FBA\",K43>=2),O43/100*I43*1,IF(AND(E43=\"Betreuung FBA/je Prüfer\",K43>=2),O43/100*I43*1,IF(K43<>\"\",(O43/100*I43*K43),IF(K43=\"\",\"\"))))))","v":""}]
[{"$f":"IF(B44=\"\",\"\",VLOOKUP(B44,Lehrerliste!$A$1:$B$8857,2,0))","v":""},null,null,null,null,null,null,null,null,null,null,"","","",{"$f":"IF(E44=\"\",\"\",IF(E44=\"Projekt bzw. BDA\",VLOOKUP(J44,G!$V$1:$W$100,2),INDEX(G!$C$2:$C$93,MATCH(Stammdaten!D44&Stammdaten!E44,G!$A$2:$A$93&G!$B$2:$B$93,0))))","v":""},"",{"$f":"IF(E44=\"Projekt bzw. BDA\",O44/100*I44*K44,IF(AND(E44=\"Diplomarbeit/Prüfer\",K44>=5),O44/100*I44*5,IF(AND(E44=\"Betreuung bis 5 FBA\",K44>=2),O44/100*I44*1,IF(AND(E44=\"Betreuung FBA/je Prüfer\",K44>=2),O44/100*I44*1,IF(K44<>\"\",(O44/100*I44*K44),IF(K44=\"\",\"\"))))))","v":""}]
[{"$f":"IF(B45=\"\",\"\",VLOOKUP(B45,Lehrerliste!$A$1:$B$8857,2,0))","v":""},null,null,null,null,null,null,null,null,null,null,"","","",{"$f":"IF(E45=\"\",\"\",IF(E45=\"Projekt bzw. BDA\",VLOOKUP(J45,G!$V$1:$W$100,2),INDEX(G!$C$2:$C$93,MATCH(Stammdaten!D45&Stammdaten!E45,G!$A$2:$A$93&G!$B$2:$B$93,0))))","v":""},"",{"$f":"IF(E45=\"Projekt bzw. BDA\",O45/100*I45*K45,IF(AND(E45=\"Diplomarbeit/Prüfer\",K45>=5),O45/100*I45*5,IF(AND(E45=\"Betreuung bis 5 FBA\",K45>=2),O45/100*I45*1,IF(AND(E45=\"Betreuung FBA/je Prüfer\",K45>=2),O45/100*I45*1,IF(K45<>\"\",(O45/100*I45*K45),IF(K45=\"\",\"\"))))))","v":""}]
[{"$f":"IF(B46=\"\",\"\",VLOOKUP(B46,Lehrerliste!$A$1:$B$8857,2,0))","v":""},null,null,null,null,null,null,null,null,null,null,"","","",{"$f":"IF(E46=\"\",\"\",IF(E46=\"Projekt bzw. BDA\",VLOOKUP(J46,G!$V$1:$W$100,2),INDEX(G!$C$2:$C$93,MATCH(Stammdaten!D46&Stammdaten!E46,G!$A$2:$A$93&G!$B$2:$B$93,0))))","v":""},"",{"$f":"IF(E46=\"Projekt bzw. BDA\",O46/100*I46*K46,IF(AND(E46=\"Diplomarbeit/Prüfer\",K46>=5),O46/100*I46*5,IF(AND(E46=\"Betreuung bis 5 FBA\",K46>=2),O46/100*I46*1,IF(AND(E46=\"Betreuung FBA/je Prüfer\",K46>=2),O46/100*I46*1,IF(K46<>\"\",(O46/100*I46*K46),IF(K46=\"\",\"\"))))))","v":""}]
[{"$f":"IF(B47=\"\",\"\",VLOOKUP(B47,Lehrerliste!$A$1:$B$8857,2,0))","v":""},null,null,null,null,null,null,null,null,null,null,"","","",{"$f":"IF(E47=\"\",\"\",IF(E47=\"Projekt bzw. BDA\",VLOOKUP(J47,G!$V$1:$W$100,2),INDEX(G!$C$2:$C$93,MATCH(Stammdaten!D47&Stammdaten!E47,G!$A$2:$A$93&G!$B$2:$B$93,0))))","v":""},"",{"$f":"IF(E47=\"Projekt bzw. BDA\",O47/100*I47*K47,IF(AND(E47=\"Diplomarbeit/Prüfer\",K47>=5),O47/100*I47*5,IF(AND(E47=\"Betreuung bis 5 FBA\",K47>=2),O47/100*I47*1,IF(AND(E47=\"Betreuung FBA/je Prüfer\",K47>=2),O47/100*I47*1,IF(K47<>\"\",(O47/100*I47*K47),IF(K47=\"\",\"\"))))))","v":""}]
[{"$f":"IF(B48=\"\",\"\",VLOOKUP(B48,Lehrerliste!$A$1:$B$8857,2,0))","v":""},null,null,null,null,null,null,null,null,null,null,"","","",{"$f":"IF(E48=\"\",\"\",IF(E48=\"Projekt bzw. BDA\",VLOOKUP(J48,G!$V$1:$W$100,2),INDEX(G!$C$2:$C$93,MATCH(Stammdaten!D48&Stammdaten!E48,G!$A$2:$A$93&G!$B$2:$B$93,0))))","v":""},"",{"$f":"IF(E48=\"Projekt bzw. BDA\",O48/100*I48*K48,IF(AND(E48=\"Diplomarbeit/Prüfer\",K48>=5),O48/100*I48*5,IF(AND(E48=\"Betreuung bis 5 FBA\",K48>=2),O48/100*I48*1,IF(AND(E48=\"Betreuung FBA/je Prüfer\",K48>=2),O48/100*I48*1,IF(K48<>\"\",(O48/100*I48*K48),IF(K48=\"\",\"\"))))))","v":""}]
[{"$f":"IF(B49=\"\",\"\",VLOOKUP(B49,Lehrerliste!$A$1:$B$8857,2,0))","v":""},null,null,null,null,null,null,null,null,null,null,"","","",{"$f":"IF(E49=\"\",\"\",IF(E49=\"Projekt bzw. BDA\",VLOOKUP(J49,G!$V$1:$W$100,2),INDEX(G!$C$2:$C$93,MATCH(Stammdaten!D49&Stammdaten!E49,G!$A$2:$A$93&G!$B$2:$B$93,0))))","v":""},"",{"$f":"IF(E49=\"Projekt bzw. BDA\",O49/100*I49*K49,IF(AND(E49=\"Diplomarbeit/Prüfer\",K49>=5),O49/100*I49*5,IF(AND(E49=\"Betreuung bis 5 FBA\",K49>=2),O49/100*I49*1,IF(AND(E49=\"Betreuung FBA/je Prüfer\",K49>=2),O49/100*I49*1,IF(K49<>\"\",(O49/100*I49*K49),IF(K49=\"\",\"\"))))))","v":""}]
[{"$f":"IF(B50=\"\",\"\",VLOOKUP(B50,Lehrerliste!$A$1:$B$8857,2,0))","v":""},null,null,null,null,null,null,null,null,null,null,"","","",{"$f":"IF(E50=\"\",\"\",IF(E50=\"Projekt bzw. BDA\",VLOOKUP(J50,G!$V$1:$W$100,2),INDEX(G!$C$2:$C$93,MATCH(Stammdaten!D50&Stammdaten!E50,G!$A$2:$A$93&G!$B$2:$B$93,0))))","v":""},"",{"$f":"IF(E50=\"Projekt bzw. BDA\",O50/100*I50*K50,IF(AND(E50=\"Diplomarbeit/Prüfer\",K50>=5),O50/100*I50*5,IF(AND(E50=\"Betreuung bis 5 FBA\",K50>=2),O50/100*I50*1,IF(AND(E50=\"Betreuung FBA/je Prüfer\",K50>=2),O50/100*I50*1,IF(K50<>\"\",(O50/100*I50*K50),IF(K50=\"\",\"\"))))))","v":""}]
[{"$f":"IF(B51=\"\",\"\",VLOOKUP(B51,Lehrerliste!$A$1:$B$8857,2,0))","v":""},null,null,null,null,null,null,null,null,null,null,"","","",{"$f":"IF(E51=\"\",\"\",IF(E51=\"Projekt bzw. BDA\",VLOOKUP(J51,G!$V$1:$W$100,2),INDEX(G!$C$2:$C$93,MATCH(Stammdaten!D51&Stammdaten!E51,G!$A$2:$A$93&G!$B$2:$B$93,0))))","v":""},"",{"$f":"IF(E51=\"Projekt bzw. BDA\",O51/100*I51*K51,IF(AND(E51=\"Diplomarbeit/Prüfer\",K51>=5),O51/100*I51*5,IF(AND(E51=\"Betreuung bis 5 FBA\",K51>=2),O51/100*I51*1,IF(AND(E51=\"Betreuung FBA/je Prüfer\",K51>=2),O51/100*I51*1,IF(K51<>\"\",(O51/100*I51*K51),IF(K51=\"\",\"\"))))))","v":""}]
[{"$f":"IF(B52=\"\",\"\",VLOOKUP(B52,Lehrerliste!$A$1:$B$8857,2,0))","v":""},null,null,null,null,null,null,null,null,null,null,"","","",{"$f":"IF(E52=\"\",\"\",IF(E52=\"Projekt bzw. BDA\",VLOOKUP(J52,G!$V$1:$W$100,2),INDEX(G!$C$2:$C$93,MATCH(Stammdaten!D52&Stammdaten!E52,G!$A$2:$A$93&G!$B$2:$B$93,0))))","v":""},"",{"$f":"IF(E52=\"Projekt bzw. BDA\",O52/100*I52*K52,IF(AND(E52=\"Diplomarbeit/Prüfer\",K52>=5),O52/100*I52*5,IF(AND(E52=\"Betreuung bis 5 FBA\",K52>=2),O52/100*I52*1,IF(AND(E52=\"Betreuung FBA/je Prüfer\",K52>=2),O52/100*I52*1,IF(K52<>\"\",(O52/100*I52*K52),IF(K52=\"\",\"\"))))))","v":""}]
[{"$f":"IF(B53=\"\",\"\",VLOOKUP(B53,Lehrerliste!$A$1:$B$8857,2,0))","v":""},null,null,null,null,null,null,null,null,null,null,"","","",{"$f":"IF(E53=\"\",\"\",IF(E53=\"Projekt bzw. BDA\",VLOOKUP(J53,G!$V$1:$W$100,2),INDEX(G!$C$2:$C$93,MATCH(Stammdaten!D53&Stammdaten!E53,G!$A$2:$A$93&G!$B$2:$B$93,0))))","v":""},"",{"$f":"IF(E53=\"Projekt bzw. BDA\",O53/100*I53*K53,IF(AND(E53=\"Diplomarbeit/Prüfer\",K53>=5),O53/100*I53*5,IF(AND(E53=\"Betreuung bis 5 FBA\",K53>=2),O53/100*I53*1,IF(AND(E53=\"Betreuung FBA/je Prüfer\",K53>=2),O53/100*I53*1,IF(K53<>\"\",(O53/100*I53*K53),IF(K53=\"\",\"\"))))))","v":""}]
[{"$f":"IF(B54=\"\",\"\",VLOOKUP(B54,Lehrerliste!$A$1:$B$8857,2,0))","v":""},null,null,null,null,null,null,null,null,null,null,"","","",{"$f":"IF(E54=\"\",\"\",IF(E54=\"Projekt bzw. BDA\",VLOOKUP(J54,G!$V$1:$W$100,2),INDEX(G!$C$2:$C$93,MATCH(Stammdaten!D54&Stammdaten!E54,G!$A$2:$A$93&G!$B$2:$B$93,0))))","v":""},"",{"$f":"IF(E54=\"Projekt bzw. BDA\",O54/100*I54*K54,IF(AND(E54=\"Diplomarbeit/Prüfer\",K54>=5),O54/100*I54*5,IF(AND(E54=\"Betreuung bis 5 FBA\",K54>=2),O54/100*I54*1,IF(AND(E54=\"Betreuung FBA/je Prüfer\",K54>=2),O54/100*I54*1,IF(K54<>\"\",(O54/100*I54*K54),IF(K54=\"\",\"\"))))))","v":""}]
[{"$f":"IF(B55=\"\",\"\",VLOOKUP(B55,Lehrerliste!$A$1:$B$8857,2,0))","v":""},null,null,null,null,null,null,null,null,null,null,"","","",{"$f":"IF(E55=\"\",\"\",IF(E55=\"Projekt bzw. BDA\",VLOOKUP(J55,G!$V$1:$W$100,2),INDEX(G!$C$2:$C$93,MATCH(Stammdaten!D55&Stammdaten!E55,G!$A$2:$A$93&G!$B$2:$B$93,0))))","v":""},"",{"$f":"IF(E55=\"Projekt bzw. BDA\",O55/100*I55*K55,IF(AND(E55=\"Diplomarbeit/Prüfer\",K55>=5),O55/100*I55*5,IF(AND(E55=\"Betreuung bis 5 FBA\",K55>=2),O55/100*I55*1,IF(AND(E55=\"Betreuung FBA/je Prüfer\",K55>=2),O55/100*I55*1,IF(K55<>\"\",(O55/100*I55*K55),IF(K55=\"\",\"\"))))))","v":""}]
[{"$f":"IF(B56=\"\",\"\",VLOOKUP(B56,Lehrerliste!$A$1:$B$8857,2,0))","v":""},null,null,null,null,null,null,null,null,null,null,"","","",{"$f":"IF(E56=\"\",\"\",IF(E56=\"Projekt bzw. BDA\",VLOOKUP(J56,G!$V$1:$W$100,2),INDEX(G!$C$2:$C$93,MATCH(Stammdaten!D56&Stammdaten!E56,G!$A$2:$A$93&G!$B$2:$B$93,0))))","v":""},"",{"$f":"IF(E56=\"Projekt bzw. BDA\",O56/100*I56*K56,IF(AND(E56=\"Diplomarbeit/Prüfer\",K56>=5),O56/100*I56*5,IF(AND(E56=\"Betreuung bis 5 FBA\",K56>=2),O56/100*I56*1,IF(AND(E56=\"Betreuung FBA/je Prüfer\",K56>=2),O56/100*I56*1,IF(K56<>\"\",(O56/100*I56*K56),IF(K56=\"\",\"\"))))))","v":""}]
[{"$f":"IF(B57=\"\",\"\",VLOOKUP(B57,Lehrerliste!$A$1:$B$8857,2,0))","v":""},null,null,null,null,null,null,null,null,null,null,"","","",{"$f":"IF(E57=\"\",\"\",IF(E57=\"Projekt bzw. BDA\",VLOOKUP(J57,G!$V$1:$W$100,2),INDEX(G!$C$2:$C$93,MATCH(Stammdaten!D57&Stammdaten!E57,G!$A$2:$A$93&G!$B$2:$B$93,0))))","v":""},"",{"$f":"IF(E57=\"Projekt bzw. BDA\",O57/100*I57*K57,IF(AND(E57=\"Diplomarbeit/Prüfer\",K57>=5),O57/100*I57*5,IF(AND(E57=\"Betreuung bis 5 FBA\",K57>=2),O57/100*I57*1,IF(AND(E57=\"Betreuung FBA/je Prüfer\",K57>=2),O57/100*I57*1,IF(K57<>\"\",(O57/100*I57*K57),IF(K57=\"\",\"\"))))))","v":""}]
[{"$f":"IF(B58=\"\",\"\",VLOOKUP(B58,Lehrerliste!$A$1:$B$8857,2,0))","v":""},null,null,null,null,null,null,null,null,null,null,"","","",{"$f":"IF(E58=\"\",\"\",IF(E58=\"Projekt bzw. BDA\",VLOOKUP(J58,G!$V$1:$W$100,2),INDEX(G!$C$2:$C$93,MATCH(Stammdaten!D58&Stammdaten!E58,G!$A$2:$A$93&G!$B$2:$B$93,0))))","v":""},"",{"$f":"IF(E58=\"Projekt bzw. BDA\",O58/100*I58*K58,IF(AND(E58=\"Diplomarbeit/Prüfer\",K58>=5),O58/100*I58*5,IF(AND(E58=\"Betreuung bis 5 FBA\",K58>=2),O58/100*I58*1,IF(AND(E58=\"Betreuung FBA/je Prüfer\",K58>=2),O58/100*I58*1,IF(K58<>\"\",(O58/100*I58*K58),IF(K58=\"\",\"\"))))))","v":""}]
[{"$f":"IF(B59=\"\",\"\",VLOOKUP(B59,Lehrerliste!$A$1:$B$8857,2,0))","v":""},null,null,null,null,null,null,null,null,null,null,"","","",{"$f":"IF(E59=\"\",\"\",IF(E59=\"Projekt bzw. BDA\",VLOOKUP(J59,G!$V$1:$W$100,2),INDEX(G!$C$2:$C$93,MATCH(Stammdaten!D59&Stammdaten!E59,G!$A$2:$A$93&G!$B$2:$B$93,0))))","v":""},"",{"$f":"IF(E59=\"Projekt bzw. BDA\",O59/100*I59*K59,IF(AND(E59=\"Diplomarbeit/Prüfer\",K59>=5),O59/100*I59*5,IF(AND(E59=\"Betreuung bis 5 FBA\",K59>=2),O59/100*I59*1,IF(AND(E59=\"Betreuung FBA/je Prüfer\",K59>=2),O59/100*I59*1,IF(K59<>\"\",(O59/100*I59*K59),IF(K59=\"\",\"\"))))))","v":""}]
[{"$f":"IF(B60=\"\",\"\",VLOOKUP(B60,Lehrerliste!$A$1:$B$8857,2,0))","v":""},null,null,null,null,null,null,null,null,null,null,"","","",{"$f":"IF(E60=\"\",\"\",IF(E60=\"Projekt bzw. BDA\",VLOOKUP(J60,G!$V$1:$W$100,2),INDEX(G!$C$2:$C$93,MATCH(Stammdaten!D60&Stammdaten!E60,G!$A$2:$A$93&G!$B$2:$B$93,0))))","v":""},"",{"$f":"IF(E60=\"Projekt bzw. BDA\",O60/100*I60*K60,IF(AND(E60=\"Diplomarbeit/Prüfer\",K60>=5),O60/100*I60*5,IF(AND(E60=\"Betreuung bis 5 FBA\",K60>=2),O60/100*I60*1,IF(AND(E60=\"Betreuung FBA/je Prüfer\",K60>=2),O60/100*I60*1,IF(K60<>\"\",(O60/100*I60*K60),IF(K60=\"\",\"\"))))))","v":""}]
[{"$f":"IF(B61=\"\",\"\",VLOOKUP(B61,Lehrerliste!$A$1:$B$8857,2,0))","v":""},null,null,null,null,null,null,null,null,null,null,"","","",{"$f":"IF(E61=\"\",\"\",IF(E61=\"Projekt bzw. BDA\",VLOOKUP(J61,G!$V$1:$W$100,2),INDEX(G!$C$2:$C$93,MATCH(Stammdaten!D61&Stammdaten!E61,G!$A$2:$A$93&G!$B$2:$B$93,0))))","v":""},"",{"$f":"IF(E61=\"Projekt bzw. BDA\",O61/100*I61*K61,IF(AND(E61=\"Diplomarbeit/Prüfer\",K61>=5),O61/100*I61*5,IF(AND(E61=\"Betreuung bis 5 FBA\",K61>=2),O61/100*I61*1,IF(AND(E61=\"Betreuung FBA/je Prüfer\",K61>=2),O61/100*I61*1,IF(K61<>\"\",(O61/100*I61*K61),IF(K61=\"\",\"\"))))))","v":""}]
[{"$f":"IF(B62=\"\",\"\",VLOOKUP(B62,Lehrerliste!$A$1:$B$8857,2,0))","v":""},null,null,null,null,null,null,null,null,null,null,"","","",{"$f":"IF(E62=\"\",\"\",IF(E62=\"Projekt bzw. BDA\",VLOOKUP(J62,G!$V$1:$W$100,2),INDEX(G!$C$2:$C$93,MATCH(Stammdaten!D62&Stammdaten!E62,G!$A$2:$A$93&G!$B$2:$B$93,0))))","v":""},"",{"$f":"IF(E62=\"Projekt bzw. BDA\",O62/100*I62*K62,IF(AND(E62=\"Diplomarbeit/Prüfer\",K62>=5),O62/100*I62*5,IF(AND(E62=\"Betreuung bis 5 FBA\",K62>=2),O62/100*I62*1,IF(AND(E62=\"Betreuung FBA/je Prüfer\",K62>=2),O62/100*I62*1,IF(K62<>\"\",(O62/100*I62*K62),IF(K62=\"\",\"\"))))))","v":""}]
[{"$f":"IF(B63=\"\",\"\",VLOOKUP(B63,Lehrerliste!$A$1:$B$8857,2,0))","v":""},null,null,null,null,null,null,null,null,null,null,"","","",{"$f":"IF(E63=\"\",\"\",IF(E63=\"Projekt bzw. BDA\",VLOOKUP(J63,G!$V$1:$W$100,2),INDEX(G!$C$2:$C$93,MATCH(Stammdaten!D63&Stammdaten!E63,G!$A$2:$A$93&G!$B$2:$B$93,0))))","v":""},"",{"$f":"IF(E63=\"Projekt bzw. BDA\",O63/100*I63*K63,IF(AND(E63=\"Diplomarbeit/Prüfer\",K63>=5),O63/100*I63*5,IF(AND(E63=\"Betreuung bis 5 FBA\",K63>=2),O63/100*I63*1,IF(AND(E63=\"Betreuung FBA/je Prüfer\",K63>=2),O63/100*I63*1,IF(K63<>\"\",(O63/100*I63*K63),IF(K63=\"\",\"\"))))))","v":""}]
[{"$f":"IF(B64=\"\",\"\",VLOOKUP(B64,Lehrerliste!$A$1:$B$8857,2,0))","v":""},null,null,null,null,null,null,null,null,null,null,"","","",{"$f":"IF(E64=\"\",\"\",IF(E64=\"Projekt bzw. BDA\",VLOOKUP(J64,G!$V$1:$W$100,2),INDEX(G!$C$2:$C$93,MATCH(Stammdaten!D64&Stammdaten!E64,G!$A$2:$A$93&G!$B$2:$B$93,0))))","v":""},"",{"$f":"IF(E64=\"Projekt bzw. BDA\",O64/100*I64*K64,IF(AND(E64=\"Diplomarbeit/Prüfer\",K64>=5),O64/100*I64*5,IF(AND(E64=\"Betreuung bis 5 FBA\",K64>=2),O64/100*I64*1,IF(AND(E64=\"Betreuung FBA/je Prüfer\",K64>=2),O64/100*I64*1,IF(K64<>\"\",(O64/100*I64*K64),IF(K64=\"\",\"\"))))))","v":""}]
[{"$f":"IF(B65=\"\",\"\",VLOOKUP(B65,Lehrerliste!$A$1:$B$8857,2,0))","v":""},null,null,null,null,null,null,null,null,null,null,"","","",{"$f":"IF(E65=\"\",\"\",IF(E65=\"Projekt bzw. BDA\",VLOOKUP(J65,G!$V$1:$W$100,2),INDEX(G!$C$2:$C$93,MATCH(Stammdaten!D65&Stammdaten!E65,G!$A$2:$A$93&G!$B$2:$B$93,0))))","v":""},"",{"$f":"IF(E65=\"Projekt bzw. BDA\",O65/100*I65*K65,IF(AND(E65=\"Diplomarbeit/Prüfer\",K65>=5),O65/100*I65*5,IF(AND(E65=\"Betreuung bis 5 FBA\",K65>=2),O65/100*I65*1,IF(AND(E65=\"Betreuung FBA/je Prüfer\",K65>=2),O65/100*I65*1,IF(K65<>\"\",(O65/100*I65*K65),IF(K65=\"\",\"\"))))))","v":""}]
[{"$f":"IF(B66=\"\",\"\",VLOOKUP(B66,Lehrerliste!$A$1:$B$8857,2,0))","v":""},null,null,null,null,null,null,null,null,null,null,"","","",{"$f":"IF(E66=\"\",\"\",IF(E66=\"Projekt bzw. BDA\",VLOOKUP(J66,G!$V$1:$W$100,2),INDEX(G!$C$2:$C$93,MATCH(Stammdaten!D66&Stammdaten!E66,G!$A$2:$A$93&G!$B$2:$B$93,0))))","v":""},"",{"$f":"IF(E66=\"Projekt bzw. BDA\",O66/100*I66*K66,IF(AND(E66=\"Diplomarbeit/Prüfer\",K66>=5),O66/100*I66*5,IF(AND(E66=\"Betreuung bis 5 FBA\",K66>=2),O66/100*I66*1,IF(AND(E66=\"Betreuung FBA/je Prüfer\",K66>=2),O66/100*I66*1,IF(K66<>\"\",(O66/100*I66*K66),IF(K66=\"\",\"\"))))))","v":""}]
[{"$f":"IF(B67=\"\",\"\",VLOOKUP(B67,Lehrerliste!$A$1:$B$8857,2,0))","v":""},null,null,null,null,null,null,null,null,null,null,"","","",{"$f":"IF(E67=\"\",\"\",IF(E67=\"Projekt bzw. BDA\",VLOOKUP(J67,G!$V$1:$W$100,2),INDEX(G!$C$2:$C$93,MATCH(Stammdaten!D67&Stammdaten!E67,G!$A$2:$A$93&G!$B$2:$B$93,0))))","v":""},"",{"$f":"IF(E67=\"Projekt bzw. BDA\",O67/100*I67*K67,IF(AND(E67=\"Diplomarbeit/Prüfer\",K67>=5),O67/100*I67*5,IF(AND(E67=\"Betreuung bis 5 FBA\",K67>=2),O67/100*I67*1,IF(AND(E67=\"Betreuung FBA/je Prüfer\",K67>=2),O67/100*I67*1,IF(K67<>\"\",(O67/100*I67*K67),IF(K67=\"\",\"\"))))))","v":""}]
[{"$f":"IF(B68=\"\",\"\",VLOOKUP(B68,Lehrerliste!$A$1:$B$8857,2,0))","v":""},null,null,null,null,null,null,null,null,null,null,"","","",{"$f":"IF(E68=\"\",\"\",IF(E68=\"Projekt bzw. BDA\",VLOOKUP(J68,G!$V$1:$W$100,2),INDEX(G!$C$2:$C$93,MATCH(Stammdaten!D68&Stammdaten!E68,G!$A$2:$A$93&G!$B$2:$B$93,0))))","v":""},"",{"$f":"IF(E68=\"Projekt bzw. BDA\",O68/100*I68*K68,IF(AND(E68=\"Diplomarbeit/Prüfer\",K68>=5),O68/100*I68*5,IF(AND(E68=\"Betreuung bis 5 FBA\",K68>=2),O68/100*I68*1,IF(AND(E68=\"Betreuung FBA/je Prüfer\",K68>=2),O68/100*I68*1,IF(K68<>\"\",(O68/100*I68*K68),IF(K68=\"\",\"\"))))))","v":""}]
[{"$f":"IF(B69=\"\",\"\",VLOOKUP(B69,Lehrerliste!$A$1:$B$8857,2,0))","v":""},null,null,null,null,null,null,null,null,null,null,"","","",{"$f":"IF(E69=\"\",\"\",IF(E69=\"Projekt bzw. BDA\",VLOOKUP(J69,G!$V$1:$W$100,2),INDEX(G!$C$2:$C$93,MATCH(Stammdaten!D69&Stammdaten!E69,G!$A$2:$A$93&G!$B$2:$B$93,0))))","v":""},"",{"$f":"IF(E69=\"Projekt bzw. BDA\",O69/100*I69*K69,IF(AND(E69=\"Diplomarbeit/Prüfer\",K69>=5),O69/100*I69*5,IF(AND(E69=\"Betreuung bis 5 FBA\",K69>=2),O69/100*I69*1,IF(AND(E69=\"Betreuung FBA/je Prüfer\",K69>=2),O69/100*I69*1,IF(K69<>\"\",(O69/100*I69*K69),IF(K69=\"\",\"\"))))))","v":""}]
[{"$f":"IF(B70=\"\",\"\",VLOOKUP(B70,Lehrerliste!$A$1:$B$8857,2,0))","v":""},null,null,null,null,null,null,null,null,null,null,"","","",{"$f":"IF(E70=\"\",\"\",IF(E70=\"Projekt bzw. BDA\",VLOOKUP(J70,G!$V$1:$W$100,2),INDEX(G!$C$2:$C$93,MATCH(Stammdaten!D70&Stammdaten!E70,G!$A$2:$A$93&G!$B$2:$B$93,0))))","v":""},"",{"$f":"IF(E70=\"Projekt bzw. BDA\",O70/100*I70*K70,IF(AND(E70=\"Diplomarbeit/Prüfer\",K70>=5),O70/100*I70*5,IF(AND(E70=\"Betreuung bis 5 FBA\",K70>=2),O70/100*I70*1,IF(AND(E70=\"Betreuung FBA/je Prüfer\",K70>=2),O70/100*I70*1,IF(K70<>\"\",(O70/100*I70*K70),IF(K70=\"\",\"\"))))))","v":""}]
[{"$f":"IF(B71=\"\",\"\",VLOOKUP(B71,Lehrerliste!$A$1:$B$8857,2,0))","v":""},null,null,null,null,null,null,null,null,null,null,"","","",{"$f":"IF(E71=\"\",\"\",IF(E71=\"Projekt bzw. BDA\",VLOOKUP(J71,G!$V$1:$W$100,2),INDEX(G!$C$2:$C$93,MATCH(Stammdaten!D71&Stammdaten!E71,G!$A$2:$A$93&G!$B$2:$B$93,0))))","v":""},"",{"$f":"IF(E71=\"Projekt bzw. BDA\",O71/100*I71*K71,IF(AND(E71=\"Diplomarbeit/Prüfer\",K71>=5),O71/100*I71*5,IF(AND(E71=\"Betreuung bis 5 FBA\",K71>=2),O71/100*I71*1,IF(AND(E71=\"Betreuung FBA/je Prüfer\",K71>=2),O71/100*I71*1,IF(K71<>\"\",(O71/100*I71*K71),IF(K71=\"\",\"\"))))))","v":""}]
[{"$f":"IF(B72=\"\",\"\",VLOOKUP(B72,Lehrerliste!$A$1:$B$8857,2,0))","v":""},null,null,null,null,null,null,null,null,null,null,"","","",{"$f":"IF(E72=\"\",\"\",IF(E72=\"Projekt bzw. BDA\",VLOOKUP(J72,G!$V$1:$W$100,2),INDEX(G!$C$2:$C$93,MATCH(Stammdaten!D72&Stammdaten!E72,G!$A$2:$A$93&G!$B$2:$B$93,0))))","v":""},"",{"$f":"IF(E72=\"Projekt bzw. BDA\",O72/100*I72*K72,IF(AND(E72=\"Diplomarbeit/Prüfer\",K72>=5),O72/100*I72*5,IF(AND(E72=\"Betreuung bis 5 FBA\",K72>=2),O72/100*I72*1,IF(AND(E72=\"Betreuung FBA/je Prüfer\",K72>=2),O72/100*I72*1,IF(K72<>\"\",(O72/100*I72*K72),IF(K72=\"\",\"\"))))))","v":""}]
[{"$f":"IF(B73=\"\",\"\",VLOOKUP(B73,Lehrerliste!$A$1:$B$8857,2,0))","v":""},null,null,null,null,null,null,null,null,null,null,"","","",{"$f":"IF(E73=\"\",\"\",IF(E73=\"Projekt bzw. BDA\",VLOOKUP(J73,G!$V$1:$W$100,2),INDEX(G!$C$2:$C$93,MATCH(Stammdaten!D73&Stammdaten!E73,G!$A$2:$A$93&G!$B$2:$B$93,0))))","v":""},"",{"$f":"IF(E73=\"Projekt bzw. BDA\",O73/100*I73*K73,IF(AND(E73=\"Diplomarbeit/Prüfer\",K73>=5),O73/100*I73*5,IF(AND(E73=\"Betreuung bis 5 FBA\",K73>=2),O73/100*I73*1,IF(AND(E73=\"Betreuung FBA/je Prüfer\",K73>=2),O73/100*I73*1,IF(K73<>\"\",(O73/100*I73*K73),IF(K73=\"\",\"\"))))))","v":""}]
[{"$f":"IF(B74=\"\",\"\",VLOOKUP(B74,Lehrerliste!$A$1:$B$8857,2,0))","v":""},null,null,null,null,null,null,null,null,null,null,"","","",{"$f":"IF(E74=\"\",\"\",IF(E74=\"Projekt bzw. BDA\",VLOOKUP(J74,G!$V$1:$W$100,2),INDEX(G!$C$2:$C$93,MATCH(Stammdaten!D74&Stammdaten!E74,G!$A$2:$A$93&G!$B$2:$B$93,0))))","v":""},"",{"$f":"IF(E74=\"Projekt bzw. BDA\",O74/100*I74*K74,IF(AND(E74=\"Diplomarbeit/Prüfer\",K74>=5),O74/100*I74*5,IF(AND(E74=\"Betreuung bis 5 FBA\",K74>=2),O74/100*I74*1,IF(AND(E74=\"Betreuung FBA/je Prüfer\",K74>=2),O74/100*I74*1,IF(K74<>\"\",(O74/100*I74*K74),IF(K74=\"\",\"\"))))))","v":""}]
[{"$f":"IF(B75=\"\",\"\",VLOOKUP(B75,Lehrerliste!$A$1:$B$8857,2,0))","v":""},null,null,null,null,null,null,null,null,null,null,{"$f":"IF(D75=\"Reifepr./Diplompr.\",1,IF(D75=\"Abschlussprüfung\",10,IF(D75=\"Vorpr. d. Reifepr./Diplompr./AP\",2,IF(D75=\"Externistenreifeprüfung\",3,IF(D75=\"Zulassungsprüfung z. Extern.RP\",4,IF(D75=\"Sonst. Externistenprüfungen\",5,IF(D75=\"Aufnahms- u. Einstufungsprüfungen\",6,IF(D75=\"Komm. Prüfung/Kolloquien\",7,IF(D75=\"Zertifikatsprüfung Käsek./Jungbark.\",8,IF(D75=\"BRP / Lehre m. Matura\",9,IF(D75=\"Zertifikatsprüfung Weinsommelier\",8,\"\")))))))))))","v":""},{"$f":"IF(E75=\"Vorsitz\",1,IF(E75=\"Vorsitz/mdl. Kompens.\",1,IF(E75=\"Schulleiter/AV/fachk. LP\",1,IF(E75=\"Schulleit./AV/LP/mdl. Komp\",1,IF(E75=\"JV/FV/SK/LP\",1,IF(E75=\"JV/FV/SK/LP/mdl. Komp.\",1,IF(E75=\"Klassenvorstand\",1,IF(E75=\"Klassenvorst./mdl. Komp.\",1,IF(E75=\"Schulleiter/AV/LP\",1,IF(E75=\"KV/FV/SK/LP\",1,\"\"))))))))))","v":""},{"$f":"IFERROR(IF(K75=\"\",\"\",IF(AND(L75=1,M75=1),(O75*F75),IF(AND(L75=11,M75=1),(O75*F75), IF(AND(L75=10,M75=1),(O75*F75),VALUE(O75))))),\"\")","v":""},{"$f":"IF(E75=\"\",\"\",IF(E75=\"Projekt bzw. BDA\",VLOOKUP(J75,G!$V$1:$W$100,2),INDEX(G!$C$2:$C$93,MATCH(Stammdaten!D75&Stammdaten!E75,G!$A$2:$A$93&G!$B$2:$B$93,0))))","v":""},{"$f":"IFERROR(IF(B75=\"\",\"\",IF(K75=\"\",\"0,00\",IF(AND(L75=1,M75=1),VALUE(Q75*F75),IF(AND(L75=11,M75=1),VALUE(Q75*F75),IF(AND(L75=10,M75=1),VALUE(Q75*F75),VALUE(Q75)))))),\"\")","v":""},{"$f":"IF(E75=\"Projekt bzw. BDA\",O75/100*I75*K75,IF(AND(E75=\"Diplomarbeit/Prüfer\",K75>=5),O75/100*I75*5,IF(AND(E75=\"Betreuung bis 5 FBA\",K75>=2),O75/100*I75*1,IF(AND(E75=\"Betreuung FBA/je Prüfer\",K75>=2),O75/100*I75*1,IF(K75<>\"\",(O75/100*I75*K75),IF(K75=\"\",\"\"))))))","v":""}]
[{"$f":"IF(B76=\"\",\"\",VLOOKUP(B76,Lehrerliste!$A$1:$B$8857,2,0))","v":""},null,null,null,null,null,null,null,null,null,null,"","","",{"$f":"IF(E76=\"\",\"\",IF(E76=\"Projekt bzw. BDA\",VLOOKUP(J76,G!$V$1:$W$100,2),INDEX(G!$C$2:$C$93,MATCH(Stammdaten!D76&Stammdaten!E76,G!$A$2:$A$93&G!$B$2:$B$93,0))))","v":""},"",{"$f":"IF(E76=\"Projekt bzw. BDA\",O76/100*I76*K76,IF(AND(E76=\"Diplomarbeit/Prüfer\",K76>=5),O76/100*I76*5,IF(AND(E76=\"Betreuung bis 5 FBA\",K76>=2),O76/100*I76*1,IF(AND(E76=\"Betreuung FBA/je Prüfer\",K76>=2),O76/100*I76*1,IF(K76<>\"\",(O76/100*I76*K76),IF(K76=\"\",\"\"))))))","v":""}]
[{"$f":"IF(B77=\"\",\"\",VLOOKUP(B77,Lehrerliste!$A$1:$B$8857,2,0))","v":""},null,null,null,null,null,null,null,null,null,null,"","","",{"$f":"IF(E77=\"\",\"\",IF(E77=\"Projekt bzw. BDA\",VLOOKUP(J77,G!$V$1:$W$100,2),INDEX(G!$C$2:$C$93,MATCH(Stammdaten!D77&Stammdaten!E77,G!$A$2:$A$93&G!$B$2:$B$93,0))))","v":""},"",{"$f":"IF(E77=\"Projekt bzw. BDA\",O77/100*I77*K77,IF(AND(E77=\"Diplomarbeit/Prüfer\",K77>=5),O77/100*I77*5,IF(AND(E77=\"Betreuung bis 5 FBA\",K77>=2),O77/100*I77*1,IF(AND(E77=\"Betreuung FBA/je Prüfer\",K77>=2),O77/100*I77*1,IF(K77<>\"\",(O77/100*I77*K77),IF(K77=\"\",\"\"))))))","v":""}]
[{"$f":"IF(B78=\"\",\"\",VLOOKUP(B78,Lehrerliste!$A$1:$B$8857,2,0))","v":""},null,null,null,null,null,null,null,null,null,null,"","","",{"$f":"IF(E78=\"\",\"\",IF(E78=\"Projekt bzw. BDA\",VLOOKUP(J78,G!$V$1:$W$100,2),INDEX(G!$C$2:$C$93,MATCH(Stammdaten!D78&Stammdaten!E78,G!$A$2:$A$93&G!$B$2:$B$93,0))))","v":""},"",{"$f":"IF(E78=\"Projekt bzw. BDA\",O78/100*I78*K78,IF(AND(E78=\"Diplomarbeit/Prüfer\",K78>=5),O78/100*I78*5,IF(AND(E78=\"Betreuung bis 5 FBA\",K78>=2),O78/100*I78*1,IF(AND(E78=\"Betreuung FBA/je Prüfer\",K78>=2),O78/100*I78*1,IF(K78<>\"\",(O78/100*I78*K78),IF(K78=\"\",\"\"))))))","v":""}]
[{"$f":"IF(B79=\"\",\"\",VLOOKUP(B79,Lehrerliste!$A$1:$B$8857,2,0))","v":""},null,null,null,null,null,null,null,null,null,null,"","","",{"$f":"IF(E79=\"\",\"\",IF(E79=\"Projekt bzw. BDA\",VLOOKUP(J79,G!$V$1:$W$100,2),INDEX(G!$C$2:$C$93,MATCH(Stammdaten!D79&Stammdaten!E79,G!$A$2:$A$93&G!$B$2:$B$93,0))))","v":""},"",{"$f":"IF(E79=\"Projekt bzw. BDA\",O79/100*I79*K79,IF(AND(E79=\"Diplomarbeit/Prüfer\",K79>=5),O79/100*I79*5,IF(AND(E79=\"Betreuung bis 5 FBA\",K79>=2),O79/100*I79*1,IF(AND(E79=\"Betreuung FBA/je Prüfer\",K79>=2),O79/100*I79*1,IF(K79<>\"\",(O79/100*I79*K79),IF(K79=\"\",\"\"))))))","v":""}]
[{"$f":"IF(B80=\"\",\"\",VLOOKUP(B80,Lehrerliste!$A$1:$B$8857,2,0))","v":""},null,null,null,null,null,null,null,null,null,null,"","","",{"$f":"IF(E80=\"\",\"\",IF(E80=\"Projekt bzw. BDA\",VLOOKUP(J80,G!$V$1:$W$100,2),INDEX(G!$C$2:$C$93,MATCH(Stammdaten!D80&Stammdaten!E80,G!$A$2:$A$93&G!$B$2:$B$93,0))))","v":""},"",{"$f":"IF(E80=\"Projekt bzw. BDA\",O80/100*I80*K80,IF(AND(E80=\"Diplomarbeit/Prüfer\",K80>=5),O80/100*I80*5,IF(AND(E80=\"Betreuung bis 5 FBA\",K80>=2),O80/100*I80*1,IF(AND(E80=\"Betreuung FBA/je Prüfer\",K80>=2),O80/100*I80*1,IF(K80<>\"\",(O80/100*I80*K80),IF(K80=\"\",\"\"))))))","v":""}]
[{"$f":"IF(B81=\"\",\"\",VLOOKUP(B81,Lehrerliste!$A$1:$B$8857,2,0))","v":""},null,null,null,null,null,null,null,null,null,null,"","","",{"$f":"IF(E81=\"\",\"\",IF(E81=\"Projekt bzw. BDA\",VLOOKUP(J81,G!$V$1:$W$100,2),INDEX(G!$C$2:$C$93,MATCH(Stammdaten!D81&Stammdaten!E81,G!$A$2:$A$93&G!$B$2:$B$93,0))))","v":""},"",{"$f":"IF(E81=\"Projekt bzw. BDA\",O81/100*I81*K81,IF(AND(E81=\"Diplomarbeit/Prüfer\",K81>=5),O81/100*I81*5,IF(AND(E81=\"Betreuung bis 5 FBA\",K81>=2),O81/100*I81*1,IF(AND(E81=\"Betreuung FBA/je Prüfer\",K81>=2),O81/100*I81*1,IF(K81<>\"\",(O81/100*I81*K81),IF(K81=\"\",\"\"))))))","v":""}]
[{"$f":"IF(B82=\"\",\"\",VLOOKUP(B82,Lehrerliste!$A$1:$B$8857,2,0))","v":""},null,null,null,null,null,null,null,null,null,null,"","","",{"$f":"IF(E82=\"\",\"\",IF(E82=\"Projekt bzw. BDA\",VLOOKUP(J82,G!$V$1:$W$100,2),INDEX(G!$C$2:$C$93,MATCH(Stammdaten!D82&Stammdaten!E82,G!$A$2:$A$93&G!$B$2:$B$93,0))))","v":""},"",{"$f":"IF(E82=\"Projekt bzw. BDA\",O82/100*I82*K82,IF(AND(E82=\"Diplomarbeit/Prüfer\",K82>=5),O82/100*I82*5,IF(AND(E82=\"Betreuung bis 5 FBA\",K82>=2),O82/100*I82*1,IF(AND(E82=\"Betreuung FBA/je Prüfer\",K82>=2),O82/100*I82*1,IF(K82<>\"\",(O82/100*I82*K82),IF(K82=\"\",\"\"))))))","v":""}]
[{"$f":"IF(B83=\"\",\"\",VLOOKUP(B83,Lehrerliste!$A$1:$B$8857,2,0))","v":""},null,null,null,null,null,null,null,null,null,null,"","","",{"$f":"IF(E83=\"\",\"\",IF(E83=\"Projekt bzw. BDA\",VLOOKUP(J83,G!$V$1:$W$100,2),INDEX(G!$C$2:$C$93,MATCH(Stammdaten!D83&Stammdaten!E83,G!$A$2:$A$93&G!$B$2:$B$93,0))))","v":""},"",{"$f":"IF(E83=\"Projekt bzw. BDA\",O83/100*I83*K83,IF(AND(E83=\"Diplomarbeit/Prüfer\",K83>=5),O83/100*I83*5,IF(AND(E83=\"Betreuung bis 5 FBA\",K83>=2),O83/100*I83*1,IF(AND(E83=\"Betreuung FBA/je Prüfer\",K83>=2),O83/100*I83*1,IF(K83<>\"\",(O83/100*I83*K83),IF(K83=\"\",\"\"))))))","v":""}]
[{"$f":"IF(B84=\"\",\"\",VLOOKUP(B84,Lehrerliste!$A$1:$B$8857,2,0))","v":""},null,null,null,null,null,null,null,null,null,null,"","","",{"$f":"IF(E84=\"\",\"\",IF(E84=\"Projekt bzw. BDA\",VLOOKUP(J84,G!$V$1:$W$100,2),INDEX(G!$C$2:$C$93,MATCH(Stammdaten!D84&Stammdaten!E84,G!$A$2:$A$93&G!$B$2:$B$93,0))))","v":""},"",{"$f":"IF(E84=\"Projekt bzw. BDA\",O84/100*I84*K84,IF(AND(E84=\"Diplomarbeit/Prüfer\",K84>=5),O84/100*I84*5,IF(AND(E84=\"Betreuung bis 5 FBA\",K84>=2),O84/100*I84*1,IF(AND(E84=\"Betreuung FBA/je Prüfer\",K84>=2),O84/100*I84*1,IF(K84<>\"\",(O84/100*I84*K84),IF(K84=\"\",\"\"))))))","v":""}]
[{"$f":"IF(B85=\"\",\"\",VLOOKUP(B85,Lehrerliste!$A$1:$B$8857,2,0))","v":""},null,null,null,null,null,null,null,null,null,null,"","","",{"$f":"IF(E85=\"\",\"\",IF(E85=\"Projekt bzw. BDA\",VLOOKUP(J85,G!$V$1:$W$100,2),INDEX(G!$C$2:$C$93,MATCH(Stammdaten!D85&Stammdaten!E85,G!$A$2:$A$93&G!$B$2:$B$93,0))))","v":""},"",{"$f":"IF(E85=\"Projekt bzw. BDA\",O85/100*I85*K85,IF(AND(E85=\"Diplomarbeit/Prüfer\",K85>=5),O85/100*I85*5,IF(AND(E85=\"Betreuung bis 5 FBA\",K85>=2),O85/100*I85*1,IF(AND(E85=\"Betreuung FBA/je Prüfer\",K85>=2),O85/100*I85*1,IF(K85<>\"\",(O85/100*I85*K85),IF(K85=\"\",\"\"))))))","v":""}]
[{"$f":"IF(B86=\"\",\"\",VLOOKUP(B86,Lehrerliste!$A$1:$B$8857,2,0))","v":""},null,null,null,null,null,null,null,null,null,null,"","","",{"$f":"IF(E86=\"\",\"\",IF(E86=\"Projekt bzw. BDA\",VLOOKUP(J86,G!$V$1:$W$100,2),INDEX(G!$C$2:$C$93,MATCH(Stammdaten!D86&Stammdaten!E86,G!$A$2:$A$93&G!$B$2:$B$93,0))))","v":""},"",{"$f":"IF(E86=\"Projekt bzw. BDA\",O86/100*I86*K86,IF(AND(E86=\"Diplomarbeit/Prüfer\",K86>=5),O86/100*I86*5,IF(AND(E86=\"Betreuung bis 5 FBA\",K86>=2),O86/100*I86*1,IF(AND(E86=\"Betreuung FBA/je Prüfer\",K86>=2),O86/100*I86*1,IF(K86<>\"\",(O86/100*I86*K86),IF(K86=\"\",\"\"))))))","v":""}]
[{"$f":"IF(B87=\"\",\"\",VLOOKUP(B87,Lehrerliste!$A$1:$B$8857,2,0))","v":""},null,null,null,null,null,null,null,null,null,null,"","","",{"$f":"IF(E87=\"\",\"\",IF(E87=\"Projekt bzw. BDA\",VLOOKUP(J87,G!$V$1:$W$100,2),INDEX(G!$C$2:$C$93,MATCH(Stammdaten!D87&Stammdaten!E87,G!$A$2:$A$93&G!$B$2:$B$93,0))))","v":""},"",{"$f":"IF(E87=\"Projekt bzw. BDA\",O87/100*I87*K87,IF(AND(E87=\"Diplomarbeit/Prüfer\",K87>=5),O87/100*I87*5,IF(AND(E87=\"Betreuung bis 5 FBA\",K87>=2),O87/100*I87*1,IF(AND(E87=\"Betreuung FBA/je Prüfer\",K87>=2),O87/100*I87*1,IF(K87<>\"\",(O87/100*I87*K87),IF(K87=\"\",\"\"))))))","v":""}]
[{"$f":"IF(B88=\"\",\"\",VLOOKUP(B88,Lehrerliste!$A$1:$B$8857,2,0))","v":""},null,null,null,null,null,null,null,null,null,null,"","","",{"$f":"IF(E88=\"\",\"\",IF(E88=\"Projekt bzw. BDA\",VLOOKUP(J88,G!$V$1:$W$100,2),INDEX(G!$C$2:$C$93,MATCH(Stammdaten!D88&Stammdaten!E88,G!$A$2:$A$93&G!$B$2:$B$93,0))))","v":""},"",{"$f":"IF(E88=\"Projekt bzw. BDA\",O88/100*I88*K88,IF(AND(E88=\"Diplomarbeit/Prüfer\",K88>=5),O88/100*I88*5,IF(AND(E88=\"Betreuung bis 5 FBA\",K88>=2),O88/100*I88*1,IF(AND(E88=\"Betreuung FBA/je Prüfer\",K88>=2),O88/100*I88*1,IF(K88<>\"\",(O88/100*I88*K88),IF(K88=\"\",\"\"))))))","v":""}]
[{"$f":"IF(B89=\"\",\"\",VLOOKUP(B89,Lehrerliste!$A$1:$B$8857,2,0))","v":""},null,null,null,null,null,null,null,null,null,null,"","","",{"$f":"IF(E89=\"\",\"\",IF(E89=\"Projekt bzw. BDA\",VLOOKUP(J89,G!$V$1:$W$100,2),INDEX(G!$C$2:$C$93,MATCH(Stammdaten!D89&Stammdaten!E89,G!$A$2:$A$93&G!$B$2:$B$93,0))))","v":""},"",{"$f":"IF(E89=\"Projekt bzw. BDA\",O89/100*I89*K89,IF(AND(E89=\"Diplomarbeit/Prüfer\",K89>=5),O89/100*I89*5,IF(AND(E89=\"Betreuung bis 5 FBA\",K89>=2),O89/100*I89*1,IF(AND(E89=\"Betreuung FBA/je Prüfer\",K89>=2),O89/100*I89*1,IF(K89<>\"\",(O89/100*I89*K89),IF(K89=\"\",\"\"))))))","v":""}]
[{"$f":"IF(B90=\"\",\"\",VLOOKUP(B90,Lehrerliste!$A$1:$B$8857,2,0))","v":""},null,null,null,null,null,null,null,null,null,null,"","","",{"$f":"IF(E90=\"\",\"\",IF(E90=\"Projekt bzw. BDA\",VLOOKUP(J90,G!$V$1:$W$100,2),INDEX(G!$C$2:$C$93,MATCH(Stammdaten!D90&Stammdaten!E90,G!$A$2:$A$93&G!$B$2:$B$93,0))))","v":""},"",{"$f":"IF(E90=\"Projekt bzw. BDA\",O90/100*I90*K90,IF(AND(E90=\"Diplomarbeit/Prüfer\",K90>=5),O90/100*I90*5,IF(AND(E90=\"Betreuung bis 5 FBA\",K90>=2),O90/100*I90*1,IF(AND(E90=\"Betreuung FBA/je Prüfer\",K90>=2),O90/100*I90*1,IF(K90<>\"\",(O90/100*I90*K90),IF(K90=\"\",\"\"))))))","v":""}]
[{"$f":"IF(B91=\"\",\"\",VLOOKUP(B91,Lehrerliste!$A$1:$B$8857,2,0))","v":""},null,null,null,null,null,null,null,null,null,null,"","","",{"$f":"IF(E91=\"\",\"\",IF(E91=\"Projekt bzw. BDA\",VLOOKUP(J91,G!$V$1:$W$100,2),INDEX(G!$C$2:$C$93,MATCH(Stammdaten!D91&Stammdaten!E91,G!$A$2:$A$93&G!$B$2:$B$93,0))))","v":""},"",{"$f":"IF(E91=\"Projekt bzw. BDA\",O91/100*I91*K91,IF(AND(E91=\"Diplomarbeit/Prüfer\",K91>=5),O91/100*I91*5,IF(AND(E91=\"Betreuung bis 5 FBA\",K91>=2),O91/100*I91*1,IF(AND(E91=\"Betreuung FBA/je Prüfer\",K91>=2),O91/100*I91*1,IF(K91<>\"\",(O91/100*I91*K91),IF(K91=\"\",\"\"))))))","v":""}]
[{"$f":"IF(B92=\"\",\"\",VLOOKUP(B92,Lehrerliste!$A$1:$B$8857,2,0))","v":""},null,null,null,null,null,null,null,null,null,null,"","","",{"$f":"IF(E92=\"\",\"\",IF(E92=\"Projekt bzw. BDA\",VLOOKUP(J92,G!$V$1:$W$100,2),INDEX(G!$C$2:$C$93,MATCH(Stammdaten!D92&Stammdaten!E92,G!$A$2:$A$93&G!$B$2:$B$93,0))))","v":""},"",{"$f":"IF(E92=\"Projekt bzw. BDA\",O92/100*I92*K92,IF(AND(E92=\"Diplomarbeit/Prüfer\",K92>=5),O92/100*I92*5,IF(AND(E92=\"Betreuung bis 5 FBA\",K92>=2),O92/100*I92*1,IF(AND(E92=\"Betreuung FBA/je Prüfer\",K92>=2),O92/100*I92*1,IF(K92<>\"\",(O92/100*I92*K92),IF(K92=\"\",\"\"))))))","v":""}]
[{"$f":"IF(B93=\"\",\"\",VLOOKUP(B93,Lehrerliste!$A$1:$B$8857,2,0))","v":""},null,null,null,null,null,null,null,null,null,null,"","","",{"$f":"IF(E93=\"\",\"\",IF(E93=\"Projekt bzw. BDA\",VLOOKUP(J93,G!$V$1:$W$100,2),INDEX(G!$C$2:$C$93,MATCH(Stammdaten!D93&Stammdaten!E93,G!$A$2:$A$93&G!$B$2:$B$93,0))))","v":""},"",{"$f":"IF(E93=\"Projekt bzw. BDA\",O93/100*I93*K93,IF(AND(E93=\"Diplomarbeit/Prüfer\",K93>=5),O93/100*I93*5,IF(AND(E93=\"Betreuung bis 5 FBA\",K93>=2),O93/100*I93*1,IF(AND(E93=\"Betreuung FBA/je Prüfer\",K93>=2),O93/100*I93*1,IF(K93<>\"\",(O93/100*I93*K93),IF(K93=\"\",\"\"))))))","v":""}]
[{"$f":"IF(B94=\"\",\"\",VLOOKUP(B94,Lehrerliste!$A$1:$B$8857,2,0))","v":""},null,null,null,null,null,null,null,null,null,null,"","","",{"$f":"IF(E94=\"\",\"\",IF(E94=\"Projekt bzw. BDA\",VLOOKUP(J94,G!$V$1:$W$100,2),INDEX(G!$C$2:$C$93,MATCH(Stammdaten!D94&Stammdaten!E94,G!$A$2:$A$93&G!$B$2:$B$93,0))))","v":""},"",{"$f":"IF(E94=\"Projekt bzw. BDA\",O94/100*I94*K94,IF(AND(E94=\"Diplomarbeit/Prüfer\",K94>=5),O94/100*I94*5,IF(AND(E94=\"Betreuung bis 5 FBA\",K94>=2),O94/100*I94*1,IF(AND(E94=\"Betreuung FBA/je Prüfer\",K94>=2),O94/100*I94*1,IF(K94<>\"\",(O94/100*I94*K94),IF(K94=\"\",\"\"))))))","v":""}]
[{"$f":"IF(B95=\"\",\"\",VLOOKUP(B95,Lehrerliste!$A$1:$B$8857,2,0))","v":""},null,null,null,null,null,null,null,null,null,null,"","","",{"$f":"IF(E95=\"\",\"\",IF(E95=\"Projekt bzw. BDA\",VLOOKUP(J95,G!$V$1:$W$100,2),INDEX(G!$C$2:$C$93,MATCH(Stammdaten!D95&Stammdaten!E95,G!$A$2:$A$93&G!$B$2:$B$93,0))))","v":""},"",{"$f":"IF(E95=\"Projekt bzw. BDA\",O95/100*I95*K95,IF(AND(E95=\"Diplomarbeit/Prüfer\",K95>=5),O95/100*I95*5,IF(AND(E95=\"Betreuung bis 5 FBA\",K95>=2),O95/100*I95*1,IF(AND(E95=\"Betreuung FBA/je Prüfer\",K95>=2),O95/100*I95*1,IF(K95<>\"\",(O95/100*I95*K95),IF(K95=\"\",\"\"))))))","v":""}]
[{"$f":"IF(B96=\"\",\"\",VLOOKUP(B96,Lehrerliste!$A$1:$B$8857,2,0))","v":""},null,null,null,null,null,null,null,null,null,null,"","","",{"$f":"IF(E96=\"\",\"\",IF(E96=\"Projekt bzw. BDA\",VLOOKUP(J96,G!$V$1:$W$100,2),INDEX(G!$C$2:$C$93,MATCH(Stammdaten!D96&Stammdaten!E96,G!$A$2:$A$93&G!$B$2:$B$93,0))))","v":""},"",{"$f":"IF(E96=\"Projekt bzw. BDA\",O96/100*I96*K96,IF(AND(E96=\"Diplomarbeit/Prüfer\",K96>=5),O96/100*I96*5,IF(AND(E96=\"Betreuung bis 5 FBA\",K96>=2),O96/100*I96*1,IF(AND(E96=\"Betreuung FBA/je Prüfer\",K96>=2),O96/100*I96*1,IF(K96<>\"\",(O96/100*I96*K96),IF(K96=\"\",\"\"))))))","v":""}]
[{"$f":"IF(B97=\"\",\"\",VLOOKUP(B97,Lehrerliste!$A$1:$B$8857,2,0))","v":""},null,null,null,null,null,null,null,null,null,null,"","","",{"$f":"IF(E97=\"\",\"\",IF(E97=\"Projekt bzw. BDA\",VLOOKUP(J97,G!$V$1:$W$100,2),INDEX(G!$C$2:$C$93,MATCH(Stammdaten!D97&Stammdaten!E97,G!$A$2:$A$93&G!$B$2:$B$93,0))))","v":""},"",{"$f":"IF(E97=\"Projekt bzw. BDA\",O97/100*I97*K97,IF(AND(E97=\"Diplomarbeit/Prüfer\",K97>=5),O97/100*I97*5,IF(AND(E97=\"Betreuung bis 5 FBA\",K97>=2),O97/100*I97*1,IF(AND(E97=\"Betreuung FBA/je Prüfer\",K97>=2),O97/100*I97*1,IF(K97<>\"\",(O97/100*I97*K97),IF(K97=\"\",\"\"))))))","v":""}]
[{"$f":"IF(B98=\"\",\"\",VLOOKUP(B98,Lehrerliste!$A$1:$B$8857,2,0))","v":""},null,null,null,null,null,null,null,null,null,null,"","","",{"$f":"IF(E98=\"\",\"\",IF(E98=\"Projekt bzw. BDA\",VLOOKUP(J98,G!$V$1:$W$100,2),INDEX(G!$C$2:$C$93,MATCH(Stammdaten!D98&Stammdaten!E98,G!$A$2:$A$93&G!$B$2:$B$93,0))))","v":""},"",{"$f":"IF(E98=\"Projekt bzw. BDA\",O98/100*I98*K98,IF(AND(E98=\"Diplomarbeit/Prüfer\",K98>=5),O98/100*I98*5,IF(AND(E98=\"Betreuung bis 5 FBA\",K98>=2),O98/100*I98*1,IF(AND(E98=\"Betreuung FBA/je Prüfer\",K98>=2),O98/100*I98*1,IF(K98<>\"\",(O98/100*I98*K98),IF(K98=\"\",\"\"))))))","v":""}]
[{"$f":"IF(B99=\"\",\"\",VLOOKUP(B99,Lehrerliste!$A$1:$B$8857,2,0))","v":""},null,null,null,null,null,null,null,null,null,null,"","","",{"$f":"IF(E99=\"\",\"\",IF(E99=\"Projekt bzw. BDA\",VLOOKUP(J99,G!$V$1:$W$100,2),INDEX(G!$C$2:$C$93,MATCH(Stammdaten!D99&Stammdaten!E99,G!$A$2:$A$93&G!$B$2:$B$93,0))))","v":""},"",{"$f":"IF(E99=\"Projekt bzw. BDA\",O99/100*I99*K99,IF(AND(E99=\"Diplomarbeit/Prüfer\",K99>=5),O99/100*I99*5,IF(AND(E99=\"Betreuung bis 5 FBA\",K99>=2),O99/100*I99*1,IF(AND(E99=\"Betreuung FBA/je Prüfer\",K99>=2),O99/100*I99*1,IF(K99<>\"\",(O99/100*I99*K99),IF(K99=\"\",\"\"))))))","v":""}]
[{"$f":"IF(B100=\"\",\"\",VLOOKUP(B100,Lehrerliste!$A$1:$B$8857,2,0))","v":""},null,null,null,null,null,null,null,null,null,null,"","","",{"$f":"IF(E100=\"\",\"\",IF(E100=\"Projekt bzw. BDA\",VLOOKUP(J100,G!$V$1:$W$100,2),INDEX(G!$C$2:$C$93,MATCH(Stammdaten!D100&Stammdaten!E100,G!$A$2:$A$93&G!$B$2:$B$93,0))))","v":""},"",{"$f":"IF(E100=\"Projekt bzw. BDA\",O100/100*I100*K100,IF(AND(E100=\"Diplomarbeit/Prüfer\",K100>=5),O100/100*I100*5,IF(AND(E100=\"Betreuung bis 5 FBA\",K100>=2),O100/100*I100*1,IF(AND(E100=\"Betreuung FBA/je Prüfer\",K100>=2),O100/100*I100*1,IF(K100<>\"\",(O100/100*I100*K100),IF(K100=\"\",\"\"))))))","v":""}]
[{"$f":"IF(B101=\"\",\"\",VLOOKUP(B101,Lehrerliste!$A$1:$B$8857,2,0))","v":""},null,null,null,null,null,null,null,null,null,null,"","","",{"$f":"IF(E101=\"\",\"\",IF(E101=\"Projekt bzw. BDA\",VLOOKUP(J101,G!$V$1:$W$100,2),INDEX(G!$C$2:$C$93,MATCH(Stammdaten!D101&Stammdaten!E101,G!$A$2:$A$93&G!$B$2:$B$93,0))))","v":""},"",{"$f":"IF(E101=\"Projekt bzw. BDA\",O101/100*I101*K101,IF(AND(E101=\"Diplomarbeit/Prüfer\",K101>=5),O101/100*I101*5,IF(AND(E101=\"Betreuung bis 5 FBA\",K101>=2),O101/100*I101*1,IF(AND(E101=\"Betreuung FBA/je Prüfer\",K101>=2),O101/100*I101*1,IF(K101<>\"\",(O101/100*I101*K101),IF(K101=\"\",\"\"))))))","v":""}]
[{"$f":"IF(B102=\"\",\"\",VLOOKUP(B102,Lehrerliste!$A$1:$B$8857,2,0))","v":""},null,null,null,null,null,null,null,null,null,null,"","","",{"$f":"IF(E102=\"\",\"\",IF(E102=\"Projekt bzw. BDA\",VLOOKUP(J102,G!$V$1:$W$100,2),INDEX(G!$C$2:$C$93,MATCH(Stammdaten!D102&Stammdaten!E102,G!$A$2:$A$93&G!$B$2:$B$93,0))))","v":""},"",{"$f":"IF(E102=\"Projekt bzw. BDA\",O102/100*I102*K102,IF(AND(E102=\"Diplomarbeit/Prüfer\",K102>=5),O102/100*I102*5,IF(AND(E102=\"Betreuung bis 5 FBA\",K102>=2),O102/100*I102*1,IF(AND(E102=\"Betreuung FBA/je Prüfer\",K102>=2),O102/100*I102*1,IF(K102<>\"\",(O102/100*I102*K102),IF(K102=\"\",\"\"))))))","v":""}]
[{"$f":"IF(B103=\"\",\"\",VLOOKUP(B103,Lehrerliste!$A$1:$B$8857,2,0))","v":""},null,null,null,null,null,null,null,null,null,null,"","","",{"$f":"IF(E103=\"\",\"\",IF(E103=\"Projekt bzw. BDA\",VLOOKUP(J103,G!$V$1:$W$100,2),INDEX(G!$C$2:$C$93,MATCH(Stammdaten!D103&Stammdaten!E103,G!$A$2:$A$93&G!$B$2:$B$93,0))))","v":""},"",{"$f":"IF(E103=\"Projekt bzw. BDA\",O103/100*I103*K103,IF(AND(E103=\"Diplomarbeit/Prüfer\",K103>=5),O103/100*I103*5,IF(AND(E103=\"Betreuung bis 5 FBA\",K103>=2),O103/100*I103*1,IF(AND(E103=\"Betreuung FBA/je Prüfer\",K103>=2),O103/100*I103*1,IF(K103<>\"\",(O103/100*I103*K103),IF(K103=\"\",\"\"))))))","v":""}]
[{"$f":"IF(B104=\"\",\"\",VLOOKUP(B104,Lehrerliste!$A$1:$B$8857,2,0))","v":""},null,null,null,null,null,null,null,null,null,null,"","","",{"$f":"IF(E104=\"\",\"\",IF(E104=\"Projekt bzw. BDA\",VLOOKUP(J104,G!$V$1:$W$100,2),INDEX(G!$C$2:$C$93,MATCH(Stammdaten!D104&Stammdaten!E104,G!$A$2:$A$93&G!$B$2:$B$93,0))))","v":""},"",{"$f":"IF(E104=\"Projekt bzw. BDA\",O104/100*I104*K104,IF(AND(E104=\"Diplomarbeit/Prüfer\",K104>=5),O104/100*I104*5,IF(AND(E104=\"Betreuung bis 5 FBA\",K104>=2),O104/100*I104*1,IF(AND(E104=\"Betreuung FBA/je Prüfer\",K104>=2),O104/100*I104*1,IF(K104<>\"\",(O104/100*I104*K104),IF(K104=\"\",\"\"))))))","v":""}]
[{"$f":"IF(B105=\"\",\"\",VLOOKUP(B105,Lehrerliste!$A$1:$B$8857,2,0))","v":""},null,null,null,null,null,null,null,null,null,null,"","","",{"$f":"IF(E105=\"\",\"\",IF(E105=\"Projekt bzw. BDA\",VLOOKUP(J105,G!$V$1:$W$100,2),INDEX(G!$C$2:$C$93,MATCH(Stammdaten!D105&Stammdaten!E105,G!$A$2:$A$93&G!$B$2:$B$93,0))))","v":""},"",{"$f":"IF(E105=\"Projekt bzw. BDA\",O105/100*I105*K105,IF(AND(E105=\"Diplomarbeit/Prüfer\",K105>=5),O105/100*I105*5,IF(AND(E105=\"Betreuung bis 5 FBA\",K105>=2),O105/100*I105*1,IF(AND(E105=\"Betreuung FBA/je Prüfer\",K105>=2),O105/100*I105*1,IF(K105<>\"\",(O105/100*I105*K105),IF(K105=\"\",\"\"))))))","v":""}]
[{"$f":"IF(B106=\"\",\"\",VLOOKUP(B106,Lehrerliste!$A$1:$B$8857,2,0))","v":""},null,null,null,null,null,null,null,null,null,null,"","","",{"$f":"IF(E106=\"\",\"\",IF(E106=\"Projekt bzw. BDA\",VLOOKUP(J106,G!$V$1:$W$100,2),INDEX(G!$C$2:$C$93,MATCH(Stammdaten!D106&Stammdaten!E106,G!$A$2:$A$93&G!$B$2:$B$93,0))))","v":""},"",{"$f":"IF(E106=\"Projekt bzw. BDA\",O106/100*I106*K106,IF(AND(E106=\"Diplomarbeit/Prüfer\",K106>=5),O106/100*I106*5,IF(AND(E106=\"Betreuung bis 5 FBA\",K106>=2),O106/100*I106*1,IF(AND(E106=\"Betreuung FBA/je Prüfer\",K106>=2),O106/100*I106*1,IF(K106<>\"\",(O106/100*I106*K106),IF(K106=\"\",\"\"))))))","v":""}]
[{"$f":"IF(B107=\"\",\"\",VLOOKUP(B107,Lehrerliste!$A$1:$B$8857,2,0))","v":""},null,null,null,null,null,null,null,null,null,null,"","","",{"$f":"IF(E107=\"\",\"\",IF(E107=\"Projekt bzw. BDA\",VLOOKUP(J107,G!$V$1:$W$100,2),INDEX(G!$C$2:$C$93,MATCH(Stammdaten!D107&Stammdaten!E107,G!$A$2:$A$93&G!$B$2:$B$93,0))))","v":""},"",{"$f":"IF(E107=\"Projekt bzw. BDA\",O107/100*I107*K107,IF(AND(E107=\"Diplomarbeit/Prüfer\",K107>=5),O107/100*I107*5,IF(AND(E107=\"Betreuung bis 5 FBA\",K107>=2),O107/100*I107*1,IF(AND(E107=\"Betreuung FBA/je Prüfer\",K107>=2),O107/100*I107*1,IF(K107<>\"\",(O107/100*I107*K107),IF(K107=\"\",\"\"))))))","v":""}]
[{"$f":"IF(B108=\"\",\"\",VLOOKUP(B108,Lehrerliste!$A$1:$B$8857,2,0))","v":""},null,null,null,null,null,null,null,null,null,null,"","","",{"$f":"IF(E108=\"\",\"\",IF(E108=\"Projekt bzw. BDA\",VLOOKUP(J108,G!$V$1:$W$100,2),INDEX(G!$C$2:$C$93,MATCH(Stammdaten!D108&Stammdaten!E108,G!$A$2:$A$93&G!$B$2:$B$93,0))))","v":""},"",{"$f":"IF(E108=\"Projekt bzw. BDA\",O108/100*I108*K108,IF(AND(E108=\"Diplomarbeit/Prüfer\",K108>=5),O108/100*I108*5,IF(AND(E108=\"Betreuung bis 5 FBA\",K108>=2),O108/100*I108*1,IF(AND(E108=\"Betreuung FBA/je Prüfer\",K108>=2),O108/100*I108*1,IF(K108<>\"\",(O108/100*I108*K108),IF(K108=\"\",\"\"))))))","v":""}]
[{"$f":"IF(B109=\"\",\"\",VLOOKUP(B109,Lehrerliste!$A$1:$B$8857,2,0))","v":""},null,null,null,null,null,null,null,null,null,null,"","","",{"$f":"IF(E109=\"\",\"\",IF(E109=\"Projekt bzw. BDA\",VLOOKUP(J109,G!$V$1:$W$100,2),INDEX(G!$C$2:$C$93,MATCH(Stammdaten!D109&Stammdaten!E109,G!$A$2:$A$93&G!$B$2:$B$93,0))))","v":""},"",{"$f":"IF(E109=\"Projekt bzw. BDA\",O109/100*I109*K109,IF(AND(E109=\"Diplomarbeit/Prüfer\",K109>=5),O109/100*I109*5,IF(AND(E109=\"Betreuung bis 5 FBA\",K109>=2),O109/100*I109*1,IF(AND(E109=\"Betreuung FBA/je Prüfer\",K109>=2),O109/100*I109*1,IF(K109<>\"\",(O109/100*I109*K109),IF(K109=\"\",\"\"))))))","v":""}]
[{"$f":"IF(B110=\"\",\"\",VLOOKUP(B110,Lehrerliste!$A$1:$B$8857,2,0))","v":""},null,null,null,null,null,null,null,null,null,null,"","","",{"$f":"IF(E110=\"\",\"\",IF(E110=\"Projekt bzw. BDA\",VLOOKUP(J110,G!$V$1:$W$100,2),INDEX(G!$C$2:$C$93,MATCH(Stammdaten!D110&Stammdaten!E110,G!$A$2:$A$93&G!$B$2:$B$93,0))))","v":""},"",{"$f":"IF(E110=\"Projekt bzw. BDA\",O110/100*I110*K110,IF(AND(E110=\"Diplomarbeit/Prüfer\",K110>=5),O110/100*I110*5,IF(AND(E110=\"Betreuung bis 5 FBA\",K110>=2),O110/100*I110*1,IF(AND(E110=\"Betreuung FBA/je Prüfer\",K110>=2),O110/100*I110*1,IF(K110<>\"\",(O110/100*I110*K110),IF(K110=\"\",\"\"))))))","v":""}]
[{"$f":"IF(B111=\"\",\"\",VLOOKUP(B111,Lehrerliste!$A$1:$B$8857,2,0))","v":""},null,null,null,null,null,null,null,null,null,null,"","","",{"$f":"IF(E111=\"\",\"\",IF(E111=\"Projekt bzw. BDA\",VLOOKUP(J111,G!$V$1:$W$100,2),INDEX(G!$C$2:$C$93,MATCH(Stammdaten!D111&Stammdaten!E111,G!$A$2:$A$93&G!$B$2:$B$93,0))))","v":""},"",{"$f":"IF(E111=\"Projekt bzw. BDA\",O111/100*I111*K111,IF(AND(E111=\"Diplomarbeit/Prüfer\",K111>=5),O111/100*I111*5,IF(AND(E111=\"Betreuung bis 5 FBA\",K111>=2),O111/100*I111*1,IF(AND(E111=\"Betreuung FBA/je Prüfer\",K111>=2),O111/100*I111*1,IF(K111<>\"\",(O111/100*I111*K111),IF(K111=\"\",\"\"))))))","v":""}]
[{"$f":"IF(B112=\"\",\"\",VLOOKUP(B112,Lehrerliste!$A$1:$B$8857,2,0))","v":""},null,null,null,null,null,null,null,null,null,null,"","","",{"$f":"IF(E112=\"\",\"\",IF(E112=\"Projekt bzw. BDA\",VLOOKUP(J112,G!$V$1:$W$100,2),INDEX(G!$C$2:$C$93,MATCH(Stammdaten!D112&Stammdaten!E112,G!$A$2:$A$93&G!$B$2:$B$93,0))))","v":""},"",{"$f":"IF(E112=\"Projekt bzw. BDA\",O112/100*I112*K112,IF(AND(E112=\"Diplomarbeit/Prüfer\",K112>=5),O112/100*I112*5,IF(AND(E112=\"Betreuung bis 5 FBA\",K112>=2),O112/100*I112*1,IF(AND(E112=\"Betreuung FBA/je Prüfer\",K112>=2),O112/100*I112*1,IF(K112<>\"\",(O112/100*I112*K112),IF(K112=\"\",\"\"))))))","v":""}]
[{"$f":"IF(B113=\"\",\"\",VLOOKUP(B113,Lehrerliste!$A$1:$B$8857,2,0))","v":""},null,null,null,null,null,null,null,null,null,null,"","","",{"$f":"IF(E113=\"\",\"\",IF(E113=\"Projekt bzw. BDA\",VLOOKUP(J113,G!$V$1:$W$100,2),INDEX(G!$C$2:$C$93,MATCH(Stammdaten!D113&Stammdaten!E113,G!$A$2:$A$93&G!$B$2:$B$93,0))))","v":""},"",{"$f":"IF(E113=\"Projekt bzw. BDA\",O113/100*I113*K113,IF(AND(E113=\"Diplomarbeit/Prüfer\",K113>=5),O113/100*I113*5,IF(AND(E113=\"Betreuung bis 5 FBA\",K113>=2),O113/100*I113*1,IF(AND(E113=\"Betreuung FBA/je Prüfer\",K113>=2),O113/100*I113*1,IF(K113<>\"\",(O113/100*I113*K113),IF(K113=\"\",\"\"))))))","v":""}]
[{"$f":"IF(B114=\"\",\"\",VLOOKUP(B114,Lehrerliste!$A$1:$B$8857,2,0))","v":""},null,null,null,null,null,null,null,null,null,null,"","","",{"$f":"IF(E114=\"\",\"\",IF(E114=\"Projekt bzw. BDA\",VLOOKUP(J114,G!$V$1:$W$100,2),INDEX(G!$C$2:$C$93,MATCH(Stammdaten!D114&Stammdaten!E114,G!$A$2:$A$93&G!$B$2:$B$93,0))))","v":""},"",{"$f":"IF(E114=\"Projekt bzw. BDA\",O114/100*I114*K114,IF(AND(E114=\"Diplomarbeit/Prüfer\",K114>=5),O114/100*I114*5,IF(AND(E114=\"Betreuung bis 5 FBA\",K114>=2),O114/100*I114*1,IF(AND(E114=\"Betreuung FBA/je Prüfer\",K114>=2),O114/100*I114*1,IF(K114<>\"\",(O114/100*I114*K114),IF(K114=\"\",\"\"))))))","v":""}]
[{"$f":"IF(B115=\"\",\"\",VLOOKUP(B115,Lehrerliste!$A$1:$B$8857,2,0))","v":""},null,null,null,null,null,null,null,null,null,null,"","","",{"$f":"IF(E115=\"\",\"\",IF(E115=\"Projekt bzw. BDA\",VLOOKUP(J115,G!$V$1:$W$100,2),INDEX(G!$C$2:$C$93,MATCH(Stammdaten!D115&Stammdaten!E115,G!$A$2:$A$93&G!$B$2:$B$93,0))))","v":""},"",{"$f":"IF(E115=\"Projekt bzw. BDA\",O115/100*I115*K115,IF(AND(E115=\"Diplomarbeit/Prüfer\",K115>=5),O115/100*I115*5,IF(AND(E115=\"Betreuung bis 5 FBA\",K115>=2),O115/100*I115*1,IF(AND(E115=\"Betreuung FBA/je Prüfer\",K115>=2),O115/100*I115*1,IF(K115<>\"\",(O115/100*I115*K115),IF(K115=\"\",\"\"))))))","v":""}]
[{"$f":"IF(B116=\"\",\"\",VLOOKUP(B116,Lehrerliste!$A$1:$B$8857,2,0))","v":""},null,null,null,null,null,null,null,null,null,null,"","","",{"$f":"IF(E116=\"\",\"\",IF(E116=\"Projekt bzw. BDA\",VLOOKUP(J116,G!$V$1:$W$100,2),INDEX(G!$C$2:$C$93,MATCH(Stammdaten!D116&Stammdaten!E116,G!$A$2:$A$93&G!$B$2:$B$93,0))))","v":""},"",{"$f":"IF(E116=\"Projekt bzw. BDA\",O116/100*I116*K116,IF(AND(E116=\"Diplomarbeit/Prüfer\",K116>=5),O116/100*I116*5,IF(AND(E116=\"Betreuung bis 5 FBA\",K116>=2),O116/100*I116*1,IF(AND(E116=\"Betreuung FBA/je Prüfer\",K116>=2),O116/100*I116*1,IF(K116<>\"\",(O116/100*I116*K116),IF(K116=\"\",\"\"))))))","v":""}]
[{"$f":"IF(B117=\"\",\"\",VLOOKUP(B117,Lehrerliste!$A$1:$B$8857,2,0))","v":""},null,null,null,null,null,null,null,null,null,null,"","","",{"$f":"IF(E117=\"\",\"\",IF(E117=\"Projekt bzw. BDA\",VLOOKUP(J117,G!$V$1:$W$100,2),INDEX(G!$C$2:$C$93,MATCH(Stammdaten!D117&Stammdaten!E117,G!$A$2:$A$93&G!$B$2:$B$93,0))))","v":""},"",{"$f":"IF(E117=\"Projekt bzw. BDA\",O117/100*I117*K117,IF(AND(E117=\"Diplomarbeit/Prüfer\",K117>=5),O117/100*I117*5,IF(AND(E117=\"Betreuung bis 5 FBA\",K117>=2),O117/100*I117*1,IF(AND(E117=\"Betreuung FBA/je Prüfer\",K117>=2),O117/100*I117*1,IF(K117<>\"\",(O117/100*I117*K117),IF(K117=\"\",\"\"))))))","v":""}]
[{"$f":"IF(B118=\"\",\"\",VLOOKUP(B118,Lehrerliste!$A$1:$B$8857,2,0))","v":""},null,null,null,null,null,null,null,null,null,null,"","","",{"$f":"IF(E118=\"\",\"\",IF(E118=\"Projekt bzw. BDA\",VLOOKUP(J118,G!$V$1:$W$100,2),INDEX(G!$C$2:$C$93,MATCH(Stammdaten!D118&Stammdaten!E118,G!$A$2:$A$93&G!$B$2:$B$93,0))))","v":""},"",{"$f":"IF(E118=\"Projekt bzw. BDA\",O118/100*I118*K118,IF(AND(E118=\"Diplomarbeit/Prüfer\",K118>=5),O118/100*I118*5,IF(AND(E118=\"Betreuung bis 5 FBA\",K118>=2),O118/100*I118*1,IF(AND(E118=\"Betreuung FBA/je Prüfer\",K118>=2),O118/100*I118*1,IF(K118<>\"\",(O118/100*I118*K118),IF(K118=\"\",\"\"))))))","v":""}]
[{"$f":"IF(B119=\"\",\"\",VLOOKUP(B119,Lehrerliste!$A$1:$B$8857,2,0))","v":""},null,null,null,null,null,null,null,null,null,null,"","","",{"$f":"IF(E119=\"\",\"\",IF(E119=\"Projekt bzw. BDA\",VLOOKUP(J119,G!$V$1:$W$100,2),INDEX(G!$C$2:$C$93,MATCH(Stammdaten!D119&Stammdaten!E119,G!$A$2:$A$93&G!$B$2:$B$93,0))))","v":""},"",{"$f":"IF(E119=\"Projekt bzw. BDA\",O119/100*I119*K119,IF(AND(E119=\"Diplomarbeit/Prüfer\",K119>=5),O119/100*I119*5,IF(AND(E119=\"Betreuung bis 5 FBA\",K119>=2),O119/100*I119*1,IF(AND(E119=\"Betreuung FBA/je Prüfer\",K119>=2),O119/100*I119*1,IF(K119<>\"\",(O119/100*I119*K119),IF(K119=\"\",\"\"))))))","v":""}]
[{"$f":"IF(B120=\"\",\"\",VLOOKUP(B120,Lehrerliste!$A$1:$B$8857,2,0))","v":""},null,null,null,null,null,null,null,null,null,null,"","","",{"$f":"IF(E120=\"\",\"\",IF(E120=\"Projekt bzw. BDA\",VLOOKUP(J120,G!$V$1:$W$100,2),INDEX(G!$C$2:$C$93,MATCH(Stammdaten!D120&Stammdaten!E120,G!$A$2:$A$93&G!$B$2:$B$93,0))))","v":""},"",{"$f":"IF(E120=\"Projekt bzw. BDA\",O120/100*I120*K120,IF(AND(E120=\"Diplomarbeit/Prüfer\",K120>=5),O120/100*I120*5,IF(AND(E120=\"Betreuung bis 5 FBA\",K120>=2),O120/100*I120*1,IF(AND(E120=\"Betreuung FBA/je Prüfer\",K120>=2),O120/100*I120*1,IF(K120<>\"\",(O120/100*I120*K120),IF(K120=\"\",\"\"))))))","v":""}]
[{"$f":"IF(B121=\"\",\"\",VLOOKUP(B121,Lehrerliste!$A$1:$B$8857,2,0))","v":""},null,null,null,null,null,null,null,null,null,null,"","","",{"$f":"IF(E121=\"\",\"\",IF(E121=\"Projekt bzw. BDA\",VLOOKUP(J121,G!$V$1:$W$100,2),INDEX(G!$C$2:$C$93,MATCH(Stammdaten!D121&Stammdaten!E121,G!$A$2:$A$93&G!$B$2:$B$93,0))))","v":""},"",{"$f":"IF(E121=\"Projekt bzw. BDA\",O121/100*I121*K121,IF(AND(E121=\"Diplomarbeit/Prüfer\",K121>=5),O121/100*I121*5,IF(AND(E121=\"Betreuung bis 5 FBA\",K121>=2),O121/100*I121*1,IF(AND(E121=\"Betreuung FBA/je Prüfer\",K121>=2),O121/100*I121*1,IF(K121<>\"\",(O121/100*I121*K121),IF(K121=\"\",\"\"))))))","v":""}]
[{"$f":"IF(B122=\"\",\"\",VLOOKUP(B122,Lehrerliste!$A$1:$B$8857,2,0))","v":""},null,null,null,null,null,null,null,null,null,null,"","","",{"$f":"IF(E122=\"\",\"\",IF(E122=\"Projekt bzw. BDA\",VLOOKUP(J122,G!$V$1:$W$100,2),INDEX(G!$C$2:$C$93,MATCH(Stammdaten!D122&Stammdaten!E122,G!$A$2:$A$93&G!$B$2:$B$93,0))))","v":""},"",{"$f":"IF(E122=\"Projekt bzw. BDA\",O122/100*I122*K122,IF(AND(E122=\"Diplomarbeit/Prüfer\",K122>=5),O122/100*I122*5,IF(AND(E122=\"Betreuung bis 5 FBA\",K122>=2),O122/100*I122*1,IF(AND(E122=\"Betreuung FBA/je Prüfer\",K122>=2),O122/100*I122*1,IF(K122<>\"\",(O122/100*I122*K122),IF(K122=\"\",\"\"))))))","v":""}]
[{"$f":"IF(B123=\"\",\"\",VLOOKUP(B123,Lehrerliste!$A$1:$B$8857,2,0))","v":""},null,null,null,null,null,null,null,null,null,null,"","","",{"$f":"IF(E123=\"\",\"\",IF(E123=\"Projekt bzw. BDA\",VLOOKUP(J123,G!$V$1:$W$100,2),INDEX(G!$C$2:$C$93,MATCH(Stammdaten!D123&Stammdaten!E123,G!$A$2:$A$93&G!$B$2:$B$93,0))))","v":""},"",{"$f":"IF(E123=\"Projekt bzw. BDA\",O123/100*I123*K123,IF(AND(E123=\"Diplomarbeit/Prüfer\",K123>=5),O123/100*I123*5,IF(AND(E123=\"Betreuung bis 5 FBA\",K123>=2),O123/100*I123*1,IF(AND(E123=\"Betreuung FBA/je Prüfer\",K123>=2),O123/100*I123*1,IF(K123<>\"\",(O123/100*I123*K123),IF(K123=\"\",\"\"))))))","v":""}]
[{"$f":"IF(B124=\"\",\"\",VLOOKUP(B124,Lehrerliste!$A$1:$B$8857,2,0))","v":""},null,null,null,null,null,null,null,null,null,null,"","","",{"$f":"IF(E124=\"\",\"\",IF(E124=\"Projekt bzw. BDA\",VLOOKUP(J124,G!$V$1:$W$100,2),INDEX(G!$C$2:$C$93,MATCH(Stammdaten!D124&Stammdaten!E124,G!$A$2:$A$93&G!$B$2:$B$93,0))))","v":""},"",{"$f":"IF(E124=\"Projekt bzw. BDA\",O124/100*I124*K124,IF(AND(E124=\"Diplomarbeit/Prüfer\",K124>=5),O124/100*I124*5,IF(AND(E124=\"Betreuung bis 5 FBA\",K124>=2),O124/100*I124*1,IF(AND(E124=\"Betreuung FBA/je Prüfer\",K124>=2),O124/100*I124*1,IF(K124<>\"\",(O124/100*I124*K124),IF(K124=\"\",\"\"))))))","v":""}]
[{"$f":"IF(B125=\"\",\"\",VLOOKUP(B125,Lehrerliste!$A$1:$B$8857,2,0))","v":""},null,null,null,null,null,null,null,null,null,null,"","","",{"$f":"IF(E125=\"\",\"\",IF(E125=\"Projekt bzw. BDA\",VLOOKUP(J125,G!$V$1:$W$100,2),INDEX(G!$C$2:$C$93,MATCH(Stammdaten!D125&Stammdaten!E125,G!$A$2:$A$93&G!$B$2:$B$93,0))))","v":""},"",{"$f":"IF(E125=\"Projekt bzw. BDA\",O125/100*I125*K125,IF(AND(E125=\"Diplomarbeit/Prüfer\",K125>=5),O125/100*I125*5,IF(AND(E125=\"Betreuung bis 5 FBA\",K125>=2),O125/100*I125*1,IF(AND(E125=\"Betreuung FBA/je Prüfer\",K125>=2),O125/100*I125*1,IF(K125<>\"\",(O125/100*I125*K125),IF(K125=\"\",\"\"))))))","v":""}]
[{"$f":"IF(B126=\"\",\"\",VLOOKUP(B126,Lehrerliste!$A$1:$B$8857,2,0))","v":""},null,null,null,null,null,null,null,null,null,null,"","","",{"$f":"IF(E126=\"\",\"\",IF(E126=\"Projekt bzw. BDA\",VLOOKUP(J126,G!$V$1:$W$100,2),INDEX(G!$C$2:$C$93,MATCH(Stammdaten!D126&Stammdaten!E126,G!$A$2:$A$93&G!$B$2:$B$93,0))))","v":""},"",{"$f":"IF(E126=\"Projekt bzw. BDA\",O126/100*I126*K126,IF(AND(E126=\"Diplomarbeit/Prüfer\",K126>=5),O126/100*I126*5,IF(AND(E126=\"Betreuung bis 5 FBA\",K126>=2),O126/100*I126*1,IF(AND(E126=\"Betreuung FBA/je Prüfer\",K126>=2),O126/100*I126*1,IF(K126<>\"\",(O126/100*I126*K126),IF(K126=\"\",\"\"))))))","v":""}]
[{"$f":"IF(B127=\"\",\"\",VLOOKUP(B127,Lehrerliste!$A$1:$B$8857,2,0))","v":""},null,null,null,null,null,null,null,null,null,null,"","","",{"$f":"IF(E127=\"\",\"\",IF(E127=\"Projekt bzw. BDA\",VLOOKUP(J127,G!$V$1:$W$100,2),INDEX(G!$C$2:$C$93,MATCH(Stammdaten!D127&Stammdaten!E127,G!$A$2:$A$93&G!$B$2:$B$93,0))))","v":""},"",{"$f":"IF(E127=\"Projekt bzw. BDA\",O127/100*I127*K127,IF(AND(E127=\"Diplomarbeit/Prüfer\",K127>=5),O127/100*I127*5,IF(AND(E127=\"Betreuung bis 5 FBA\",K127>=2),O127/100*I127*1,IF(AND(E127=\"Betreuung FBA/je Prüfer\",K127>=2),O127/100*I127*1,IF(K127<>\"\",(O127/100*I127*K127),IF(K127=\"\",\"\"))))))","v":""}]
[{"$f":"IF(B128=\"\",\"\",VLOOKUP(B128,Lehrerliste!$A$1:$B$8857,2,0))","v":""},null,null,null,null,null,null,null,null,null,null,"","","",{"$f":"IF(E128=\"\",\"\",IF(E128=\"Projekt bzw. BDA\",VLOOKUP(J128,G!$V$1:$W$100,2),INDEX(G!$C$2:$C$93,MATCH(Stammdaten!D128&Stammdaten!E128,G!$A$2:$A$93&G!$B$2:$B$93,0))))","v":""},"",{"$f":"IF(E128=\"Projekt bzw. BDA\",O128/100*I128*K128,IF(AND(E128=\"Diplomarbeit/Prüfer\",K128>=5),O128/100*I128*5,IF(AND(E128=\"Betreuung bis 5 FBA\",K128>=2),O128/100*I128*1,IF(AND(E128=\"Betreuung FBA/je Prüfer\",K128>=2),O128/100*I128*1,IF(K128<>\"\",(O128/100*I128*K128),IF(K128=\"\",\"\"))))))","v":""}]
[{"$f":"IF(B129=\"\",\"\",VLOOKUP(B129,Lehrerliste!$A$1:$B$8857,2,0))","v":""},null,null,null,null,null,null,null,null,null,null,"","","",{"$f":"IF(E129=\"\",\"\",IF(E129=\"Projekt bzw. BDA\",VLOOKUP(J129,G!$V$1:$W$100,2),INDEX(G!$C$2:$C$93,MATCH(Stammdaten!D129&Stammdaten!E129,G!$A$2:$A$93&G!$B$2:$B$93,0))))","v":""},"",{"$f":"IF(E129=\"Projekt bzw. BDA\",O129/100*I129*K129,IF(AND(E129=\"Diplomarbeit/Prüfer\",K129>=5),O129/100*I129*5,IF(AND(E129=\"Betreuung bis 5 FBA\",K129>=2),O129/100*I129*1,IF(AND(E129=\"Betreuung FBA/je Prüfer\",K129>=2),O129/100*I129*1,IF(K129<>\"\",(O129/100*I129*K129),IF(K129=\"\",\"\"))))))","v":""}]
[{"$f":"IF(B130=\"\",\"\",VLOOKUP(B130,Lehrerliste!$A$1:$B$8857,2,0))","v":""},null,null,null,null,null,null,null,null,null,null,"","","",{"$f":"IF(E130=\"\",\"\",IF(E130=\"Projekt bzw. BDA\",VLOOKUP(J130,G!$V$1:$W$100,2),INDEX(G!$C$2:$C$93,MATCH(Stammdaten!D130&Stammdaten!E130,G!$A$2:$A$93&G!$B$2:$B$93,0))))","v":""},"",{"$f":"IF(E130=\"Projekt bzw. BDA\",O130/100*I130*K130,IF(AND(E130=\"Diplomarbeit/Prüfer\",K130>=5),O130/100*I130*5,IF(AND(E130=\"Betreuung bis 5 FBA\",K130>=2),O130/100*I130*1,IF(AND(E130=\"Betreuung FBA/je Prüfer\",K130>=2),O130/100*I130*1,IF(K130<>\"\",(O130/100*I130*K130),IF(K130=\"\",\"\"))))))","v":""}]
[{"$f":"IF(B131=\"\",\"\",VLOOKUP(B131,Lehrerliste!$A$1:$B$8857,2,0))","v":""},null,null,null,null,null,null,null,null,null,null,"","","",{"$f":"IF(E131=\"\",\"\",IF(E131=\"Projekt bzw. BDA\",VLOOKUP(J131,G!$V$1:$W$100,2),INDEX(G!$C$2:$C$93,MATCH(Stammdaten!D131&Stammdaten!E131,G!$A$2:$A$93&G!$B$2:$B$93,0))))","v":""},"",{"$f":"IF(E131=\"Projekt bzw. BDA\",O131/100*I131*K131,IF(AND(E131=\"Diplomarbeit/Prüfer\",K131>=5),O131/100*I131*5,IF(AND(E131=\"Betreuung bis 5 FBA\",K131>=2),O131/100*I131*1,IF(AND(E131=\"Betreuung FBA/je Prüfer\",K131>=2),O131/100*I131*1,IF(K131<>\"\",(O131/100*I131*K131),IF(K131=\"\",\"\"))))))","v":""}]
[{"$f":"IF(B132=\"\",\"\",VLOOKUP(B132,Lehrerliste!$A$1:$B$8857,2,0))","v":""},null,null,null,null,null,null,null,null,null,null,"","","",{"$f":"IF(E132=\"\",\"\",IF(E132=\"Projekt bzw. BDA\",VLOOKUP(J132,G!$V$1:$W$100,2),INDEX(G!$C$2:$C$93,MATCH(Stammdaten!D132&Stammdaten!E132,G!$A$2:$A$93&G!$B$2:$B$93,0))))","v":""},"",{"$f":"IF(E132=\"Projekt bzw. BDA\",O132/100*I132*K132,IF(AND(E132=\"Diplomarbeit/Prüfer\",K132>=5),O132/100*I132*5,IF(AND(E132=\"Betreuung bis 5 FBA\",K132>=2),O132/100*I132*1,IF(AND(E132=\"Betreuung FBA/je Prüfer\",K132>=2),O132/100*I132*1,IF(K132<>\"\",(O132/100*I132*K132),IF(K132=\"\",\"\"))))))","v":""}]
[{"$f":"IF(B133=\"\",\"\",VLOOKUP(B133,Lehrerliste!$A$1:$B$8857,2,0))","v":""},null,null,null,null,null,null,null,null,null,null,"","","",{"$f":"IF(E133=\"\",\"\",IF(E133=\"Projekt bzw. BDA\",VLOOKUP(J133,G!$V$1:$W$100,2),INDEX(G!$C$2:$C$93,MATCH(Stammdaten!D133&Stammdaten!E133,G!$A$2:$A$93&G!$B$2:$B$93,0))))","v":""},"",{"$f":"IF(E133=\"Projekt bzw. BDA\",O133/100*I133*K133,IF(AND(E133=\"Diplomarbeit/Prüfer\",K133>=5),O133/100*I133*5,IF(AND(E133=\"Betreuung bis 5 FBA\",K133>=2),O133/100*I133*1,IF(AND(E133=\"Betreuung FBA/je Prüfer\",K133>=2),O133/100*I133*1,IF(K133<>\"\",(O133/100*I133*K133),IF(K133=\"\",\"\"))))))","v":""}]
[{"$f":"IF(B134=\"\",\"\",VLOOKUP(B134,Lehrerliste!$A$1:$B$8857,2,0))","v":""},null,null,null,null,null,null,null,null,null,null,"","","",{"$f":"IF(E134=\"\",\"\",IF(E134=\"Projekt bzw. BDA\",VLOOKUP(J134,G!$V$1:$W$100,2),INDEX(G!$C$2:$C$93,MATCH(Stammdaten!D134&Stammdaten!E134,G!$A$2:$A$93&G!$B$2:$B$93,0))))","v":""},"",{"$f":"IF(E134=\"Projekt bzw. BDA\",O134/100*I134*K134,IF(AND(E134=\"Diplomarbeit/Prüfer\",K134>=5),O134/100*I134*5,IF(AND(E134=\"Betreuung bis 5 FBA\",K134>=2),O134/100*I134*1,IF(AND(E134=\"Betreuung FBA/je Prüfer\",K134>=2),O134/100*I134*1,IF(K134<>\"\",(O134/100*I134*K134),IF(K134=\"\",\"\"))))))","v":""}]
[{"$f":"IF(B135=\"\",\"\",VLOOKUP(B135,Lehrerliste!$A$1:$B$8857,2,0))","v":""},null,null,null,null,null,null,null,null,null,null,"","","",{"$f":"IF(E135=\"\",\"\",IF(E135=\"Projekt bzw. BDA\",VLOOKUP(J135,G!$V$1:$W$100,2),INDEX(G!$C$2:$C$93,MATCH(Stammdaten!D135&Stammdaten!E135,G!$A$2:$A$93&G!$B$2:$B$93,0))))","v":""},"",{"$f":"IF(E135=\"Projekt bzw. BDA\",O135/100*I135*K135,IF(AND(E135=\"Diplomarbeit/Prüfer\",K135>=5),O135/100*I135*5,IF(AND(E135=\"Betreuung bis 5 FBA\",K135>=2),O135/100*I135*1,IF(AND(E135=\"Betreuung FBA/je Prüfer\",K135>=2),O135/100*I135*1,IF(K135<>\"\",(O135/100*I135*K135),IF(K135=\"\",\"\"))))))","v":""}]
[{"$f":"IF(B136=\"\",\"\",VLOOKUP(B136,Lehrerliste!$A$1:$B$8857,2,0))","v":""},null,null,null,null,null,null,null,null,null,null,"","","",{"$f":"IF(E136=\"\",\"\",IF(E136=\"Projekt bzw. BDA\",VLOOKUP(J136,G!$V$1:$W$100,2),INDEX(G!$C$2:$C$93,MATCH(Stammdaten!D136&Stammdaten!E136,G!$A$2:$A$93&G!$B$2:$B$93,0))))","v":""},"",{"$f":"IF(E136=\"Projekt bzw. BDA\",O136/100*I136*K136,IF(AND(E136=\"Diplomarbeit/Prüfer\",K136>=5),O136/100*I136*5,IF(AND(E136=\"Betreuung bis 5 FBA\",K136>=2),O136/100*I136*1,IF(AND(E136=\"Betreuung FBA/je Prüfer\",K136>=2),O136/100*I136*1,IF(K136<>\"\",(O136/100*I136*K136),IF(K136=\"\",\"\"))))))","v":""}]
[{"$f":"IF(B137=\"\",\"\",VLOOKUP(B137,Lehrerliste!$A$1:$B$8857,2,0))","v":""},null,null,null,null,null,null,null,null,null,null,"","","",{"$f":"IF(E137=\"\",\"\",IF(E137=\"Projekt bzw. BDA\",VLOOKUP(J137,G!$V$1:$W$100,2),INDEX(G!$C$2:$C$93,MATCH(Stammdaten!D137&Stammdaten!E137,G!$A$2:$A$93&G!$B$2:$B$93,0))))","v":""},"",{"$f":"IF(E137=\"Projekt bzw. BDA\",O137/100*I137*K137,IF(AND(E137=\"Diplomarbeit/Prüfer\",K137>=5),O137/100*I137*5,IF(AND(E137=\"Betreuung bis 5 FBA\",K137>=2),O137/100*I137*1,IF(AND(E137=\"Betreuung FBA/je Prüfer\",K137>=2),O137/100*I137*1,IF(K137<>\"\",(O137/100*I137*K137),IF(K137=\"\",\"\"))))))","v":""}]
[{"$f":"IF(B138=\"\",\"\",VLOOKUP(B138,Lehrerliste!$A$1:$B$8857,2,0))","v":""},null,null,null,null,null,null,null,null,null,null,"","","",{"$f":"IF(E138=\"\",\"\",IF(E138=\"Projekt bzw. BDA\",VLOOKUP(J138,G!$V$1:$W$100,2),INDEX(G!$C$2:$C$93,MATCH(Stammdaten!D138&Stammdaten!E138,G!$A$2:$A$93&G!$B$2:$B$93,0))))","v":""},"",{"$f":"IF(E138=\"Projekt bzw. BDA\",O138/100*I138*K138,IF(AND(E138=\"Diplomarbeit/Prüfer\",K138>=5),O138/100*I138*5,IF(AND(E138=\"Betreuung bis 5 FBA\",K138>=2),O138/100*I138*1,IF(AND(E138=\"Betreuung FBA/je Prüfer\",K138>=2),O138/100*I138*1,IF(K138<>\"\",(O138/100*I138*K138),IF(K138=\"\",\"\"))))))","v":""}]
[{"$f":"IF(B139=\"\",\"\",VLOOKUP(B139,Lehrerliste!$A$1:$B$8857,2,0))","v":""},null,null,null,null,null,null,null,null,null,null,{"$f":"IF(D139=\"Reifepr./Diplompr.\",1,IF(D139=\"Abschlussprüfung\",10,IF(D139=\"Vorpr. d. Reifepr./Diplompr./AP\",2,IF(D139=\"Externistenreifeprüfung\",3,IF(D139=\"Zulassungsprüfung z. Extern.RP\",4,IF(D139=\"Sonst. Externistenprüfungen\",5,IF(D139=\"Aufnahms- u. Einstufungsprüfungen\",6,IF(D139=\"Komm. Prüfung/Kolloquien\",7,IF(D139=\"Zertifikatsprüfung Käsek./Jungbark.\",8,IF(D139=\"BRP / Lehre m. Matura\",9,IF(D139=\"Zertifikatsprüfung Weinsommelier\",8,\"\")))))))))))","v":""},{"$f":"IF(E139=\"Vorsitz\",1,IF(E139=\"Vorsitz/mdl. Kompens.\",1,IF(E139=\"Schulleiter/AV/fachk. LP\",1,IF(E139=\"Schulleit./AV/LP/mdl. Komp\",1,IF(E139=\"JV/FV/SK/LP\",1,IF(E139=\"JV/FV/SK/LP/mdl. Komp.\",1,IF(E139=\"Klassenvorstand\",1,IF(E139=\"Klassenvorst./mdl. Komp.\",1,IF(E139=\"Schulleiter/AV/LP\",1,IF(E139=\"KV/FV/SK/LP\",1,\"\"))))))))))","v":""},{"$f":"IFERROR(IF(K139=\"\",\"\",IF(AND(L139=1,M139=1),(O139*F139),IF(AND(L139=11,M139=1),(O139*F139), IF(AND(L139=10,M139=1),(O139*F139),VALUE(O139))))),\"\")","v":""},{"$f":"IF(E139=\"\",\"\",IF(E139=\"Projekt bzw. BDA\",VLOOKUP(J139,G!$V$1:$W$100,2),INDEX(G!$C$2:$C$93,MATCH(Stammdaten!D139&Stammdaten!E139,G!$A$2:$A$93&G!$B$2:$B$93,0))))","v":""},{"$f":"IFERROR(IF(B139=\"\",\"\",IF(K139=\"\",\"0,00\",IF(AND(L139=1,M139=1),VALUE(Q139*F139),IF(AND(L139=11,M139=1),VALUE(Q139*F139),IF(AND(L139=10,M139=1),VALUE(Q139*F139),VALUE(Q139)))))),\"\")","v":""},{"$f":"IF(E139=\"Projekt bzw. BDA\",O139/100*I139*K139,IF(AND(E139=\"Diplomarbeit/Prüfer\",K139>=5),O139/100*I139*5,IF(AND(E139=\"Betreuung bis 5 FBA\",K139>=2),O139/100*I139*1,IF(AND(E139=\"Betreuung FBA/je Prüfer\",K139>=2),O139/100*I139*1,IF(K139<>\"\",(O139/100*I139*K139),IF(K139=\"\",\"\"))))))","v":""}]
[{"$f":"IF(B140=\"\",\"\",VLOOKUP(B140,Lehrerliste!$A$1:$B$8857,2,0))","v":""},null,null,null,null,null,null,null,null,null,null,"","","",{"$f":"IF(E140=\"\",\"\",IF(E140=\"Projekt bzw. BDA\",VLOOKUP(J140,G!$V$1:$W$100,2),INDEX(G!$C$2:$C$93,MATCH(Stammdaten!D140&Stammdaten!E140,G!$A$2:$A$93&G!$B$2:$B$93,0))))","v":""},"",{"$f":"IF(E140=\"Projekt bzw. BDA\",O140/100*I140*K140,IF(AND(E140=\"Diplomarbeit/Prüfer\",K140>=5),O140/100*I140*5,IF(AND(E140=\"Betreuung bis 5 FBA\",K140>=2),O140/100*I140*1,IF(AND(E140=\"Betreuung FBA/je Prüfer\",K140>=2),O140/100*I140*1,IF(K140<>\"\",(O140/100*I140*K140),IF(K140=\"\",\"\"))))))","v":""}]
[{"$f":"IF(B141=\"\",\"\",VLOOKUP(B141,Lehrerliste!$A$1:$B$8857,2,0))","v":""},null,null,null,null,null,null,null,null,null,null,"","","",{"$f":"IF(E141=\"\",\"\",IF(E141=\"Projekt bzw. BDA\",VLOOKUP(J141,G!$V$1:$W$100,2),INDEX(G!$C$2:$C$93,MATCH(Stammdaten!D141&Stammdaten!E141,G!$A$2:$A$93&G!$B$2:$B$93,0))))","v":""},"",{"$f":"IF(E141=\"Projekt bzw. BDA\",O141/100*I141*K141,IF(AND(E141=\"Diplomarbeit/Prüfer\",K141>=5),O141/100*I141*5,IF(AND(E141=\"Betreuung bis 5 FBA\",K141>=2),O141/100*I141*1,IF(AND(E141=\"Betreuung FBA/je Prüfer\",K141>=2),O141/100*I141*1,IF(K141<>\"\",(O141/100*I141*K141),IF(K141=\"\",\"\"))))))","v":""}]
[{"$f":"IF(B142=\"\",\"\",VLOOKUP(B142,Lehrerliste!$A$1:$B$8857,2,0))","v":""},null,null,null,null,null,null,null,null,null,null,"","","",{"$f":"IF(E142=\"\",\"\",IF(E142=\"Projekt bzw. BDA\",VLOOKUP(J142,G!$V$1:$W$100,2),INDEX(G!$C$2:$C$93,MATCH(Stammdaten!D142&Stammdaten!E142,G!$A$2:$A$93&G!$B$2:$B$93,0))))","v":""},"",{"$f":"IF(E142=\"Projekt bzw. BDA\",O142/100*I142*K142,IF(AND(E142=\"Diplomarbeit/Prüfer\",K142>=5),O142/100*I142*5,IF(AND(E142=\"Betreuung bis 5 FBA\",K142>=2),O142/100*I142*1,IF(AND(E142=\"Betreuung FBA/je Prüfer\",K142>=2),O142/100*I142*1,IF(K142<>\"\",(O142/100*I142*K142),IF(K142=\"\",\"\"))))))","v":""}]
[{"$f":"IF(B143=\"\",\"\",VLOOKUP(B143,Lehrerliste!$A$1:$B$8857,2,0))","v":""},null,null,null,null,null,null,null,null,null,null,"","","",{"$f":"IF(E143=\"\",\"\",IF(E143=\"Projekt bzw. BDA\",VLOOKUP(J143,G!$V$1:$W$100,2),INDEX(G!$C$2:$C$93,MATCH(Stammdaten!D143&Stammdaten!E143,G!$A$2:$A$93&G!$B$2:$B$93,0))))","v":""},"",{"$f":"IF(E143=\"Projekt bzw. BDA\",O143/100*I143*K143,IF(AND(E143=\"Diplomarbeit/Prüfer\",K143>=5),O143/100*I143*5,IF(AND(E143=\"Betreuung bis 5 FBA\",K143>=2),O143/100*I143*1,IF(AND(E143=\"Betreuung FBA/je Prüfer\",K143>=2),O143/100*I143*1,IF(K143<>\"\",(O143/100*I143*K143),IF(K143=\"\",\"\"))))))","v":""}]
[{"$f":"IF(B144=\"\",\"\",VLOOKUP(B144,Lehrerliste!$A$1:$B$8857,2,0))","v":""},null,null,null,null,null,null,null,null,null,null,"","","",{"$f":"IF(E144=\"\",\"\",IF(E144=\"Projekt bzw. BDA\",VLOOKUP(J144,G!$V$1:$W$100,2),INDEX(G!$C$2:$C$93,MATCH(Stammdaten!D144&Stammdaten!E144,G!$A$2:$A$93&G!$B$2:$B$93,0))))","v":""},"",{"$f":"IF(E144=\"Projekt bzw. BDA\",O144/100*I144*K144,IF(AND(E144=\"Diplomarbeit/Prüfer\",K144>=5),O144/100*I144*5,IF(AND(E144=\"Betreuung bis 5 FBA\",K144>=2),O144/100*I144*1,IF(AND(E144=\"Betreuung FBA/je Prüfer\",K144>=2),O144/100*I144*1,IF(K144<>\"\",(O144/100*I144*K144),IF(K144=\"\",\"\"))))))","v":""}]
[{"$f":"IF(B145=\"\",\"\",VLOOKUP(B145,Lehrerliste!$A$1:$B$8857,2,0))","v":""},null,null,null,null,null,null,null,null,null,null,"","","",{"$f":"IF(E145=\"\",\"\",IF(E145=\"Projekt bzw. BDA\",VLOOKUP(J145,G!$V$1:$W$100,2),INDEX(G!$C$2:$C$93,MATCH(Stammdaten!D145&Stammdaten!E145,G!$A$2:$A$93&G!$B$2:$B$93,0))))","v":""},"",{"$f":"IF(E145=\"Projekt bzw. BDA\",O145/100*I145*K145,IF(AND(E145=\"Diplomarbeit/Prüfer\",K145>=5),O145/100*I145*5,IF(AND(E145=\"Betreuung bis 5 FBA\",K145>=2),O145/100*I145*1,IF(AND(E145=\"Betreuung FBA/je Prüfer\",K145>=2),O145/100*I145*1,IF(K145<>\"\",(O145/100*I145*K145),IF(K145=\"\",\"\"))))))","v":""}]
[{"$f":"IF(B146=\"\",\"\",VLOOKUP(B146,Lehrerliste!$A$1:$B$8857,2,0))","v":""},null,null,null,null,null,null,null,null,null,null,"","","",{"$f":"IF(E146=\"\",\"\",IF(E146=\"Projekt bzw. BDA\",VLOOKUP(J146,G!$V$1:$W$100,2),INDEX(G!$C$2:$C$93,MATCH(Stammdaten!D146&Stammdaten!E146,G!$A$2:$A$93&G!$B$2:$B$93,0))))","v":""},"",{"$f":"IF(E146=\"Projekt bzw. BDA\",O146/100*I146*K146,IF(AND(E146=\"Diplomarbeit/Prüfer\",K146>=5),O146/100*I146*5,IF(AND(E146=\"Betreuung bis 5 FBA\",K146>=2),O146/100*I146*1,IF(AND(E146=\"Betreuung FBA/je Prüfer\",K146>=2),O146/100*I146*1,IF(K146<>\"\",(O146/100*I146*K146),IF(K146=\"\",\"\"))))))","v":""}]
[{"$f":"IF(B147=\"\",\"\",VLOOKUP(B147,Lehrerliste!$A$1:$B$8857,2,0))","v":""},null,null,null,null,null,null,null,null,null,null,"","","",{"$f":"IF(E147=\"\",\"\",IF(E147=\"Projekt bzw. BDA\",VLOOKUP(J147,G!$V$1:$W$100,2),INDEX(G!$C$2:$C$93,MATCH(Stammdaten!D147&Stammdaten!E147,G!$A$2:$A$93&G!$B$2:$B$93,0))))","v":""},"",{"$f":"IF(E147=\"Projekt bzw. BDA\",O147/100*I147*K147,IF(AND(E147=\"Diplomarbeit/Prüfer\",K147>=5),O147/100*I147*5,IF(AND(E147=\"Betreuung bis 5 FBA\",K147>=2),O147/100*I147*1,IF(AND(E147=\"Betreuung FBA/je Prüfer\",K147>=2),O147/100*I147*1,IF(K147<>\"\",(O147/100*I147*K147),IF(K147=\"\",\"\"))))))","v":""}]
[{"$f":"IF(B148=\"\",\"\",VLOOKUP(B148,Lehrerliste!$A$1:$B$8857,2,0))","v":""},null,null,null,null,null,null,null,null,null,null,"","","",{"$f":"IF(E148=\"\",\"\",IF(E148=\"Projekt bzw. BDA\",VLOOKUP(J148,G!$V$1:$W$100,2),INDEX(G!$C$2:$C$93,MATCH(Stammdaten!D148&Stammdaten!E148,G!$A$2:$A$93&G!$B$2:$B$93,0))))","v":""},"",{"$f":"IF(E148=\"Projekt bzw. BDA\",O148/100*I148*K148,IF(AND(E148=\"Diplomarbeit/Prüfer\",K148>=5),O148/100*I148*5,IF(AND(E148=\"Betreuung bis 5 FBA\",K148>=2),O148/100*I148*1,IF(AND(E148=\"Betreuung FBA/je Prüfer\",K148>=2),O148/100*I148*1,IF(K148<>\"\",(O148/100*I148*K148),IF(K148=\"\",\"\"))))))","v":""}]
[{"$f":"IF(B149=\"\",\"\",VLOOKUP(B149,Lehrerliste!$A$1:$B$8857,2,0))","v":""},null,null,null,null,null,null,null,null,null,null,"","","",{"$f":"IF(E149=\"\",\"\",IF(E149=\"Projekt bzw. BDA\",VLOOKUP(J149,G!$V$1:$W$100,2),INDEX(G!$C$2:$C$93,MATCH(Stammdaten!D149&Stammdaten!E149,G!$A$2:$A$93&G!$B$2:$B$93,0))))","v":""},"",{"$f":"IF(E149=\"Projekt bzw. BDA\",O149/100*I149*K149,IF(AND(E149=\"Diplomarbeit/Prüfer\",K149>=5),O149/100*I149*5,IF(AND(E149=\"Betreuung bis 5 FBA\",K149>=2),O149/100*I149*1,IF(AND(E149=\"Betreuung FBA/je Prüfer\",K149>=2),O149/100*I149*1,IF(K149<>\"\",(O149/100*I149*K149),IF(K149=\"\",\"\"))))))","v":""}]
[{"$f":"IF(B150=\"\",\"\",VLOOKUP(B150,Lehrerliste!$A$1:$B$8857,2,0))","v":""},null,null,null,null,null,null,null,null,null,null,"","","",{"$f":"IF(E150=\"\",\"\",IF(E150=\"Projekt bzw. BDA\",VLOOKUP(J150,G!$V$1:$W$100,2),INDEX(G!$C$2:$C$93,MATCH(Stammdaten!D150&Stammdaten!E150,G!$A$2:$A$93&G!$B$2:$B$93,0))))","v":""},"",{"$f":"IF(E150=\"Projekt bzw. BDA\",O150/100*I150*K150,IF(AND(E150=\"Diplomarbeit/Prüfer\",K150>=5),O150/100*I150*5,IF(AND(E150=\"Betreuung bis 5 FBA\",K150>=2),O150/100*I150*1,IF(AND(E150=\"Betreuung FBA/je Prüfer\",K150>=2),O150/100*I150*1,IF(K150<>\"\",(O150/100*I150*K150),IF(K150=\"\",\"\"))))))","v":""}]
[{"$f":"IF(B151=\"\",\"\",VLOOKUP(B151,Lehrerliste!$A$1:$B$8857,2,0))","v":""},null,null,null,null,null,null,null,null,null,null,"","","",{"$f":"IF(E151=\"\",\"\",IF(E151=\"Projekt bzw. BDA\",VLOOKUP(J151,G!$V$1:$W$100,2),INDEX(G!$C$2:$C$93,MATCH(Stammdaten!D151&Stammdaten!E151,G!$A$2:$A$93&G!$B$2:$B$93,0))))","v":""},"",{"$f":"IF(E151=\"Projekt bzw. BDA\",O151/100*I151*K151,IF(AND(E151=\"Diplomarbeit/Prüfer\",K151>=5),O151/100*I151*5,IF(AND(E151=\"Betreuung bis 5 FBA\",K151>=2),O151/100*I151*1,IF(AND(E151=\"Betreuung FBA/je Prüfer\",K151>=2),O151/100*I151*1,IF(K151<>\"\",(O151/100*I151*K151),IF(K151=\"\",\"\"))))))","v":""}]
[{"$f":"IF(B152=\"\",\"\",VLOOKUP(B152,Lehrerliste!$A$1:$B$8857,2,0))","v":""},null,null,null,null,null,null,null,null,null,null,"","","",{"$f":"IF(E152=\"\",\"\",IF(E152=\"Projekt bzw. BDA\",VLOOKUP(J152,G!$V$1:$W$100,2),INDEX(G!$C$2:$C$93,MATCH(Stammdaten!D152&Stammdaten!E152,G!$A$2:$A$93&G!$B$2:$B$93,0))))","v":""},"",{"$f":"IF(E152=\"Projekt bzw. BDA\",O152/100*I152*K152,IF(AND(E152=\"Diplomarbeit/Prüfer\",K152>=5),O152/100*I152*5,IF(AND(E152=\"Betreuung bis 5 FBA\",K152>=2),O152/100*I152*1,IF(AND(E152=\"Betreuung FBA/je Prüfer\",K152>=2),O152/100*I152*1,IF(K152<>\"\",(O152/100*I152*K152),IF(K152=\"\",\"\"))))))","v":""}]
[{"$f":"IF(B153=\"\",\"\",VLOOKUP(B153,Lehrerliste!$A$1:$B$8857,2,0))","v":""},null,null,null,null,null,null,null,null,null,null,"","","",{"$f":"IF(E153=\"\",\"\",IF(E153=\"Projekt bzw. BDA\",VLOOKUP(J153,G!$V$1:$W$100,2),INDEX(G!$C$2:$C$93,MATCH(Stammdaten!D153&Stammdaten!E153,G!$A$2:$A$93&G!$B$2:$B$93,0))))","v":""},"",{"$f":"IF(E153=\"Projekt bzw. BDA\",O153/100*I153*K153,IF(AND(E153=\"Diplomarbeit/Prüfer\",K153>=5),O153/100*I153*5,IF(AND(E153=\"Betreuung bis 5 FBA\",K153>=2),O153/100*I153*1,IF(AND(E153=\"Betreuung FBA/je Prüfer\",K153>=2),O153/100*I153*1,IF(K153<>\"\",(O153/100*I153*K153),IF(K153=\"\",\"\"))))))","v":""}]
[{"$f":"IF(B154=\"\",\"\",VLOOKUP(B154,Lehrerliste!$A$1:$B$8857,2,0))","v":""},null,null,null,null,null,null,null,null,null,null,"","","",{"$f":"IF(E154=\"\",\"\",IF(E154=\"Projekt bzw. BDA\",VLOOKUP(J154,G!$V$1:$W$100,2),INDEX(G!$C$2:$C$93,MATCH(Stammdaten!D154&Stammdaten!E154,G!$A$2:$A$93&G!$B$2:$B$93,0))))","v":""},"",{"$f":"IF(E154=\"Projekt bzw. BDA\",O154/100*I154*K154,IF(AND(E154=\"Diplomarbeit/Prüfer\",K154>=5),O154/100*I154*5,IF(AND(E154=\"Betreuung bis 5 FBA\",K154>=2),O154/100*I154*1,IF(AND(E154=\"Betreuung FBA/je Prüfer\",K154>=2),O154/100*I154*1,IF(K154<>\"\",(O154/100*I154*K154),IF(K154=\"\",\"\"))))))","v":""}]
[{"$f":"IF(B155=\"\",\"\",VLOOKUP(B155,Lehrerliste!$A$1:$B$8857,2,0))","v":""},null,null,null,null,null,null,null,null,null,null,"","","",{"$f":"IF(E155=\"\",\"\",IF(E155=\"Projekt bzw. BDA\",VLOOKUP(J155,G!$V$1:$W$100,2),INDEX(G!$C$2:$C$93,MATCH(Stammdaten!D155&Stammdaten!E155,G!$A$2:$A$93&G!$B$2:$B$93,0))))","v":""},"",{"$f":"IF(E155=\"Projekt bzw. BDA\",O155/100*I155*K155,IF(AND(E155=\"Diplomarbeit/Prüfer\",K155>=5),O155/100*I155*5,IF(AND(E155=\"Betreuung bis 5 FBA\",K155>=2),O155/100*I155*1,IF(AND(E155=\"Betreuung FBA/je Prüfer\",K155>=2),O155/100*I155*1,IF(K155<>\"\",(O155/100*I155*K155),IF(K155=\"\",\"\"))))))","v":""}]
[{"$f":"IF(B156=\"\",\"\",VLOOKUP(B156,Lehrerliste!$A$1:$B$8857,2,0))","v":""},null,null,null,null,null,null,null,null,null,null,"","","",{"$f":"IF(E156=\"\",\"\",IF(E156=\"Projekt bzw. BDA\",VLOOKUP(J156,G!$V$1:$W$100,2),INDEX(G!$C$2:$C$93,MATCH(Stammdaten!D156&Stammdaten!E156,G!$A$2:$A$93&G!$B$2:$B$93,0))))","v":""},"",{"$f":"IF(E156=\"Projekt bzw. BDA\",O156/100*I156*K156,IF(AND(E156=\"Diplomarbeit/Prüfer\",K156>=5),O156/100*I156*5,IF(AND(E156=\"Betreuung bis 5 FBA\",K156>=2),O156/100*I156*1,IF(AND(E156=\"Betreuung FBA/je Prüfer\",K156>=2),O156/100*I156*1,IF(K156<>\"\",(O156/100*I156*K156),IF(K156=\"\",\"\"))))))","v":""}]
[{"$f":"IF(B157=\"\",\"\",VLOOKUP(B157,Lehrerliste!$A$1:$B$8857,2,0))","v":""},null,null,null,null,null,null,null,null,null,null,"","","",{"$f":"IF(E157=\"\",\"\",IF(E157=\"Projekt bzw. BDA\",VLOOKUP(J157,G!$V$1:$W$100,2),INDEX(G!$C$2:$C$93,MATCH(Stammdaten!D157&Stammdaten!E157,G!$A$2:$A$93&G!$B$2:$B$93,0))))","v":""},"",{"$f":"IF(E157=\"Projekt bzw. BDA\",O157/100*I157*K157,IF(AND(E157=\"Diplomarbeit/Prüfer\",K157>=5),O157/100*I157*5,IF(AND(E157=\"Betreuung bis 5 FBA\",K157>=2),O157/100*I157*1,IF(AND(E157=\"Betreuung FBA/je Prüfer\",K157>=2),O157/100*I157*1,IF(K157<>\"\",(O157/100*I157*K157),IF(K157=\"\",\"\"))))))","v":""}]
[{"$f":"IF(B158=\"\",\"\",VLOOKUP(B158,Lehrerliste!$A$1:$B$8857,2,0))","v":""},null,null,null,null,null,null,null,null,null,null,"","","",{"$f":"IF(E158=\"\",\"\",IF(E158=\"Projekt bzw. BDA\",VLOOKUP(J158,G!$V$1:$W$100,2),INDEX(G!$C$2:$C$93,MATCH(Stammdaten!D158&Stammdaten!E158,G!$A$2:$A$93&G!$B$2:$B$93,0))))","v":""},"",{"$f":"IF(E158=\"Projekt bzw. BDA\",O158/100*I158*K158,IF(AND(E158=\"Diplomarbeit/Prüfer\",K158>=5),O158/100*I158*5,IF(AND(E158=\"Betreuung bis 5 FBA\",K158>=2),O158/100*I158*1,IF(AND(E158=\"Betreuung FBA/je Prüfer\",K158>=2),O158/100*I158*1,IF(K158<>\"\",(O158/100*I158*K158),IF(K158=\"\",\"\"))))))","v":""}]
[{"$f":"IF(B159=\"\",\"\",VLOOKUP(B159,Lehrerliste!$A$1:$B$8857,2,0))","v":""},null,null,null,null,null,null,null,null,null,null,"","","",{"$f":"IF(E159=\"\",\"\",IF(E159=\"Projekt bzw. BDA\",VLOOKUP(J159,G!$V$1:$W$100,2),INDEX(G!$C$2:$C$93,MATCH(Stammdaten!D159&Stammdaten!E159,G!$A$2:$A$93&G!$B$2:$B$93,0))))","v":""},"",{"$f":"IF(E159=\"Projekt bzw. BDA\",O159/100*I159*K159,IF(AND(E159=\"Diplomarbeit/Prüfer\",K159>=5),O159/100*I159*5,IF(AND(E159=\"Betreuung bis 5 FBA\",K159>=2),O159/100*I159*1,IF(AND(E159=\"Betreuung FBA/je Prüfer\",K159>=2),O159/100*I159*1,IF(K159<>\"\",(O159/100*I159*K159),IF(K159=\"\",\"\"))))))","v":""}]
[{"$f":"IF(B160=\"\",\"\",VLOOKUP(B160,Lehrerliste!$A$1:$B$8857,2,0))","v":""},null,null,null,null,null,null,null,null,null,null,"","","",{"$f":"IF(E160=\"\",\"\",IF(E160=\"Projekt bzw. BDA\",VLOOKUP(J160,G!$V$1:$W$100,2),INDEX(G!$C$2:$C$93,MATCH(Stammdaten!D160&Stammdaten!E160,G!$A$2:$A$93&G!$B$2:$B$93,0))))","v":""},"",{"$f":"IF(E160=\"Projekt bzw. BDA\",O160/100*I160*K160,IF(AND(E160=\"Diplomarbeit/Prüfer\",K160>=5),O160/100*I160*5,IF(AND(E160=\"Betreuung bis 5 FBA\",K160>=2),O160/100*I160*1,IF(AND(E160=\"Betreuung FBA/je Prüfer\",K160>=2),O160/100*I160*1,IF(K160<>\"\",(O160/100*I160*K160),IF(K160=\"\",\"\"))))))","v":""}]
[{"$f":"IF(B161=\"\",\"\",VLOOKUP(B161,Lehrerliste!$A$1:$B$8857,2,0))","v":""},null,null,null,null,null,null,null,null,null,null,"","","",{"$f":"IF(E161=\"\",\"\",IF(E161=\"Projekt bzw. BDA\",VLOOKUP(J161,G!$V$1:$W$100,2),INDEX(G!$C$2:$C$93,MATCH(Stammdaten!D161&Stammdaten!E161,G!$A$2:$A$93&G!$B$2:$B$93,0))))","v":""},"",{"$f":"IF(E161=\"Projekt bzw. BDA\",O161/100*I161*K161,IF(AND(E161=\"Diplomarbeit/Prüfer\",K161>=5),O161/100*I161*5,IF(AND(E161=\"Betreuung bis 5 FBA\",K161>=2),O161/100*I161*1,IF(AND(E161=\"Betreuung FBA/je Prüfer\",K161>=2),O161/100*I161*1,IF(K161<>\"\",(O161/100*I161*K161),IF(K161=\"\",\"\"))))))","v":""}]
[{"$f":"IF(B162=\"\",\"\",VLOOKUP(B162,Lehrerliste!$A$1:$B$8857,2,0))","v":""},null,null,null,null,null,null,null,null,null,null,"","","",{"$f":"IF(E162=\"\",\"\",IF(E162=\"Projekt bzw. BDA\",VLOOKUP(J162,G!$V$1:$W$100,2),INDEX(G!$C$2:$C$93,MATCH(Stammdaten!D162&Stammdaten!E162,G!$A$2:$A$93&G!$B$2:$B$93,0))))","v":""},"",{"$f":"IF(E162=\"Projekt bzw. BDA\",O162/100*I162*K162,IF(AND(E162=\"Diplomarbeit/Prüfer\",K162>=5),O162/100*I162*5,IF(AND(E162=\"Betreuung bis 5 FBA\",K162>=2),O162/100*I162*1,IF(AND(E162=\"Betreuung FBA/je Prüfer\",K162>=2),O162/100*I162*1,IF(K162<>\"\",(O162/100*I162*K162),IF(K162=\"\",\"\"))))))","v":""}]
[{"$f":"IF(B163=\"\",\"\",VLOOKUP(B163,Lehrerliste!$A$1:$B$8857,2,0))","v":""},null,null,null,null,null,null,null,null,null,null,"","","",{"$f":"IF(E163=\"\",\"\",IF(E163=\"Projekt bzw. BDA\",VLOOKUP(J163,G!$V$1:$W$100,2),INDEX(G!$C$2:$C$93,MATCH(Stammdaten!D163&Stammdaten!E163,G!$A$2:$A$93&G!$B$2:$B$93,0))))","v":""},"",{"$f":"IF(E163=\"Projekt bzw. BDA\",O163/100*I163*K163,IF(AND(E163=\"Diplomarbeit/Prüfer\",K163>=5),O163/100*I163*5,IF(AND(E163=\"Betreuung bis 5 FBA\",K163>=2),O163/100*I163*1,IF(AND(E163=\"Betreuung FBA/je Prüfer\",K163>=2),O163/100*I163*1,IF(K163<>\"\",(O163/100*I163*K163),IF(K163=\"\",\"\"))))))","v":""}]
[{"$f":"IF(B164=\"\",\"\",VLOOKUP(B164,Lehrerliste!$A$1:$B$8857,2,0))","v":""},null,null,null,null,null,null,null,null,null,null,"","","",{"$f":"IF(E164=\"\",\"\",IF(E164=\"Projekt bzw. BDA\",VLOOKUP(J164,G!$V$1:$W$100,2),INDEX(G!$C$2:$C$93,MATCH(Stammdaten!D164&Stammdaten!E164,G!$A$2:$A$93&G!$B$2:$B$93,0))))","v":""},"",{"$f":"IF(E164=\"Projekt bzw. BDA\",O164/100*I164*K164,IF(AND(E164=\"Diplomarbeit/Prüfer\",K164>=5),O164/100*I164*5,IF(AND(E164=\"Betreuung bis 5 FBA\",K164>=2),O164/100*I164*1,IF(AND(E164=\"Betreuung FBA/je Prüfer\",K164>=2),O164/100*I164*1,IF(K164<>\"\",(O164/100*I164*K164),IF(K164=\"\",\"\"))))))","v":""}]
[{"$f":"IF(B165=\"\",\"\",VLOOKUP(B165,Lehrerliste!$A$1:$B$8857,2,0))","v":""},null,null,null,null,null,null,null,null,null,null,"","","",{"$f":"IF(E165=\"\",\"\",IF(E165=\"Projekt bzw. BDA\",VLOOKUP(J165,G!$V$1:$W$100,2),INDEX(G!$C$2:$C$93,MATCH(Stammdaten!D165&Stammdaten!E165,G!$A$2:$A$93&G!$B$2:$B$93,0))))","v":""},"",{"$f":"IF(E165=\"Projekt bzw. BDA\",O165/100*I165*K165,IF(AND(E165=\"Diplomarbeit/Prüfer\",K165>=5),O165/100*I165*5,IF(AND(E165=\"Betreuung bis 5 FBA\",K165>=2),O165/100*I165*1,IF(AND(E165=\"Betreuung FBA/je Prüfer\",K165>=2),O165/100*I165*1,IF(K165<>\"\",(O165/100*I165*K165),IF(K165=\"\",\"\"))))))","v":""}]
[{"$f":"IF(B166=\"\",\"\",VLOOKUP(B166,Lehrerliste!$A$1:$B$8857,2,0))","v":""},null,null,null,null,null,null,null,null,null,null,"","","",{"$f":"IF(E166=\"\",\"\",IF(E166=\"Projekt bzw. BDA\",VLOOKUP(J166,G!$V$1:$W$100,2),INDEX(G!$C$2:$C$93,MATCH(Stammdaten!D166&Stammdaten!E166,G!$A$2:$A$93&G!$B$2:$B$93,0))))","v":""},"",{"$f":"IF(E166=\"Projekt bzw. BDA\",O166/100*I166*K166,IF(AND(E166=\"Diplomarbeit/Prüfer\",K166>=5),O166/100*I166*5,IF(AND(E166=\"Betreuung bis 5 FBA\",K166>=2),O166/100*I166*1,IF(AND(E166=\"Betreuung FBA/je Prüfer\",K166>=2),O166/100*I166*1,IF(K166<>\"\",(O166/100*I166*K166),IF(K166=\"\",\"\"))))))","v":""}]
[{"$f":"IF(B167=\"\",\"\",VLOOKUP(B167,Lehrerliste!$A$1:$B$8857,2,0))","v":""},null,null,null,null,null,null,null,null,null,null,"","","",{"$f":"IF(E167=\"\",\"\",IF(E167=\"Projekt bzw. BDA\",VLOOKUP(J167,G!$V$1:$W$100,2),INDEX(G!$C$2:$C$93,MATCH(Stammdaten!D167&Stammdaten!E167,G!$A$2:$A$93&G!$B$2:$B$93,0))))","v":""},"",{"$f":"IF(E167=\"Projekt bzw. BDA\",O167/100*I167*K167,IF(AND(E167=\"Diplomarbeit/Prüfer\",K167>=5),O167/100*I167*5,IF(AND(E167=\"Betreuung bis 5 FBA\",K167>=2),O167/100*I167*1,IF(AND(E167=\"Betreuung FBA/je Prüfer\",K167>=2),O167/100*I167*1,IF(K167<>\"\",(O167/100*I167*K167),IF(K167=\"\",\"\"))))))","v":""}]
[{"$f":"IF(B168=\"\",\"\",VLOOKUP(B168,Lehrerliste!$A$1:$B$8857,2,0))","v":""},null,null,null,null,null,null,null,null,null,null,"","","",{"$f":"IF(E168=\"\",\"\",IF(E168=\"Projekt bzw. BDA\",VLOOKUP(J168,G!$V$1:$W$100,2),INDEX(G!$C$2:$C$93,MATCH(Stammdaten!D168&Stammdaten!E168,G!$A$2:$A$93&G!$B$2:$B$93,0))))","v":""},"",{"$f":"IF(E168=\"Projekt bzw. BDA\",O168/100*I168*K168,IF(AND(E168=\"Diplomarbeit/Prüfer\",K168>=5),O168/100*I168*5,IF(AND(E168=\"Betreuung bis 5 FBA\",K168>=2),O168/100*I168*1,IF(AND(E168=\"Betreuung FBA/je Prüfer\",K168>=2),O168/100*I168*1,IF(K168<>\"\",(O168/100*I168*K168),IF(K168=\"\",\"\"))))))","v":""}]
[{"$f":"IF(B169=\"\",\"\",VLOOKUP(B169,Lehrerliste!$A$1:$B$8857,2,0))","v":""},null,null,null,null,null,null,null,null,null,null,"","","",{"$f":"IF(E169=\"\",\"\",IF(E169=\"Projekt bzw. BDA\",VLOOKUP(J169,G!$V$1:$W$100,2),INDEX(G!$C$2:$C$93,MATCH(Stammdaten!D169&Stammdaten!E169,G!$A$2:$A$93&G!$B$2:$B$93,0))))","v":""},"",{"$f":"IF(E169=\"Projekt bzw. BDA\",O169/100*I169*K169,IF(AND(E169=\"Diplomarbeit/Prüfer\",K169>=5),O169/100*I169*5,IF(AND(E169=\"Betreuung bis 5 FBA\",K169>=2),O169/100*I169*1,IF(AND(E169=\"Betreuung FBA/je Prüfer\",K169>=2),O169/100*I169*1,IF(K169<>\"\",(O169/100*I169*K169),IF(K169=\"\",\"\"))))))","v":""}]
[{"$f":"IF(B170=\"\",\"\",VLOOKUP(B170,Lehrerliste!$A$1:$B$8857,2,0))","v":""},null,null,null,null,null,null,null,null,null,null,"","","",{"$f":"IF(E170=\"\",\"\",IF(E170=\"Projekt bzw. BDA\",VLOOKUP(J170,G!$V$1:$W$100,2),INDEX(G!$C$2:$C$93,MATCH(Stammdaten!D170&Stammdaten!E170,G!$A$2:$A$93&G!$B$2:$B$93,0))))","v":""},"",{"$f":"IF(E170=\"Projekt bzw. BDA\",O170/100*I170*K170,IF(AND(E170=\"Diplomarbeit/Prüfer\",K170>=5),O170/100*I170*5,IF(AND(E170=\"Betreuung bis 5 FBA\",K170>=2),O170/100*I170*1,IF(AND(E170=\"Betreuung FBA/je Prüfer\",K170>=2),O170/100*I170*1,IF(K170<>\"\",(O170/100*I170*K170),IF(K170=\"\",\"\"))))))","v":""}]
[{"$f":"IF(B171=\"\",\"\",VLOOKUP(B171,Lehrerliste!$A$1:$B$8857,2,0))","v":""},null,null,null,null,null,null,null,null,null,null,"","","",{"$f":"IF(E171=\"\",\"\",IF(E171=\"Projekt bzw. BDA\",VLOOKUP(J171,G!$V$1:$W$100,2),INDEX(G!$C$2:$C$93,MATCH(Stammdaten!D171&Stammdaten!E171,G!$A$2:$A$93&G!$B$2:$B$93,0))))","v":""},"",{"$f":"IF(E171=\"Projekt bzw. BDA\",O171/100*I171*K171,IF(AND(E171=\"Diplomarbeit/Prüfer\",K171>=5),O171/100*I171*5,IF(AND(E171=\"Betreuung bis 5 FBA\",K171>=2),O171/100*I171*1,IF(AND(E171=\"Betreuung FBA/je Prüfer\",K171>=2),O171/100*I171*1,IF(K171<>\"\",(O171/100*I171*K171),IF(K171=\"\",\"\"))))))","v":""}]
[{"$f":"IF(B172=\"\",\"\",VLOOKUP(B172,Lehrerliste!$A$1:$B$8857,2,0))","v":""},null,null,null,null,null,null,null,null,null,null,"","","",{"$f":"IF(E172=\"\",\"\",IF(E172=\"Projekt bzw. BDA\",VLOOKUP(J172,G!$V$1:$W$100,2),INDEX(G!$C$2:$C$93,MATCH(Stammdaten!D172&Stammdaten!E172,G!$A$2:$A$93&G!$B$2:$B$93,0))))","v":""},"",{"$f":"IF(E172=\"Projekt bzw. BDA\",O172/100*I172*K172,IF(AND(E172=\"Diplomarbeit/Prüfer\",K172>=5),O172/100*I172*5,IF(AND(E172=\"Betreuung bis 5 FBA\",K172>=2),O172/100*I172*1,IF(AND(E172=\"Betreuung FBA/je Prüfer\",K172>=2),O172/100*I172*1,IF(K172<>\"\",(O172/100*I172*K172),IF(K172=\"\",\"\"))))))","v":""}]
[{"$f":"IF(B173=\"\",\"\",VLOOKUP(B173,Lehrerliste!$A$1:$B$8857,2,0))","v":""},null,null,null,null,null,null,null,null,null,null,"","","",{"$f":"IF(E173=\"\",\"\",IF(E173=\"Projekt bzw. BDA\",VLOOKUP(J173,G!$V$1:$W$100,2),INDEX(G!$C$2:$C$93,MATCH(Stammdaten!D173&Stammdaten!E173,G!$A$2:$A$93&G!$B$2:$B$93,0))))","v":""},"",{"$f":"IF(E173=\"Projekt bzw. BDA\",O173/100*I173*K173,IF(AND(E173=\"Diplomarbeit/Prüfer\",K173>=5),O173/100*I173*5,IF(AND(E173=\"Betreuung bis 5 FBA\",K173>=2),O173/100*I173*1,IF(AND(E173=\"Betreuung FBA/je Prüfer\",K173>=2),O173/100*I173*1,IF(K173<>\"\",(O173/100*I173*K173),IF(K173=\"\",\"\"))))))","v":""}]
[{"$f":"IF(B174=\"\",\"\",VLOOKUP(B174,Lehrerliste!$A$1:$B$8857,2,0))","v":""},null,null,null,null,null,null,null,null,null,null,"","","",{"$f":"IF(E174=\"\",\"\",IF(E174=\"Projekt bzw. BDA\",VLOOKUP(J174,G!$V$1:$W$100,2),INDEX(G!$C$2:$C$93,MATCH(Stammdaten!D174&Stammdaten!E174,G!$A$2:$A$93&G!$B$2:$B$93,0))))","v":""},"",{"$f":"IF(E174=\"Projekt bzw. BDA\",O174/100*I174*K174,IF(AND(E174=\"Diplomarbeit/Prüfer\",K174>=5),O174/100*I174*5,IF(AND(E174=\"Betreuung bis 5 FBA\",K174>=2),O174/100*I174*1,IF(AND(E174=\"Betreuung FBA/je Prüfer\",K174>=2),O174/100*I174*1,IF(K174<>\"\",(O174/100*I174*K174),IF(K174=\"\",\"\"))))))","v":""}]
[{"$f":"IF(B175=\"\",\"\",VLOOKUP(B175,Lehrerliste!$A$1:$B$8857,2,0))","v":""},null,null,null,null,null,null,null,null,null,null,"","","",{"$f":"IF(E175=\"\",\"\",IF(E175=\"Projekt bzw. BDA\",VLOOKUP(J175,G!$V$1:$W$100,2),INDEX(G!$C$2:$C$93,MATCH(Stammdaten!D175&Stammdaten!E175,G!$A$2:$A$93&G!$B$2:$B$93,0))))","v":""},"",{"$f":"IF(E175=\"Projekt bzw. BDA\",O175/100*I175*K175,IF(AND(E175=\"Diplomarbeit/Prüfer\",K175>=5),O175/100*I175*5,IF(AND(E175=\"Betreuung bis 5 FBA\",K175>=2),O175/100*I175*1,IF(AND(E175=\"Betreuung FBA/je Prüfer\",K175>=2),O175/100*I175*1,IF(K175<>\"\",(O175/100*I175*K175),IF(K175=\"\",\"\"))))))","v":""}]
[{"$f":"IF(B176=\"\",\"\",VLOOKUP(B176,Lehrerliste!$A$1:$B$8857,2,0))","v":""},null,null,null,null,null,null,null,null,null,null,"","","",{"$f":"IF(E176=\"\",\"\",IF(E176=\"Projekt bzw. BDA\",VLOOKUP(J176,G!$V$1:$W$100,2),INDEX(G!$C$2:$C$93,MATCH(Stammdaten!D176&Stammdaten!E176,G!$A$2:$A$93&G!$B$2:$B$93,0))))","v":""},"",{"$f":"IF(E176=\"Projekt bzw. BDA\",O176/100*I176*K176,IF(AND(E176=\"Diplomarbeit/Prüfer\",K176>=5),O176/100*I176*5,IF(AND(E176=\"Betreuung bis 5 FBA\",K176>=2),O176/100*I176*1,IF(AND(E176=\"Betreuung FBA/je Prüfer\",K176>=2),O176/100*I176*1,IF(K176<>\"\",(O176/100*I176*K176),IF(K176=\"\",\"\"))))))","v":""}]
[{"$f":"IF(B177=\"\",\"\",VLOOKUP(B177,Lehrerliste!$A$1:$B$8857,2,0))","v":""},null,null,null,null,null,null,null,null,null,null,"","","",{"$f":"IF(E177=\"\",\"\",IF(E177=\"Projekt bzw. BDA\",VLOOKUP(J177,G!$V$1:$W$100,2),INDEX(G!$C$2:$C$93,MATCH(Stammdaten!D177&Stammdaten!E177,G!$A$2:$A$93&G!$B$2:$B$93,0))))","v":""},"",{"$f":"IF(E177=\"Projekt bzw. BDA\",O177/100*I177*K177,IF(AND(E177=\"Diplomarbeit/Prüfer\",K177>=5),O177/100*I177*5,IF(AND(E177=\"Betreuung bis 5 FBA\",K177>=2),O177/100*I177*1,IF(AND(E177=\"Betreuung FBA/je Prüfer\",K177>=2),O177/100*I177*1,IF(K177<>\"\",(O177/100*I177*K177),IF(K177=\"\",\"\"))))))","v":""}]
[{"$f":"IF(B178=\"\",\"\",VLOOKUP(B178,Lehrerliste!$A$1:$B$8857,2,0))","v":""},null,null,null,null,null,null,null,null,null,null,"","","",{"$f":"IF(E178=\"\",\"\",IF(E178=\"Projekt bzw. BDA\",VLOOKUP(J178,G!$V$1:$W$100,2),INDEX(G!$C$2:$C$93,MATCH(Stammdaten!D178&Stammdaten!E178,G!$A$2:$A$93&G!$B$2:$B$93,0))))","v":""},"",{"$f":"IF(E178=\"Projekt bzw. BDA\",O178/100*I178*K178,IF(AND(E178=\"Diplomarbeit/Prüfer\",K178>=5),O178/100*I178*5,IF(AND(E178=\"Betreuung bis 5 FBA\",K178>=2),O178/100*I178*1,IF(AND(E178=\"Betreuung FBA/je Prüfer\",K178>=2),O178/100*I178*1,IF(K178<>\"\",(O178/100*I178*K178),IF(K178=\"\",\"\"))))))","v":""}]
[{"$f":"IF(B179=\"\",\"\",VLOOKUP(B179,Lehrerliste!$A$1:$B$8857,2,0))","v":""},null,null,null,null,null,null,null,null,null,null,"","","",{"$f":"IF(E179=\"\",\"\",IF(E179=\"Projekt bzw. BDA\",VLOOKUP(J179,G!$V$1:$W$100,2),INDEX(G!$C$2:$C$93,MATCH(Stammdaten!D179&Stammdaten!E179,G!$A$2:$A$93&G!$B$2:$B$93,0))))","v":""},"",{"$f":"IF(E179=\"Projekt bzw. BDA\",O179/100*I179*K179,IF(AND(E179=\"Diplomarbeit/Prüfer\",K179>=5),O179/100*I179*5,IF(AND(E179=\"Betreuung bis 5 FBA\",K179>=2),O179/100*I179*1,IF(AND(E179=\"Betreuung FBA/je Prüfer\",K179>=2),O179/100*I179*1,IF(K179<>\"\",(O179/100*I179*K179),IF(K179=\"\",\"\"))))))","v":""}]
[{"$f":"IF(B180=\"\",\"\",VLOOKUP(B180,Lehrerliste!$A$1:$B$8857,2,0))","v":""},null,null,null,null,null,null,null,null,null,null,"","","",{"$f":"IF(E180=\"\",\"\",IF(E180=\"Projekt bzw. BDA\",VLOOKUP(J180,G!$V$1:$W$100,2),INDEX(G!$C$2:$C$93,MATCH(Stammdaten!D180&Stammdaten!E180,G!$A$2:$A$93&G!$B$2:$B$93,0))))","v":""},"",{"$f":"IF(E180=\"Projekt bzw. BDA\",O180/100*I180*K180,IF(AND(E180=\"Diplomarbeit/Prüfer\",K180>=5),O180/100*I180*5,IF(AND(E180=\"Betreuung bis 5 FBA\",K180>=2),O180/100*I180*1,IF(AND(E180=\"Betreuung FBA/je Prüfer\",K180>=2),O180/100*I180*1,IF(K180<>\"\",(O180/100*I180*K180),IF(K180=\"\",\"\"))))))","v":""}]
[{"$f":"IF(B181=\"\",\"\",VLOOKUP(B181,Lehrerliste!$A$1:$B$8857,2,0))","v":""},null,null,null,null,null,null,null,null,null,null,"","","",{"$f":"IF(E181=\"\",\"\",IF(E181=\"Projekt bzw. BDA\",VLOOKUP(J181,G!$V$1:$W$100,2),INDEX(G!$C$2:$C$93,MATCH(Stammdaten!D181&Stammdaten!E181,G!$A$2:$A$93&G!$B$2:$B$93,0))))","v":""},"",{"$f":"IF(E181=\"Projekt bzw. BDA\",O181/100*I181*K181,IF(AND(E181=\"Diplomarbeit/Prüfer\",K181>=5),O181/100*I181*5,IF(AND(E181=\"Betreuung bis 5 FBA\",K181>=2),O181/100*I181*1,IF(AND(E181=\"Betreuung FBA/je Prüfer\",K181>=2),O181/100*I181*1,IF(K181<>\"\",(O181/100*I181*K181),IF(K181=\"\",\"\"))))))","v":""}]
[{"$f":"IF(B182=\"\",\"\",VLOOKUP(B182,Lehrerliste!$A$1:$B$8857,2,0))","v":""},null,null,null,null,null,null,null,null,null,null,"","","",{"$f":"IF(E182=\"\",\"\",IF(E182=\"Projekt bzw. BDA\",VLOOKUP(J182,G!$V$1:$W$100,2),INDEX(G!$C$2:$C$93,MATCH(Stammdaten!D182&Stammdaten!E182,G!$A$2:$A$93&G!$B$2:$B$93,0))))","v":""},"",{"$f":"IF(E182=\"Projekt bzw. BDA\",O182/100*I182*K182,IF(AND(E182=\"Diplomarbeit/Prüfer\",K182>=5),O182/100*I182*5,IF(AND(E182=\"Betreuung bis 5 FBA\",K182>=2),O182/100*I182*1,IF(AND(E182=\"Betreuung FBA/je Prüfer\",K182>=2),O182/100*I182*1,IF(K182<>\"\",(O182/100*I182*K182),IF(K182=\"\",\"\"))))))","v":""}]
[{"$f":"IF(B183=\"\",\"\",VLOOKUP(B183,Lehrerliste!$A$1:$B$8857,2,0))","v":""},null,null,null,null,null,null,null,null,null,null,"","","",{"$f":"IF(E183=\"\",\"\",IF(E183=\"Projekt bzw. BDA\",VLOOKUP(J183,G!$V$1:$W$100,2),INDEX(G!$C$2:$C$93,MATCH(Stammdaten!D183&Stammdaten!E183,G!$A$2:$A$93&G!$B$2:$B$93,0))))","v":""},"",{"$f":"IF(E183=\"Projekt bzw. BDA\",O183/100*I183*K183,IF(AND(E183=\"Diplomarbeit/Prüfer\",K183>=5),O183/100*I183*5,IF(AND(E183=\"Betreuung bis 5 FBA\",K183>=2),O183/100*I183*1,IF(AND(E183=\"Betreuung FBA/je Prüfer\",K183>=2),O183/100*I183*1,IF(K183<>\"\",(O183/100*I183*K183),IF(K183=\"\",\"\"))))))","v":""}]
[{"$f":"IF(B184=\"\",\"\",VLOOKUP(B184,Lehrerliste!$A$1:$B$8857,2,0))","v":""},null,null,null,null,null,null,null,null,null,null,"","","",{"$f":"IF(E184=\"\",\"\",IF(E184=\"Projekt bzw. BDA\",VLOOKUP(J184,G!$V$1:$W$100,2),INDEX(G!$C$2:$C$93,MATCH(Stammdaten!D184&Stammdaten!E184,G!$A$2:$A$93&G!$B$2:$B$93,0))))","v":""},"",{"$f":"IF(E184=\"Projekt bzw. BDA\",O184/100*I184*K184,IF(AND(E184=\"Diplomarbeit/Prüfer\",K184>=5),O184/100*I184*5,IF(AND(E184=\"Betreuung bis 5 FBA\",K184>=2),O184/100*I184*1,IF(AND(E184=\"Betreuung FBA/je Prüfer\",K184>=2),O184/100*I184*1,IF(K184<>\"\",(O184/100*I184*K184),IF(K184=\"\",\"\"))))))","v":""}]
[{"$f":"IF(B185=\"\",\"\",VLOOKUP(B185,Lehrerliste!$A$1:$B$8857,2,0))","v":""},null,null,null,null,null,null,null,null,null,null,"","","",{"$f":"IF(E185=\"\",\"\",IF(E185=\"Projekt bzw. BDA\",VLOOKUP(J185,G!$V$1:$W$100,2),INDEX(G!$C$2:$C$93,MATCH(Stammdaten!D185&Stammdaten!E185,G!$A$2:$A$93&G!$B$2:$B$93,0))))","v":""},"",{"$f":"IF(E185=\"Projekt bzw. BDA\",O185/100*I185*K185,IF(AND(E185=\"Diplomarbeit/Prüfer\",K185>=5),O185/100*I185*5,IF(AND(E185=\"Betreuung bis 5 FBA\",K185>=2),O185/100*I185*1,IF(AND(E185=\"Betreuung FBA/je Prüfer\",K185>=2),O185/100*I185*1,IF(K185<>\"\",(O185/100*I185*K185),IF(K185=\"\",\"\"))))))","v":""}]
[{"$f":"IF(B186=\"\",\"\",VLOOKUP(B186,Lehrerliste!$A$1:$B$8857,2,0))","v":""},null,null,null,null,null,null,null,null,null,null,"","","",{"$f":"IF(E186=\"\",\"\",IF(E186=\"Projekt bzw. BDA\",VLOOKUP(J186,G!$V$1:$W$100,2),INDEX(G!$C$2:$C$93,MATCH(Stammdaten!D186&Stammdaten!E186,G!$A$2:$A$93&G!$B$2:$B$93,0))))","v":""},"",{"$f":"IF(E186=\"Projekt bzw. BDA\",O186/100*I186*K186,IF(AND(E186=\"Diplomarbeit/Prüfer\",K186>=5),O186/100*I186*5,IF(AND(E186=\"Betreuung bis 5 FBA\",K186>=2),O186/100*I186*1,IF(AND(E186=\"Betreuung FBA/je Prüfer\",K186>=2),O186/100*I186*1,IF(K186<>\"\",(O186/100*I186*K186),IF(K186=\"\",\"\"))))))","v":""}]
[{"$f":"IF(B187=\"\",\"\",VLOOKUP(B187,Lehrerliste!$A$1:$B$8857,2,0))","v":""},null,null,null,null,null,null,null,null,null,null,"","","",{"$f":"IF(E187=\"\",\"\",IF(E187=\"Projekt bzw. BDA\",VLOOKUP(J187,G!$V$1:$W$100,2),INDEX(G!$C$2:$C$93,MATCH(Stammdaten!D187&Stammdaten!E187,G!$A$2:$A$93&G!$B$2:$B$93,0))))","v":""},"",{"$f":"IF(E187=\"Projekt bzw. BDA\",O187/100*I187*K187,IF(AND(E187=\"Diplomarbeit/Prüfer\",K187>=5),O187/100*I187*5,IF(AND(E187=\"Betreuung bis 5 FBA\",K187>=2),O187/100*I187*1,IF(AND(E187=\"Betreuung FBA/je Prüfer\",K187>=2),O187/100*I187*1,IF(K187<>\"\",(O187/100*I187*K187),IF(K187=\"\",\"\"))))))","v":""}]
[{"$f":"IF(B188=\"\",\"\",VLOOKUP(B188,Lehrerliste!$A$1:$B$8857,2,0))","v":""},null,null,null,null,null,null,null,null,null,null,"","","",{"$f":"IF(E188=\"\",\"\",IF(E188=\"Projekt bzw. BDA\",VLOOKUP(J188,G!$V$1:$W$100,2),INDEX(G!$C$2:$C$93,MATCH(Stammdaten!D188&Stammdaten!E188,G!$A$2:$A$93&G!$B$2:$B$93,0))))","v":""},"",{"$f":"IF(E188=\"Projekt bzw. BDA\",O188/100*I188*K188,IF(AND(E188=\"Diplomarbeit/Prüfer\",K188>=5),O188/100*I188*5,IF(AND(E188=\"Betreuung bis 5 FBA\",K188>=2),O188/100*I188*1,IF(AND(E188=\"Betreuung FBA/je Prüfer\",K188>=2),O188/100*I188*1,IF(K188<>\"\",(O188/100*I188*K188),IF(K188=\"\",\"\"))))))","v":""}]
[{"$f":"IF(B189=\"\",\"\",VLOOKUP(B189,Lehrerliste!$A$1:$B$8857,2,0))","v":""},null,null,null,null,null,null,null,null,null,null,"","","",{"$f":"IF(E189=\"\",\"\",IF(E189=\"Projekt bzw. BDA\",VLOOKUP(J189,G!$V$1:$W$100,2),INDEX(G!$C$2:$C$93,MATCH(Stammdaten!D189&Stammdaten!E189,G!$A$2:$A$93&G!$B$2:$B$93,0))))","v":""},"",{"$f":"IF(E189=\"Projekt bzw. BDA\",O189/100*I189*K189,IF(AND(E189=\"Diplomarbeit/Prüfer\",K189>=5),O189/100*I189*5,IF(AND(E189=\"Betreuung bis 5 FBA\",K189>=2),O189/100*I189*1,IF(AND(E189=\"Betreuung FBA/je Prüfer\",K189>=2),O189/100*I189*1,IF(K189<>\"\",(O189/100*I189*K189),IF(K189=\"\",\"\"))))))","v":""}]
[{"$f":"IF(B190=\"\",\"\",VLOOKUP(B190,Lehrerliste!$A$1:$B$8857,2,0))","v":""},null,null,null,null,null,null,null,null,null,null,"","","",{"$f":"IF(E190=\"\",\"\",IF(E190=\"Projekt bzw. BDA\",VLOOKUP(J190,G!$V$1:$W$100,2),INDEX(G!$C$2:$C$93,MATCH(Stammdaten!D190&Stammdaten!E190,G!$A$2:$A$93&G!$B$2:$B$93,0))))","v":""},"",{"$f":"IF(E190=\"Projekt bzw. BDA\",O190/100*I190*K190,IF(AND(E190=\"Diplomarbeit/Prüfer\",K190>=5),O190/100*I190*5,IF(AND(E190=\"Betreuung bis 5 FBA\",K190>=2),O190/100*I190*1,IF(AND(E190=\"Betreuung FBA/je Prüfer\",K190>=2),O190/100*I190*1,IF(K190<>\"\",(O190/100*I190*K190),IF(K190=\"\",\"\"))))))","v":""}]
[{"$f":"IF(B191=\"\",\"\",VLOOKUP(B191,Lehrerliste!$A$1:$B$8857,2,0))","v":""},null,null,null,null,null,null,null,null,null,null,"","","",{"$f":"IF(E191=\"\",\"\",IF(E191=\"Projekt bzw. BDA\",VLOOKUP(J191,G!$V$1:$W$100,2),INDEX(G!$C$2:$C$93,MATCH(Stammdaten!D191&Stammdaten!E191,G!$A$2:$A$93&G!$B$2:$B$93,0))))","v":""},"",{"$f":"IF(E191=\"Projekt bzw. BDA\",O191/100*I191*K191,IF(AND(E191=\"Diplomarbeit/Prüfer\",K191>=5),O191/100*I191*5,IF(AND(E191=\"Betreuung bis 5 FBA\",K191>=2),O191/100*I191*1,IF(AND(E191=\"Betreuung FBA/je Prüfer\",K191>=2),O191/100*I191*1,IF(K191<>\"\",(O191/100*I191*K191),IF(K191=\"\",\"\"))))))","v":""}]
[{"$f":"IF(B192=\"\",\"\",VLOOKUP(B192,Lehrerliste!$A$1:$B$8857,2,0))","v":""},null,null,null,null,null,null,null,null,null,null,"","","",{"$f":"IF(E192=\"\",\"\",IF(E192=\"Projekt bzw. BDA\",VLOOKUP(J192,G!$V$1:$W$100,2),INDEX(G!$C$2:$C$93,MATCH(Stammdaten!D192&Stammdaten!E192,G!$A$2:$A$93&G!$B$2:$B$93,0))))","v":""},"",{"$f":"IF(E192=\"Projekt bzw. BDA\",O192/100*I192*K192,IF(AND(E192=\"Diplomarbeit/Prüfer\",K192>=5),O192/100*I192*5,IF(AND(E192=\"Betreuung bis 5 FBA\",K192>=2),O192/100*I192*1,IF(AND(E192=\"Betreuung FBA/je Prüfer\",K192>=2),O192/100*I192*1,IF(K192<>\"\",(O192/100*I192*K192),IF(K192=\"\",\"\"))))))","v":""}]
[{"$f":"IF(B193=\"\",\"\",VLOOKUP(B193,Lehrerliste!$A$1:$B$8857,2,0))","v":""},null,null,null,null,null,null,null,null,null,null,"","","",{"$f":"IF(E193=\"\",\"\",IF(E193=\"Projekt bzw. BDA\",VLOOKUP(J193,G!$V$1:$W$100,2),INDEX(G!$C$2:$C$93,MATCH(Stammdaten!D193&Stammdaten!E193,G!$A$2:$A$93&G!$B$2:$B$93,0))))","v":""},"",{"$f":"IF(E193=\"Projekt bzw. BDA\",O193/100*I193*K193,IF(AND(E193=\"Diplomarbeit/Prüfer\",K193>=5),O193/100*I193*5,IF(AND(E193=\"Betreuung bis 5 FBA\",K193>=2),O193/100*I193*1,IF(AND(E193=\"Betreuung FBA/je Prüfer\",K193>=2),O193/100*I193*1,IF(K193<>\"\",(O193/100*I193*K193),IF(K193=\"\",\"\"))))))","v":""}]
[{"$f":"IF(B194=\"\",\"\",VLOOKUP(B194,Lehrerliste!$A$1:$B$8857,2,0))","v":""},null,null,null,null,null,null,null,null,null,null,"","","",{"$f":"IF(E194=\"\",\"\",IF(E194=\"Projekt bzw. BDA\",VLOOKUP(J194,G!$V$1:$W$100,2),INDEX(G!$C$2:$C$93,MATCH(Stammdaten!D194&Stammdaten!E194,G!$A$2:$A$93&G!$B$2:$B$93,0))))","v":""},"",{"$f":"IF(E194=\"Projekt bzw. BDA\",O194/100*I194*K194,IF(AND(E194=\"Diplomarbeit/Prüfer\",K194>=5),O194/100*I194*5,IF(AND(E194=\"Betreuung bis 5 FBA\",K194>=2),O194/100*I194*1,IF(AND(E194=\"Betreuung FBA/je Prüfer\",K194>=2),O194/100*I194*1,IF(K194<>\"\",(O194/100*I194*K194),IF(K194=\"\",\"\"))))))","v":""}]
[{"$f":"IF(B195=\"\",\"\",VLOOKUP(B195,Lehrerliste!$A$1:$B$8857,2,0))","v":""},null,null,null,null,null,null,null,null,null,null,"","","",{"$f":"IF(E195=\"\",\"\",IF(E195=\"Projekt bzw. BDA\",VLOOKUP(J195,G!$V$1:$W$100,2),INDEX(G!$C$2:$C$93,MATCH(Stammdaten!D195&Stammdaten!E195,G!$A$2:$A$93&G!$B$2:$B$93,0))))","v":""},"",{"$f":"IF(E195=\"Projekt bzw. BDA\",O195/100*I195*K195,IF(AND(E195=\"Diplomarbeit/Prüfer\",K195>=5),O195/100*I195*5,IF(AND(E195=\"Betreuung bis 5 FBA\",K195>=2),O195/100*I195*1,IF(AND(E195=\"Betreuung FBA/je Prüfer\",K195>=2),O195/100*I195*1,IF(K195<>\"\",(O195/100*I195*K195),IF(K195=\"\",\"\"))))))","v":""}]
[{"$f":"IF(B196=\"\",\"\",VLOOKUP(B196,Lehrerliste!$A$1:$B$8857,2,0))","v":""},null,null,null,null,null,null,null,null,null,null,"","","",{"$f":"IF(E196=\"\",\"\",IF(E196=\"Projekt bzw. BDA\",VLOOKUP(J196,G!$V$1:$W$100,2),INDEX(G!$C$2:$C$93,MATCH(Stammdaten!D196&Stammdaten!E196,G!$A$2:$A$93&G!$B$2:$B$93,0))))","v":""},"",{"$f":"IF(E196=\"Projekt bzw. BDA\",O196/100*I196*K196,IF(AND(E196=\"Diplomarbeit/Prüfer\",K196>=5),O196/100*I196*5,IF(AND(E196=\"Betreuung bis 5 FBA\",K196>=2),O196/100*I196*1,IF(AND(E196=\"Betreuung FBA/je Prüfer\",K196>=2),O196/100*I196*1,IF(K196<>\"\",(O196/100*I196*K196),IF(K196=\"\",\"\"))))))","v":""}]
[{"$f":"IF(B197=\"\",\"\",VLOOKUP(B197,Lehrerliste!$A$1:$B$8857,2,0))","v":""},null,null,null,null,null,null,null,null,null,null,"","","",{"$f":"IF(E197=\"\",\"\",IF(E197=\"Projekt bzw. BDA\",VLOOKUP(J197,G!$V$1:$W$100,2),INDEX(G!$C$2:$C$93,MATCH(Stammdaten!D197&Stammdaten!E197,G!$A$2:$A$93&G!$B$2:$B$93,0))))","v":""},"",{"$f":"IF(E197=\"Projekt bzw. BDA\",O197/100*I197*K197,IF(AND(E197=\"Diplomarbeit/Prüfer\",K197>=5),O197/100*I197*5,IF(AND(E197=\"Betreuung bis 5 FBA\",K197>=2),O197/100*I197*1,IF(AND(E197=\"Betreuung FBA/je Prüfer\",K197>=2),O197/100*I197*1,IF(K197<>\"\",(O197/100*I197*K197),IF(K197=\"\",\"\"))))))","v":""}]
[{"$f":"IF(B198=\"\",\"\",VLOOKUP(B198,Lehrerliste!$A$1:$B$8857,2,0))","v":""},null,null,null,null,null,null,null,null,null,null,"","","",{"$f":"IF(E198=\"\",\"\",IF(E198=\"Projekt bzw. BDA\",VLOOKUP(J198,G!$V$1:$W$100,2),INDEX(G!$C$2:$C$93,MATCH(Stammdaten!D198&Stammdaten!E198,G!$A$2:$A$93&G!$B$2:$B$93,0))))","v":""},"",{"$f":"IF(E198=\"Projekt bzw. BDA\",O198/100*I198*K198,IF(AND(E198=\"Diplomarbeit/Prüfer\",K198>=5),O198/100*I198*5,IF(AND(E198=\"Betreuung bis 5 FBA\",K198>=2),O198/100*I198*1,IF(AND(E198=\"Betreuung FBA/je Prüfer\",K198>=2),O198/100*I198*1,IF(K198<>\"\",(O198/100*I198*K198),IF(K198=\"\",\"\"))))))","v":""}]
[{"$f":"IF(B199=\"\",\"\",VLOOKUP(B199,Lehrerliste!$A$1:$B$8857,2,0))","v":""},null,null,null,null,null,null,null,null,null,null,"","","",{"$f":"IF(E199=\"\",\"\",IF(E199=\"Projekt bzw. BDA\",VLOOKUP(J199,G!$V$1:$W$100,2),INDEX(G!$C$2:$C$93,MATCH(Stammdaten!D199&Stammdaten!E199,G!$A$2:$A$93&G!$B$2:$B$93,0))))","v":""},"",{"$f":"IF(E199=\"Projekt bzw. BDA\",O199/100*I199*K199,IF(AND(E199=\"Diplomarbeit/Prüfer\",K199>=5),O199/100*I199*5,IF(AND(E199=\"Betreuung bis 5 FBA\",K199>=2),O199/100*I199*1,IF(AND(E199=\"Betreuung FBA/je Prüfer\",K199>=2),O199/100*I199*1,IF(K199<>\"\",(O199/100*I199*K199),IF(K199=\"\",\"\"))))))","v":""}]
[{"$f":"IF(B200=\"\",\"\",VLOOKUP(B200,Lehrerliste!$A$1:$B$8857,2,0))","v":""},null,null,null,null,null,null,null,null,null,null,"","","",{"$f":"IF(E200=\"\",\"\",IF(E200=\"Projekt bzw. BDA\",VLOOKUP(J200,G!$V$1:$W$100,2),INDEX(G!$C$2:$C$93,MATCH(Stammdaten!D200&Stammdaten!E200,G!$A$2:$A$93&G!$B$2:$B$93,0))))","v":""},"",{"$f":"IF(E200=\"Projekt bzw. BDA\",O200/100*I200*K200,IF(AND(E200=\"Diplomarbeit/Prüfer\",K200>=5),O200/100*I200*5,IF(AND(E200=\"Betreuung bis 5 FBA\",K200>=2),O200/100*I200*1,IF(AND(E200=\"Betreuung FBA/je Prüfer\",K200>=2),O200/100*I200*1,IF(K200<>\"\",(O200/100*I200*K200),IF(K200=\"\",\"\"))))))","v":""}]
[{"$f":"IF(B201=\"\",\"\",VLOOKUP(B201,Lehrerliste!$A$1:$B$8857,2,0))","v":""},null,null,null,null,null,null,null,null,null,null,"","","",{"$f":"IF(E201=\"\",\"\",IF(E201=\"Projekt bzw. BDA\",VLOOKUP(J201,G!$V$1:$W$100,2),INDEX(G!$C$2:$C$93,MATCH(Stammdaten!D201&Stammdaten!E201,G!$A$2:$A$93&G!$B$2:$B$93,0))))","v":""},"",{"$f":"IF(E201=\"Projekt bzw. BDA\",O201/100*I201*K201,IF(AND(E201=\"Diplomarbeit/Prüfer\",K201>=5),O201/100*I201*5,IF(AND(E201=\"Betreuung bis 5 FBA\",K201>=2),O201/100*I201*1,IF(AND(E201=\"Betreuung FBA/je Prüfer\",K201>=2),O201/100*I201*1,IF(K201<>\"\",(O201/100*I201*K201),IF(K201=\"\",\"\"))))))","v":""}]
[{"$f":"IF(B202=\"\",\"\",VLOOKUP(B202,Lehrerliste!$A$1:$B$8857,2,0))","v":""},null,null,null,null,null,null,null,null,null,null,"","","",{"$f":"IF(E202=\"\",\"\",IF(E202=\"Projekt bzw. BDA\",VLOOKUP(J202,G!$V$1:$W$100,2),INDEX(G!$C$2:$C$93,MATCH(Stammdaten!D202&Stammdaten!E202,G!$A$2:$A$93&G!$B$2:$B$93,0))))","v":""},"",{"$f":"IF(E202=\"Projekt bzw. BDA\",O202/100*I202*K202,IF(AND(E202=\"Diplomarbeit/Prüfer\",K202>=5),O202/100*I202*5,IF(AND(E202=\"Betreuung bis 5 FBA\",K202>=2),O202/100*I202*1,IF(AND(E202=\"Betreuung FBA/je Prüfer\",K202>=2),O202/100*I202*1,IF(K202<>\"\",(O202/100*I202*K202),IF(K202=\"\",\"\"))))))","v":""}]
[{"$f":"IF(B203=\"\",\"\",VLOOKUP(B203,Lehrerliste!$A$1:$B$8857,2,0))","v":""},null,null,null,null,null,null,null,null,null,null,{"$f":"IF(D203=\"Reifepr./Diplompr.\",1,IF(D203=\"Abschlussprüfung\",10,IF(D203=\"Vorpr. d. Reifepr./Diplompr./AP\",2,IF(D203=\"Externistenreifeprüfung\",3,IF(D203=\"Zulassungsprüfung z. Extern.RP\",4,IF(D203=\"Sonst. Externistenprüfungen\",5,IF(D203=\"Aufnahms- u. Einstufungsprüfungen\",6,IF(D203=\"Komm. Prüfung/Kolloquien\",7,IF(D203=\"Zertifikatsprüfung Käsek./Jungbark.\",8,IF(D203=\"BRP / Lehre m. Matura\",9,IF(D203=\"Zertifikatsprüfung Weinsommelier\",8,\"\")))))))))))","v":""},{"$f":"IF(E203=\"Vorsitz\",1,IF(E203=\"Vorsitz/mdl. Kompens.\",1,IF(E203=\"Schulleiter/AV/fachk. LP\",1,IF(E203=\"Schulleit./AV/LP/mdl. Komp\",1,IF(E203=\"JV/FV/SK/LP\",1,IF(E203=\"JV/FV/SK/LP/mdl. Komp.\",1,IF(E203=\"Klassenvorstand\",1,IF(E203=\"Klassenvorst./mdl. Komp.\",1,IF(E203=\"Schulleiter/AV/LP\",1,IF(E203=\"KV/FV/SK/LP\",1,\"\"))))))))))","v":""},{"$f":"IFERROR(IF(K203=\"\",\"\",IF(AND(L203=1,M203=1),(O203*F203),IF(AND(L203=11,M203=1),(O203*F203), IF(AND(L203=10,M203=1),(O203*F203),VALUE(O203))))),\"\")","v":""},{"$f":"IF(E203=\"\",\"\",IF(E203=\"Projekt bzw. BDA\",VLOOKUP(J203,G!$V$1:$W$100,2),INDEX(G!$C$2:$C$93,MATCH(Stammdaten!D203&Stammdaten!E203,G!$A$2:$A$93&G!$B$2:$B$93,0))))","v":""},{"$f":"IFERROR(IF(B203=\"\",\"\",IF(K203=\"\",\"0,00\",IF(AND(L203=1,M203=1),VALUE(Q203*F203),IF(AND(L203=11,M203=1),VALUE(Q203*F203),IF(AND(L203=10,M203=1),VALUE(Q203*F203),VALUE(Q203)))))),\"\")","v":""},{"$f":"IF(E203=\"Projekt bzw. BDA\",O203/100*I203*K203,IF(AND(E203=\"Diplomarbeit/Prüfer\",K203>=5),O203/100*I203*5,IF(AND(E203=\"Betreuung bis 5 FBA\",K203>=2),O203/100*I203*1,IF(AND(E203=\"Betreuung FBA/je Prüfer\",K203>=2),O203/100*I203*1,IF(K203<>\"\",(O203/100*I203*K203),IF(K203=\"\",\"\"))))))","v":""}]
[{"$f":"IF(B204=\"\",\"\",VLOOKUP(B204,Lehrerliste!$A$1:$B$8857,2,0))","v":""},null,null,null,null,null,null,null,null,null,null,"","","",{"$f":"IF(E204=\"\",\"\",IF(E204=\"Projekt bzw. BDA\",VLOOKUP(J204,G!$V$1:$W$100,2),INDEX(G!$C$2:$C$93,MATCH(Stammdaten!D204&Stammdaten!E204,G!$A$2:$A$93&G!$B$2:$B$93,0))))","v":""},"",{"$f":"IF(E204=\"Projekt bzw. BDA\",O204/100*I204*K204,IF(AND(E204=\"Diplomarbeit/Prüfer\",K204>=5),O204/100*I204*5,IF(AND(E204=\"Betreuung bis 5 FBA\",K204>=2),O204/100*I204*1,IF(AND(E204=\"Betreuung FBA/je Prüfer\",K204>=2),O204/100*I204*1,IF(K204<>\"\",(O204/100*I204*K204),IF(K204=\"\",\"\"))))))","v":""}]
[{"$f":"IF(B205=\"\",\"\",VLOOKUP(B205,Lehrerliste!$A$1:$B$8857,2,0))","v":""},null,null,null,null,null,null,null,null,null,null,"","","",{"$f":"IF(E205=\"\",\"\",IF(E205=\"Projekt bzw. BDA\",VLOOKUP(J205,G!$V$1:$W$100,2),INDEX(G!$C$2:$C$93,MATCH(Stammdaten!D205&Stammdaten!E205,G!$A$2:$A$93&G!$B$2:$B$93,0))))","v":""},"",{"$f":"IF(E205=\"Projekt bzw. BDA\",O205/100*I205*K205,IF(AND(E205=\"Diplomarbeit/Prüfer\",K205>=5),O205/100*I205*5,IF(AND(E205=\"Betreuung bis 5 FBA\",K205>=2),O205/100*I205*1,IF(AND(E205=\"Betreuung FBA/je Prüfer\",K205>=2),O205/100*I205*1,IF(K205<>\"\",(O205/100*I205*K205),IF(K205=\"\",\"\"))))))","v":""}]
[{"$f":"IF(B206=\"\",\"\",VLOOKUP(B206,Lehrerliste!$A$1:$B$8857,2,0))","v":""},null,null,null,null,null,null,null,null,null,null,"","","",{"$f":"IF(E206=\"\",\"\",IF(E206=\"Projekt bzw. BDA\",VLOOKUP(J206,G!$V$1:$W$100,2),INDEX(G!$C$2:$C$93,MATCH(Stammdaten!D206&Stammdaten!E206,G!$A$2:$A$93&G!$B$2:$B$93,0))))","v":""},"",{"$f":"IF(E206=\"Projekt bzw. BDA\",O206/100*I206*K206,IF(AND(E206=\"Diplomarbeit/Prüfer\",K206>=5),O206/100*I206*5,IF(AND(E206=\"Betreuung bis 5 FBA\",K206>=2),O206/100*I206*1,IF(AND(E206=\"Betreuung FBA/je Prüfer\",K206>=2),O206/100*I206*1,IF(K206<>\"\",(O206/100*I206*K206),IF(K206=\"\",\"\"))))))","v":""}]
[{"$f":"IF(B207=\"\",\"\",VLOOKUP(B207,Lehrerliste!$A$1:$B$8857,2,0))","v":""},null,null,null,null,null,null,null,null,null,null,"","","",{"$f":"IF(E207=\"\",\"\",IF(E207=\"Projekt bzw. BDA\",VLOOKUP(J207,G!$V$1:$W$100,2),INDEX(G!$C$2:$C$93,MATCH(Stammdaten!D207&Stammdaten!E207,G!$A$2:$A$93&G!$B$2:$B$93,0))))","v":""},"",{"$f":"IF(E207=\"Projekt bzw. BDA\",O207/100*I207*K207,IF(AND(E207=\"Diplomarbeit/Prüfer\",K207>=5),O207/100*I207*5,IF(AND(E207=\"Betreuung bis 5 FBA\",K207>=2),O207/100*I207*1,IF(AND(E207=\"Betreuung FBA/je Prüfer\",K207>=2),O207/100*I207*1,IF(K207<>\"\",(O207/100*I207*K207),IF(K207=\"\",\"\"))))))","v":""}]
[{"$f":"IF(B208=\"\",\"\",VLOOKUP(B208,Lehrerliste!$A$1:$B$8857,2,0))","v":""},null,null,null,null,null,null,null,null,null,null,"","","",{"$f":"IF(E208=\"\",\"\",IF(E208=\"Projekt bzw. BDA\",VLOOKUP(J208,G!$V$1:$W$100,2),INDEX(G!$C$2:$C$93,MATCH(Stammdaten!D208&Stammdaten!E208,G!$A$2:$A$93&G!$B$2:$B$93,0))))","v":""},"",{"$f":"IF(E208=\"Projekt bzw. BDA\",O208/100*I208*K208,IF(AND(E208=\"Diplomarbeit/Prüfer\",K208>=5),O208/100*I208*5,IF(AND(E208=\"Betreuung bis 5 FBA\",K208>=2),O208/100*I208*1,IF(AND(E208=\"Betreuung FBA/je Prüfer\",K208>=2),O208/100*I208*1,IF(K208<>\"\",(O208/100*I208*K208),IF(K208=\"\",\"\"))))))","v":""}]
[{"$f":"IF(B209=\"\",\"\",VLOOKUP(B209,Lehrerliste!$A$1:$B$8857,2,0))","v":""},null,null,null,null,null,null,null,null,null,null,"","","",{"$f":"IF(E209=\"\",\"\",IF(E209=\"Projekt bzw. BDA\",VLOOKUP(J209,G!$V$1:$W$100,2),INDEX(G!$C$2:$C$93,MATCH(Stammdaten!D209&Stammdaten!E209,G!$A$2:$A$93&G!$B$2:$B$93,0))))","v":""},"",{"$f":"IF(E209=\"Projekt bzw. BDA\",O209/100*I209*K209,IF(AND(E209=\"Diplomarbeit/Prüfer\",K209>=5),O209/100*I209*5,IF(AND(E209=\"Betreuung bis 5 FBA\",K209>=2),O209/100*I209*1,IF(AND(E209=\"Betreuung FBA/je Prüfer\",K209>=2),O209/100*I209*1,IF(K209<>\"\",(O209/100*I209*K209),IF(K209=\"\",\"\"))))))","v":""}]
[{"$f":"IF(B210=\"\",\"\",VLOOKUP(B210,Lehrerliste!$A$1:$B$8857,2,0))","v":""},null,null,null,null,null,null,null,null,null,null,"","","",{"$f":"IF(E210=\"\",\"\",IF(E210=\"Projekt bzw. BDA\",VLOOKUP(J210,G!$V$1:$W$100,2),INDEX(G!$C$2:$C$93,MATCH(Stammdaten!D210&Stammdaten!E210,G!$A$2:$A$93&G!$B$2:$B$93,0))))","v":""},"",{"$f":"IF(E210=\"Projekt bzw. BDA\",O210/100*I210*K210,IF(AND(E210=\"Diplomarbeit/Prüfer\",K210>=5),O210/100*I210*5,IF(AND(E210=\"Betreuung bis 5 FBA\",K210>=2),O210/100*I210*1,IF(AND(E210=\"Betreuung FBA/je Prüfer\",K210>=2),O210/100*I210*1,IF(K210<>\"\",(O210/100*I210*K210),IF(K210=\"\",\"\"))))))","v":""}]
[{"$f":"IF(B211=\"\",\"\",VLOOKUP(B211,Lehrerliste!$A$1:$B$8857,2,0))","v":""},null,null,null,null,null,null,null,null,null,null,"","","",{"$f":"IF(E211=\"\",\"\",IF(E211=\"Projekt bzw. BDA\",VLOOKUP(J211,G!$V$1:$W$100,2),INDEX(G!$C$2:$C$93,MATCH(Stammdaten!D211&Stammdaten!E211,G!$A$2:$A$93&G!$B$2:$B$93,0))))","v":""},"",{"$f":"IF(E211=\"Projekt bzw. BDA\",O211/100*I211*K211,IF(AND(E211=\"Diplomarbeit/Prüfer\",K211>=5),O211/100*I211*5,IF(AND(E211=\"Betreuung bis 5 FBA\",K211>=2),O211/100*I211*1,IF(AND(E211=\"Betreuung FBA/je Prüfer\",K211>=2),O211/100*I211*1,IF(K211<>\"\",(O211/100*I211*K211),IF(K211=\"\",\"\"))))))","v":""}]
[{"$f":"IF(B212=\"\",\"\",VLOOKUP(B212,Lehrerliste!$A$1:$B$8857,2,0))","v":""},null,null,null,null,null,null,null,null,null,null,"","","",{"$f":"IF(E212=\"\",\"\",IF(E212=\"Projekt bzw. BDA\",VLOOKUP(J212,G!$V$1:$W$100,2),INDEX(G!$C$2:$C$93,MATCH(Stammdaten!D212&Stammdaten!E212,G!$A$2:$A$93&G!$B$2:$B$93,0))))","v":""},"",{"$f":"IF(E212=\"Projekt bzw. BDA\",O212/100*I212*K212,IF(AND(E212=\"Diplomarbeit/Prüfer\",K212>=5),O212/100*I212*5,IF(AND(E212=\"Betreuung bis 5 FBA\",K212>=2),O212/100*I212*1,IF(AND(E212=\"Betreuung FBA/je Prüfer\",K212>=2),O212/100*I212*1,IF(K212<>\"\",(O212/100*I212*K212),IF(K212=\"\",\"\"))))))","v":""}]
[{"$f":"IF(B213=\"\",\"\",VLOOKUP(B213,Lehrerliste!$A$1:$B$8857,2,0))","v":""},null,null,null,null,null,null,null,null,null,null,"","","",{"$f":"IF(E213=\"\",\"\",IF(E213=\"Projekt bzw. BDA\",VLOOKUP(J213,G!$V$1:$W$100,2),INDEX(G!$C$2:$C$93,MATCH(Stammdaten!D213&Stammdaten!E213,G!$A$2:$A$93&G!$B$2:$B$93,0))))","v":""},"",{"$f":"IF(E213=\"Projekt bzw. BDA\",O213/100*I213*K213,IF(AND(E213=\"Diplomarbeit/Prüfer\",K213>=5),O213/100*I213*5,IF(AND(E213=\"Betreuung bis 5 FBA\",K213>=2),O213/100*I213*1,IF(AND(E213=\"Betreuung FBA/je Prüfer\",K213>=2),O213/100*I213*1,IF(K213<>\"\",(O213/100*I213*K213),IF(K213=\"\",\"\"))))))","v":""}]
[{"$f":"IF(B214=\"\",\"\",VLOOKUP(B214,Lehrerliste!$A$1:$B$8857,2,0))","v":""},null,null,null,null,null,null,null,null,null,null,"","","",{"$f":"IF(E214=\"\",\"\",IF(E214=\"Projekt bzw. BDA\",VLOOKUP(J214,G!$V$1:$W$100,2),INDEX(G!$C$2:$C$93,MATCH(Stammdaten!D214&Stammdaten!E214,G!$A$2:$A$93&G!$B$2:$B$93,0))))","v":""},"",{"$f":"IF(E214=\"Projekt bzw. BDA\",O214/100*I214*K214,IF(AND(E214=\"Diplomarbeit/Prüfer\",K214>=5),O214/100*I214*5,IF(AND(E214=\"Betreuung bis 5 FBA\",K214>=2),O214/100*I214*1,IF(AND(E214=\"Betreuung FBA/je Prüfer\",K214>=2),O214/100*I214*1,IF(K214<>\"\",(O214/100*I214*K214),IF(K214=\"\",\"\"))))))","v":""}]
[{"$f":"IF(B215=\"\",\"\",VLOOKUP(B215,Lehrerliste!$A$1:$B$8857,2,0))","v":""},null,null,null,null,null,null,null,null,null,null,"","","",{"$f":"IF(E215=\"\",\"\",IF(E215=\"Projekt bzw. BDA\",VLOOKUP(J215,G!$V$1:$W$100,2),INDEX(G!$C$2:$C$93,MATCH(Stammdaten!D215&Stammdaten!E215,G!$A$2:$A$93&G!$B$2:$B$93,0))))","v":""},"",{"$f":"IF(E215=\"Projekt bzw. BDA\",O215/100*I215*K215,IF(AND(E215=\"Diplomarbeit/Prüfer\",K215>=5),O215/100*I215*5,IF(AND(E215=\"Betreuung bis 5 FBA\",K215>=2),O215/100*I215*1,IF(AND(E215=\"Betreuung FBA/je Prüfer\",K215>=2),O215/100*I215*1,IF(K215<>\"\",(O215/100*I215*K215),IF(K215=\"\",\"\"))))))","v":""}]
[{"$f":"IF(B216=\"\",\"\",VLOOKUP(B216,Lehrerliste!$A$1:$B$8857,2,0))","v":""},null,null,null,null,null,null,null,null,null,null,"","","",{"$f":"IF(E216=\"\",\"\",IF(E216=\"Projekt bzw. BDA\",VLOOKUP(J216,G!$V$1:$W$100,2),INDEX(G!$C$2:$C$93,MATCH(Stammdaten!D216&Stammdaten!E216,G!$A$2:$A$93&G!$B$2:$B$93,0))))","v":""},"",{"$f":"IF(E216=\"Projekt bzw. BDA\",O216/100*I216*K216,IF(AND(E216=\"Diplomarbeit/Prüfer\",K216>=5),O216/100*I216*5,IF(AND(E216=\"Betreuung bis 5 FBA\",K216>=2),O216/100*I216*1,IF(AND(E216=\"Betreuung FBA/je Prüfer\",K216>=2),O216/100*I216*1,IF(K216<>\"\",(O216/100*I216*K216),IF(K216=\"\",\"\"))))))","v":""}]
[{"$f":"IF(B217=\"\",\"\",VLOOKUP(B217,Lehrerliste!$A$1:$B$8857,2,0))","v":""},null,null,null,null,null,null,null,null,null,null,"","","",{"$f":"IF(E217=\"\",\"\",IF(E217=\"Projekt bzw. BDA\",VLOOKUP(J217,G!$V$1:$W$100,2),INDEX(G!$C$2:$C$93,MATCH(Stammdaten!D217&Stammdaten!E217,G!$A$2:$A$93&G!$B$2:$B$93,0))))","v":""},"",{"$f":"IF(E217=\"Projekt bzw. BDA\",O217/100*I217*K217,IF(AND(E217=\"Diplomarbeit/Prüfer\",K217>=5),O217/100*I217*5,IF(AND(E217=\"Betreuung bis 5 FBA\",K217>=2),O217/100*I217*1,IF(AND(E217=\"Betreuung FBA/je Prüfer\",K217>=2),O217/100*I217*1,IF(K217<>\"\",(O217/100*I217*K217),IF(K217=\"\",\"\"))))))","v":""}]
[{"$f":"IF(B218=\"\",\"\",VLOOKUP(B218,Lehrerliste!$A$1:$B$8857,2,0))","v":""},null,null,null,null,null,null,null,null,null,null,"","","",{"$f":"IF(E218=\"\",\"\",IF(E218=\"Projekt bzw. BDA\",VLOOKUP(J218,G!$V$1:$W$100,2),INDEX(G!$C$2:$C$93,MATCH(Stammdaten!D218&Stammdaten!E218,G!$A$2:$A$93&G!$B$2:$B$93,0))))","v":""},"",{"$f":"IF(E218=\"Projekt bzw. BDA\",O218/100*I218*K218,IF(AND(E218=\"Diplomarbeit/Prüfer\",K218>=5),O218/100*I218*5,IF(AND(E218=\"Betreuung bis 5 FBA\",K218>=2),O218/100*I218*1,IF(AND(E218=\"Betreuung FBA/je Prüfer\",K218>=2),O218/100*I218*1,IF(K218<>\"\",(O218/100*I218*K218),IF(K218=\"\",\"\"))))))","v":""}]
[{"$f":"IF(B219=\"\",\"\",VLOOKUP(B219,Lehrerliste!$A$1:$B$8857,2,0))","v":""},null,null,null,null,null,null,null,null,null,null,"","","",{"$f":"IF(E219=\"\",\"\",IF(E219=\"Projekt bzw. BDA\",VLOOKUP(J219,G!$V$1:$W$100,2),INDEX(G!$C$2:$C$93,MATCH(Stammdaten!D219&Stammdaten!E219,G!$A$2:$A$93&G!$B$2:$B$93,0))))","v":""},"",{"$f":"IF(E219=\"Projekt bzw. BDA\",O219/100*I219*K219,IF(AND(E219=\"Diplomarbeit/Prüfer\",K219>=5),O219/100*I219*5,IF(AND(E219=\"Betreuung bis 5 FBA\",K219>=2),O219/100*I219*1,IF(AND(E219=\"Betreuung FBA/je Prüfer\",K219>=2),O219/100*I219*1,IF(K219<>\"\",(O219/100*I219*K219),IF(K219=\"\",\"\"))))))","v":""}]
[{"$f":"IF(B220=\"\",\"\",VLOOKUP(B220,Lehrerliste!$A$1:$B$8857,2,0))","v":""},null,null,null,null,null,null,null,null,null,null,"","","",{"$f":"IF(E220=\"\",\"\",IF(E220=\"Projekt bzw. BDA\",VLOOKUP(J220,G!$V$1:$W$100,2),INDEX(G!$C$2:$C$93,MATCH(Stammdaten!D220&Stammdaten!E220,G!$A$2:$A$93&G!$B$2:$B$93,0))))","v":""},"",{"$f":"IF(E220=\"Projekt bzw. BDA\",O220/100*I220*K220,IF(AND(E220=\"Diplomarbeit/Prüfer\",K220>=5),O220/100*I220*5,IF(AND(E220=\"Betreuung bis 5 FBA\",K220>=2),O220/100*I220*1,IF(AND(E220=\"Betreuung FBA/je Prüfer\",K220>=2),O220/100*I220*1,IF(K220<>\"\",(O220/100*I220*K220),IF(K220=\"\",\"\"))))))","v":""}]
[{"$f":"IF(B221=\"\",\"\",VLOOKUP(B221,Lehrerliste!$A$1:$B$8857,2,0))","v":""},null,null,null,null,null,null,null,null,null,null,"","","",{"$f":"IF(E221=\"\",\"\",IF(E221=\"Projekt bzw. BDA\",VLOOKUP(J221,G!$V$1:$W$100,2),INDEX(G!$C$2:$C$93,MATCH(Stammdaten!D221&Stammdaten!E221,G!$A$2:$A$93&G!$B$2:$B$93,0))))","v":""},"",{"$f":"IF(E221=\"Projekt bzw. BDA\",O221/100*I221*K221,IF(AND(E221=\"Diplomarbeit/Prüfer\",K221>=5),O221/100*I221*5,IF(AND(E221=\"Betreuung bis 5 FBA\",K221>=2),O221/100*I221*1,IF(AND(E221=\"Betreuung FBA/je Prüfer\",K221>=2),O221/100*I221*1,IF(K221<>\"\",(O221/100*I221*K221),IF(K221=\"\",\"\"))))))","v":""}]
[{"$f":"IF(B222=\"\",\"\",VLOOKUP(B222,Lehrerliste!$A$1:$B$8857,2,0))","v":""},null,null,null,null,null,null,null,null,null,null,"","","",{"$f":"IF(E222=\"\",\"\",IF(E222=\"Projekt bzw. BDA\",VLOOKUP(J222,G!$V$1:$W$100,2),INDEX(G!$C$2:$C$93,MATCH(Stammdaten!D222&Stammdaten!E222,G!$A$2:$A$93&G!$B$2:$B$93,0))))","v":""},"",{"$f":"IF(E222=\"Projekt bzw. BDA\",O222/100*I222*K222,IF(AND(E222=\"Diplomarbeit/Prüfer\",K222>=5),O222/100*I222*5,IF(AND(E222=\"Betreuung bis 5 FBA\",K222>=2),O222/100*I222*1,IF(AND(E222=\"Betreuung FBA/je Prüfer\",K222>=2),O222/100*I222*1,IF(K222<>\"\",(O222/100*I222*K222),IF(K222=\"\",\"\"))))))","v":""}]
[{"$f":"IF(B223=\"\",\"\",VLOOKUP(B223,Lehrerliste!$A$1:$B$8857,2,0))","v":""},null,null,null,null,null,null,null,null,null,null,"","","",{"$f":"IF(E223=\"\",\"\",IF(E223=\"Projekt bzw. BDA\",VLOOKUP(J223,G!$V$1:$W$100,2),INDEX(G!$C$2:$C$93,MATCH(Stammdaten!D223&Stammdaten!E223,G!$A$2:$A$93&G!$B$2:$B$93,0))))","v":""},"",{"$f":"IF(E223=\"Projekt bzw. BDA\",O223/100*I223*K223,IF(AND(E223=\"Diplomarbeit/Prüfer\",K223>=5),O223/100*I223*5,IF(AND(E223=\"Betreuung bis 5 FBA\",K223>=2),O223/100*I223*1,IF(AND(E223=\"Betreuung FBA/je Prüfer\",K223>=2),O223/100*I223*1,IF(K223<>\"\",(O223/100*I223*K223),IF(K223=\"\",\"\"))))))","v":""}]
[{"$f":"IF(B224=\"\",\"\",VLOOKUP(B224,Lehrerliste!$A$1:$B$8857,2,0))","v":""},null,null,null,null,null,null,null,null,null,null,"","","",{"$f":"IF(E224=\"\",\"\",IF(E224=\"Projekt bzw. BDA\",VLOOKUP(J224,G!$V$1:$W$100,2),INDEX(G!$C$2:$C$93,MATCH(Stammdaten!D224&Stammdaten!E224,G!$A$2:$A$93&G!$B$2:$B$93,0))))","v":""},"",{"$f":"IF(E224=\"Projekt bzw. BDA\",O224/100*I224*K224,IF(AND(E224=\"Diplomarbeit/Prüfer\",K224>=5),O224/100*I224*5,IF(AND(E224=\"Betreuung bis 5 FBA\",K224>=2),O224/100*I224*1,IF(AND(E224=\"Betreuung FBA/je Prüfer\",K224>=2),O224/100*I224*1,IF(K224<>\"\",(O224/100*I224*K224),IF(K224=\"\",\"\"))))))","v":""}]
[{"$f":"IF(B225=\"\",\"\",VLOOKUP(B225,Lehrerliste!$A$1:$B$8857,2,0))","v":""},null,null,null,null,null,null,null,null,null,null,"","","",{"$f":"IF(E225=\"\",\"\",IF(E225=\"Projekt bzw. BDA\",VLOOKUP(J225,G!$V$1:$W$100,2),INDEX(G!$C$2:$C$93,MATCH(Stammdaten!D225&Stammdaten!E225,G!$A$2:$A$93&G!$B$2:$B$93,0))))","v":""},"",{"$f":"IF(E225=\"Projekt bzw. BDA\",O225/100*I225*K225,IF(AND(E225=\"Diplomarbeit/Prüfer\",K225>=5),O225/100*I225*5,IF(AND(E225=\"Betreuung bis 5 FBA\",K225>=2),O225/100*I225*1,IF(AND(E225=\"Betreuung FBA/je Prüfer\",K225>=2),O225/100*I225*1,IF(K225<>\"\",(O225/100*I225*K225),IF(K225=\"\",\"\"))))))","v":""}]
[{"$f":"IF(B226=\"\",\"\",VLOOKUP(B226,Lehrerliste!$A$1:$B$8857,2,0))","v":""},null,null,null,null,null,null,null,null,null,null,"","","",{"$f":"IF(E226=\"\",\"\",IF(E226=\"Projekt bzw. BDA\",VLOOKUP(J226,G!$V$1:$W$100,2),INDEX(G!$C$2:$C$93,MATCH(Stammdaten!D226&Stammdaten!E226,G!$A$2:$A$93&G!$B$2:$B$93,0))))","v":""},"",{"$f":"IF(E226=\"Projekt bzw. BDA\",O226/100*I226*K226,IF(AND(E226=\"Diplomarbeit/Prüfer\",K226>=5),O226/100*I226*5,IF(AND(E226=\"Betreuung bis 5 FBA\",K226>=2),O226/100*I226*1,IF(AND(E226=\"Betreuung FBA/je Prüfer\",K226>=2),O226/100*I226*1,IF(K226<>\"\",(O226/100*I226*K226),IF(K226=\"\",\"\"))))))","v":""}]
[{"$f":"IF(B227=\"\",\"\",VLOOKUP(B227,Lehrerliste!$A$1:$B$8857,2,0))","v":""},null,null,null,null,null,null,null,null,null,null,"","","",{"$f":"IF(E227=\"\",\"\",IF(E227=\"Projekt bzw. BDA\",VLOOKUP(J227,G!$V$1:$W$100,2),INDEX(G!$C$2:$C$93,MATCH(Stammdaten!D227&Stammdaten!E227,G!$A$2:$A$93&G!$B$2:$B$93,0))))","v":""},"",{"$f":"IF(E227=\"Projekt bzw. BDA\",O227/100*I227*K227,IF(AND(E227=\"Diplomarbeit/Prüfer\",K227>=5),O227/100*I227*5,IF(AND(E227=\"Betreuung bis 5 FBA\",K227>=2),O227/100*I227*1,IF(AND(E227=\"Betreuung FBA/je Prüfer\",K227>=2),O227/100*I227*1,IF(K227<>\"\",(O227/100*I227*K227),IF(K227=\"\",\"\"))))))","v":""}]
[{"$f":"IF(B228=\"\",\"\",VLOOKUP(B228,Lehrerliste!$A$1:$B$8857,2,0))","v":""},null,null,null,null,null,null,null,null,null,null,"","","",{"$f":"IF(E228=\"\",\"\",IF(E228=\"Projekt bzw. BDA\",VLOOKUP(J228,G!$V$1:$W$100,2),INDEX(G!$C$2:$C$93,MATCH(Stammdaten!D228&Stammdaten!E228,G!$A$2:$A$93&G!$B$2:$B$93,0))))","v":""},"",{"$f":"IF(E228=\"Projekt bzw. BDA\",O228/100*I228*K228,IF(AND(E228=\"Diplomarbeit/Prüfer\",K228>=5),O228/100*I228*5,IF(AND(E228=\"Betreuung bis 5 FBA\",K228>=2),O228/100*I228*1,IF(AND(E228=\"Betreuung FBA/je Prüfer\",K228>=2),O228/100*I228*1,IF(K228<>\"\",(O228/100*I228*K228),IF(K228=\"\",\"\"))))))","v":""}]
[{"$f":"IF(B229=\"\",\"\",VLOOKUP(B229,Lehrerliste!$A$1:$B$8857,2,0))","v":""},null,null,null,null,null,null,null,null,null,null,"","","",{"$f":"IF(E229=\"\",\"\",IF(E229=\"Projekt bzw. BDA\",VLOOKUP(J229,G!$V$1:$W$100,2),INDEX(G!$C$2:$C$93,MATCH(Stammdaten!D229&Stammdaten!E229,G!$A$2:$A$93&G!$B$2:$B$93,0))))","v":""},"",{"$f":"IF(E229=\"Projekt bzw. BDA\",O229/100*I229*K229,IF(AND(E229=\"Diplomarbeit/Prüfer\",K229>=5),O229/100*I229*5,IF(AND(E229=\"Betreuung bis 5 FBA\",K229>=2),O229/100*I229*1,IF(AND(E229=\"Betreuung FBA/je Prüfer\",K229>=2),O229/100*I229*1,IF(K229<>\"\",(O229/100*I229*K229),IF(K229=\"\",\"\"))))))","v":""}]
[{"$f":"IF(B230=\"\",\"\",VLOOKUP(B230,Lehrerliste!$A$1:$B$8857,2,0))","v":""},null,null,null,null,null,null,null,null,null,null,"","","",{"$f":"IF(E230=\"\",\"\",IF(E230=\"Projekt bzw. BDA\",VLOOKUP(J230,G!$V$1:$W$100,2),INDEX(G!$C$2:$C$93,MATCH(Stammdaten!D230&Stammdaten!E230,G!$A$2:$A$93&G!$B$2:$B$93,0))))","v":""},"",{"$f":"IF(E230=\"Projekt bzw. BDA\",O230/100*I230*K230,IF(AND(E230=\"Diplomarbeit/Prüfer\",K230>=5),O230/100*I230*5,IF(AND(E230=\"Betreuung bis 5 FBA\",K230>=2),O230/100*I230*1,IF(AND(E230=\"Betreuung FBA/je Prüfer\",K230>=2),O230/100*I230*1,IF(K230<>\"\",(O230/100*I230*K230),IF(K230=\"\",\"\"))))))","v":""}]
[{"$f":"IF(B231=\"\",\"\",VLOOKUP(B231,Lehrerliste!$A$1:$B$8857,2,0))","v":""},null,null,null,null,null,null,null,null,null,null,"","","",{"$f":"IF(E231=\"\",\"\",IF(E231=\"Projekt bzw. BDA\",VLOOKUP(J231,G!$V$1:$W$100,2),INDEX(G!$C$2:$C$93,MATCH(Stammdaten!D231&Stammdaten!E231,G!$A$2:$A$93&G!$B$2:$B$93,0))))","v":""},"",{"$f":"IF(E231=\"Projekt bzw. BDA\",O231/100*I231*K231,IF(AND(E231=\"Diplomarbeit/Prüfer\",K231>=5),O231/100*I231*5,IF(AND(E231=\"Betreuung bis 5 FBA\",K231>=2),O231/100*I231*1,IF(AND(E231=\"Betreuung FBA/je Prüfer\",K231>=2),O231/100*I231*1,IF(K231<>\"\",(O231/100*I231*K231),IF(K231=\"\",\"\"))))))","v":""}]
[{"$f":"IF(B232=\"\",\"\",VLOOKUP(B232,Lehrerliste!$A$1:$B$8857,2,0))","v":""},null,null,null,null,null,null,null,null,null,null,"","","",{"$f":"IF(E232=\"\",\"\",IF(E232=\"Projekt bzw. BDA\",VLOOKUP(J232,G!$V$1:$W$100,2),INDEX(G!$C$2:$C$93,MATCH(Stammdaten!D232&Stammdaten!E232,G!$A$2:$A$93&G!$B$2:$B$93,0))))","v":""},"",{"$f":"IF(E232=\"Projekt bzw. BDA\",O232/100*I232*K232,IF(AND(E232=\"Diplomarbeit/Prüfer\",K232>=5),O232/100*I232*5,IF(AND(E232=\"Betreuung bis 5 FBA\",K232>=2),O232/100*I232*1,IF(AND(E232=\"Betreuung FBA/je Prüfer\",K232>=2),O232/100*I232*1,IF(K232<>\"\",(O232/100*I232*K232),IF(K232=\"\",\"\"))))))","v":""}]
[{"$f":"IF(B233=\"\",\"\",VLOOKUP(B233,Lehrerliste!$A$1:$B$8857,2,0))","v":""},null,null,null,null,null,null,null,null,null,null,"","","",{"$f":"IF(E233=\"\",\"\",IF(E233=\"Projekt bzw. BDA\",VLOOKUP(J233,G!$V$1:$W$100,2),INDEX(G!$C$2:$C$93,MATCH(Stammdaten!D233&Stammdaten!E233,G!$A$2:$A$93&G!$B$2:$B$93,0))))","v":""},"",{"$f":"IF(E233=\"Projekt bzw. BDA\",O233/100*I233*K233,IF(AND(E233=\"Diplomarbeit/Prüfer\",K233>=5),O233/100*I233*5,IF(AND(E233=\"Betreuung bis 5 FBA\",K233>=2),O233/100*I233*1,IF(AND(E233=\"Betreuung FBA/je Prüfer\",K233>=2),O233/100*I233*1,IF(K233<>\"\",(O233/100*I233*K233),IF(K233=\"\",\"\"))))))","v":""}]
[{"$f":"IF(B234=\"\",\"\",VLOOKUP(B234,Lehrerliste!$A$1:$B$8857,2,0))","v":""},null,null,null,null,null,null,null,null,null,null,"","","",{"$f":"IF(E234=\"\",\"\",IF(E234=\"Projekt bzw. BDA\",VLOOKUP(J234,G!$V$1:$W$100,2),INDEX(G!$C$2:$C$93,MATCH(Stammdaten!D234&Stammdaten!E234,G!$A$2:$A$93&G!$B$2:$B$93,0))))","v":""},"",{"$f":"IF(E234=\"Projekt bzw. BDA\",O234/100*I234*K234,IF(AND(E234=\"Diplomarbeit/Prüfer\",K234>=5),O234/100*I234*5,IF(AND(E234=\"Betreuung bis 5 FBA\",K234>=2),O234/100*I234*1,IF(AND(E234=\"Betreuung FBA/je Prüfer\",K234>=2),O234/100*I234*1,IF(K234<>\"\",(O234/100*I234*K234),IF(K234=\"\",\"\"))))))","v":""}]
[{"$f":"IF(B235=\"\",\"\",VLOOKUP(B235,Lehrerliste!$A$1:$B$8857,2,0))","v":""},null,null,null,null,null,null,null,null,null,null,"","","",{"$f":"IF(E235=\"\",\"\",IF(E235=\"Projekt bzw. BDA\",VLOOKUP(J235,G!$V$1:$W$100,2),INDEX(G!$C$2:$C$93,MATCH(Stammdaten!D235&Stammdaten!E235,G!$A$2:$A$93&G!$B$2:$B$93,0))))","v":""},"",{"$f":"IF(E235=\"Projekt bzw. BDA\",O235/100*I235*K235,IF(AND(E235=\"Diplomarbeit/Prüfer\",K235>=5),O235/100*I235*5,IF(AND(E235=\"Betreuung bis 5 FBA\",K235>=2),O235/100*I235*1,IF(AND(E235=\"Betreuung FBA/je Prüfer\",K235>=2),O235/100*I235*1,IF(K235<>\"\",(O235/100*I235*K235),IF(K235=\"\",\"\"))))))","v":""}]
[{"$f":"IF(B236=\"\",\"\",VLOOKUP(B236,Lehrerliste!$A$1:$B$8857,2,0))","v":""},null,null,null,null,null,null,null,null,null,null,"","","",{"$f":"IF(E236=\"\",\"\",IF(E236=\"Projekt bzw. BDA\",VLOOKUP(J236,G!$V$1:$W$100,2),INDEX(G!$C$2:$C$93,MATCH(Stammdaten!D236&Stammdaten!E236,G!$A$2:$A$93&G!$B$2:$B$93,0))))","v":""},"",{"$f":"IF(E236=\"Projekt bzw. BDA\",O236/100*I236*K236,IF(AND(E236=\"Diplomarbeit/Prüfer\",K236>=5),O236/100*I236*5,IF(AND(E236=\"Betreuung bis 5 FBA\",K236>=2),O236/100*I236*1,IF(AND(E236=\"Betreuung FBA/je Prüfer\",K236>=2),O236/100*I236*1,IF(K236<>\"\",(O236/100*I236*K236),IF(K236=\"\",\"\"))))))","v":""}]
[{"$f":"IF(B237=\"\",\"\",VLOOKUP(B237,Lehrerliste!$A$1:$B$8857,2,0))","v":""},null,null,null,null,null,null,null,null,null,null,"","","",{"$f":"IF(E237=\"\",\"\",IF(E237=\"Projekt bzw. BDA\",VLOOKUP(J237,G!$V$1:$W$100,2),INDEX(G!$C$2:$C$93,MATCH(Stammdaten!D237&Stammdaten!E237,G!$A$2:$A$93&G!$B$2:$B$93,0))))","v":""},"",{"$f":"IF(E237=\"Projekt bzw. BDA\",O237/100*I237*K237,IF(AND(E237=\"Diplomarbeit/Prüfer\",K237>=5),O237/100*I237*5,IF(AND(E237=\"Betreuung bis 5 FBA\",K237>=2),O237/100*I237*1,IF(AND(E237=\"Betreuung FBA/je Prüfer\",K237>=2),O237/100*I237*1,IF(K237<>\"\",(O237/100*I237*K237),IF(K237=\"\",\"\"))))))","v":""}]
[{"$f":"IF(B238=\"\",\"\",VLOOKUP(B238,Lehrerliste!$A$1:$B$8857,2,0))","v":""},null,null,null,null,null,null,null,null,null,null,"","","",{"$f":"IF(E238=\"\",\"\",IF(E238=\"Projekt bzw. BDA\",VLOOKUP(J238,G!$V$1:$W$100,2),INDEX(G!$C$2:$C$93,MATCH(Stammdaten!D238&Stammdaten!E238,G!$A$2:$A$93&G!$B$2:$B$93,0))))","v":""},"",{"$f":"IF(E238=\"Projekt bzw. BDA\",O238/100*I238*K238,IF(AND(E238=\"Diplomarbeit/Prüfer\",K238>=5),O238/100*I238*5,IF(AND(E238=\"Betreuung bis 5 FBA\",K238>=2),O238/100*I238*1,IF(AND(E238=\"Betreuung FBA/je Prüfer\",K238>=2),O238/100*I238*1,IF(K238<>\"\",(O238/100*I238*K238),IF(K238=\"\",\"\"))))))","v":""}]
[{"$f":"IF(B239=\"\",\"\",VLOOKUP(B239,Lehrerliste!$A$1:$B$8857,2,0))","v":""},null,null,null,null,null,null,null,null,null,null,"","","",{"$f":"IF(E239=\"\",\"\",IF(E239=\"Projekt bzw. BDA\",VLOOKUP(J239,G!$V$1:$W$100,2),INDEX(G!$C$2:$C$93,MATCH(Stammdaten!D239&Stammdaten!E239,G!$A$2:$A$93&G!$B$2:$B$93,0))))","v":""},"",{"$f":"IF(E239=\"Projekt bzw. BDA\",O239/100*I239*K239,IF(AND(E239=\"Diplomarbeit/Prüfer\",K239>=5),O239/100*I239*5,IF(AND(E239=\"Betreuung bis 5 FBA\",K239>=2),O239/100*I239*1,IF(AND(E239=\"Betreuung FBA/je Prüfer\",K239>=2),O239/100*I239*1,IF(K239<>\"\",(O239/100*I239*K239),IF(K239=\"\",\"\"))))))","v":""}]
[{"$f":"IF(B240=\"\",\"\",VLOOKUP(B240,Lehrerliste!$A$1:$B$8857,2,0))","v":""},null,null,null,null,null,null,null,null,null,null,"","","",{"$f":"IF(E240=\"\",\"\",IF(E240=\"Projekt bzw. BDA\",VLOOKUP(J240,G!$V$1:$W$100,2),INDEX(G!$C$2:$C$93,MATCH(Stammdaten!D240&Stammdaten!E240,G!$A$2:$A$93&G!$B$2:$B$93,0))))","v":""},"",{"$f":"IF(E240=\"Projekt bzw. BDA\",O240/100*I240*K240,IF(AND(E240=\"Diplomarbeit/Prüfer\",K240>=5),O240/100*I240*5,IF(AND(E240=\"Betreuung bis 5 FBA\",K240>=2),O240/100*I240*1,IF(AND(E240=\"Betreuung FBA/je Prüfer\",K240>=2),O240/100*I240*1,IF(K240<>\"\",(O240/100*I240*K240),IF(K240=\"\",\"\"))))))","v":""}]
[{"$f":"IF(B241=\"\",\"\",VLOOKUP(B241,Lehrerliste!$A$1:$B$8857,2,0))","v":""},null,null,null,null,null,null,null,null,null,null,"","","",{"$f":"IF(E241=\"\",\"\",IF(E241=\"Projekt bzw. BDA\",VLOOKUP(J241,G!$V$1:$W$100,2),INDEX(G!$C$2:$C$93,MATCH(Stammdaten!D241&Stammdaten!E241,G!$A$2:$A$93&G!$B$2:$B$93,0))))","v":""},"",{"$f":"IF(E241=\"Projekt bzw. BDA\",O241/100*I241*K241,IF(AND(E241=\"Diplomarbeit/Prüfer\",K241>=5),O241/100*I241*5,IF(AND(E241=\"Betreuung bis 5 FBA\",K241>=2),O241/100*I241*1,IF(AND(E241=\"Betreuung FBA/je Prüfer\",K241>=2),O241/100*I241*1,IF(K241<>\"\",(O241/100*I241*K241),IF(K241=\"\",\"\"))))))","v":""}]
[{"$f":"IF(B242=\"\",\"\",VLOOKUP(B242,Lehrerliste!$A$1:$B$8857,2,0))","v":""},null,null,null,null,null,null,null,null,null,null,"","","",{"$f":"IF(E242=\"\",\"\",IF(E242=\"Projekt bzw. BDA\",VLOOKUP(J242,G!$V$1:$W$100,2),INDEX(G!$C$2:$C$93,MATCH(Stammdaten!D242&Stammdaten!E242,G!$A$2:$A$93&G!$B$2:$B$93,0))))","v":""},"",{"$f":"IF(E242=\"Projekt bzw. BDA\",O242/100*I242*K242,IF(AND(E242=\"Diplomarbeit/Prüfer\",K242>=5),O242/100*I242*5,IF(AND(E242=\"Betreuung bis 5 FBA\",K242>=2),O242/100*I242*1,IF(AND(E242=\"Betreuung FBA/je Prüfer\",K242>=2),O242/100*I242*1,IF(K242<>\"\",(O242/100*I242*K242),IF(K242=\"\",\"\"))))))","v":""}]
[{"$f":"IF(B243=\"\",\"\",VLOOKUP(B243,Lehrerliste!$A$1:$B$8857,2,0))","v":""},null,null,null,null,null,null,null,null,null,null,"","","",{"$f":"IF(E243=\"\",\"\",IF(E243=\"Projekt bzw. BDA\",VLOOKUP(J243,G!$V$1:$W$100,2),INDEX(G!$C$2:$C$93,MATCH(Stammdaten!D243&Stammdaten!E243,G!$A$2:$A$93&G!$B$2:$B$93,0))))","v":""},"",{"$f":"IF(E243=\"Projekt bzw. BDA\",O243/100*I243*K243,IF(AND(E243=\"Diplomarbeit/Prüfer\",K243>=5),O243/100*I243*5,IF(AND(E243=\"Betreuung bis 5 FBA\",K243>=2),O243/100*I243*1,IF(AND(E243=\"Betreuung FBA/je Prüfer\",K243>=2),O243/100*I243*1,IF(K243<>\"\",(O243/100*I243*K243),IF(K243=\"\",\"\"))))))","v":""}]
[{"$f":"IF(B244=\"\",\"\",VLOOKUP(B244,Lehrerliste!$A$1:$B$8857,2,0))","v":""},null,null,null,null,null,null,null,null,null,null,"","","",{"$f":"IF(E244=\"\",\"\",IF(E244=\"Projekt bzw. BDA\",VLOOKUP(J244,G!$V$1:$W$100,2),INDEX(G!$C$2:$C$93,MATCH(Stammdaten!D244&Stammdaten!E244,G!$A$2:$A$93&G!$B$2:$B$93,0))))","v":""},"",{"$f":"IF(E244=\"Projekt bzw. BDA\",O244/100*I244*K244,IF(AND(E244=\"Diplomarbeit/Prüfer\",K244>=5),O244/100*I244*5,IF(AND(E244=\"Betreuung bis 5 FBA\",K244>=2),O244/100*I244*1,IF(AND(E244=\"Betreuung FBA/je Prüfer\",K244>=2),O244/100*I244*1,IF(K244<>\"\",(O244/100*I244*K244),IF(K244=\"\",\"\"))))))","v":""}]
[{"$f":"IF(B245=\"\",\"\",VLOOKUP(B245,Lehrerliste!$A$1:$B$8857,2,0))","v":""},null,null,null,null,null,null,null,null,null,null,"","","",{"$f":"IF(E245=\"\",\"\",IF(E245=\"Projekt bzw. BDA\",VLOOKUP(J245,G!$V$1:$W$100,2),INDEX(G!$C$2:$C$93,MATCH(Stammdaten!D245&Stammdaten!E245,G!$A$2:$A$93&G!$B$2:$B$93,0))))","v":""},"",{"$f":"IF(E245=\"Projekt bzw. BDA\",O245/100*I245*K245,IF(AND(E245=\"Diplomarbeit/Prüfer\",K245>=5),O245/100*I245*5,IF(AND(E245=\"Betreuung bis 5 FBA\",K245>=2),O245/100*I245*1,IF(AND(E245=\"Betreuung FBA/je Prüfer\",K245>=2),O245/100*I245*1,IF(K245<>\"\",(O245/100*I245*K245),IF(K245=\"\",\"\"))))))","v":""}]
[{"$f":"IF(B246=\"\",\"\",VLOOKUP(B246,Lehrerliste!$A$1:$B$8857,2,0))","v":""},null,null,null,null,null,null,null,null,null,null,"","","",{"$f":"IF(E246=\"\",\"\",IF(E246=\"Projekt bzw. BDA\",VLOOKUP(J246,G!$V$1:$W$100,2),INDEX(G!$C$2:$C$93,MATCH(Stammdaten!D246&Stammdaten!E246,G!$A$2:$A$93&G!$B$2:$B$93,0))))","v":""},"",{"$f":"IF(E246=\"Projekt bzw. BDA\",O246/100*I246*K246,IF(AND(E246=\"Diplomarbeit/Prüfer\",K246>=5),O246/100*I246*5,IF(AND(E246=\"Betreuung bis 5 FBA\",K246>=2),O246/100*I246*1,IF(AND(E246=\"Betreuung FBA/je Prüfer\",K246>=2),O246/100*I246*1,IF(K246<>\"\",(O246/100*I246*K246),IF(K246=\"\",\"\"))))))","v":""}]
[{"$f":"IF(B247=\"\",\"\",VLOOKUP(B247,Lehrerliste!$A$1:$B$8857,2,0))","v":""},null,null,null,null,null,null,null,null,null,null,"","","",{"$f":"IF(E247=\"\",\"\",IF(E247=\"Projekt bzw. BDA\",VLOOKUP(J247,G!$V$1:$W$100,2),INDEX(G!$C$2:$C$93,MATCH(Stammdaten!D247&Stammdaten!E247,G!$A$2:$A$93&G!$B$2:$B$93,0))))","v":""},"",{"$f":"IF(E247=\"Projekt bzw. BDA\",O247/100*I247*K247,IF(AND(E247=\"Diplomarbeit/Prüfer\",K247>=5),O247/100*I247*5,IF(AND(E247=\"Betreuung bis 5 FBA\",K247>=2),O247/100*I247*1,IF(AND(E247=\"Betreuung FBA/je Prüfer\",K247>=2),O247/100*I247*1,IF(K247<>\"\",(O247/100*I247*K247),IF(K247=\"\",\"\"))))))","v":""}]
[{"$f":"IF(B248=\"\",\"\",VLOOKUP(B248,Lehrerliste!$A$1:$B$8857,2,0))","v":""},null,null,null,null,null,null,null,null,null,null,"","","",{"$f":"IF(E248=\"\",\"\",IF(E248=\"Projekt bzw. BDA\",VLOOKUP(J248,G!$V$1:$W$100,2),INDEX(G!$C$2:$C$93,MATCH(Stammdaten!D248&Stammdaten!E248,G!$A$2:$A$93&G!$B$2:$B$93,0))))","v":""},"",{"$f":"IF(E248=\"Projekt bzw. BDA\",O248/100*I248*K248,IF(AND(E248=\"Diplomarbeit/Prüfer\",K248>=5),O248/100*I248*5,IF(AND(E248=\"Betreuung bis 5 FBA\",K248>=2),O248/100*I248*1,IF(AND(E248=\"Betreuung FBA/je Prüfer\",K248>=2),O248/100*I248*1,IF(K248<>\"\",(O248/100*I248*K248),IF(K248=\"\",\"\"))))))","v":""}]
[{"$f":"IF(B249=\"\",\"\",VLOOKUP(B249,Lehrerliste!$A$1:$B$8857,2,0))","v":""},null,null,null,null,null,null,null,null,null,null,"","","",{"$f":"IF(E249=\"\",\"\",IF(E249=\"Projekt bzw. BDA\",VLOOKUP(J249,G!$V$1:$W$100,2),INDEX(G!$C$2:$C$93,MATCH(Stammdaten!D249&Stammdaten!E249,G!$A$2:$A$93&G!$B$2:$B$93,0))))","v":""},"",{"$f":"IF(E249=\"Projekt bzw. BDA\",O249/100*I249*K249,IF(AND(E249=\"Diplomarbeit/Prüfer\",K249>=5),O249/100*I249*5,IF(AND(E249=\"Betreuung bis 5 FBA\",K249>=2),O249/100*I249*1,IF(AND(E249=\"Betreuung FBA/je Prüfer\",K249>=2),O249/100*I249*1,IF(K249<>\"\",(O249/100*I249*K249),IF(K249=\"\",\"\"))))))","v":""}]
[{"$f":"IF(B250=\"\",\"\",VLOOKUP(B250,Lehrerliste!$A$1:$B$8857,2,0))","v":""},null,null,null,null,null,null,null,null,null,null,"","","",{"$f":"IF(E250=\"\",\"\",IF(E250=\"Projekt bzw. BDA\",VLOOKUP(J250,G!$V$1:$W$100,2),INDEX(G!$C$2:$C$93,MATCH(Stammdaten!D250&Stammdaten!E250,G!$A$2:$A$93&G!$B$2:$B$93,0))))","v":""},"",{"$f":"IF(E250=\"Projekt bzw. BDA\",O250/100*I250*K250,IF(AND(E250=\"Diplomarbeit/Prüfer\",K250>=5),O250/100*I250*5,IF(AND(E250=\"Betreuung bis 5 FBA\",K250>=2),O250/100*I250*1,IF(AND(E250=\"Betreuung FBA/je Prüfer\",K250>=2),O250/100*I250*1,IF(K250<>\"\",(O250/100*I250*K250),IF(K250=\"\",\"\"))))))","v":""}]
[{"$f":"IF(B251=\"\",\"\",VLOOKUP(B251,Lehrerliste!$A$1:$B$8857,2,0))","v":""},null,null,null,null,null,null,null,null,null,null,"","","",{"$f":"IF(E251=\"\",\"\",IF(E251=\"Projekt bzw. BDA\",VLOOKUP(J251,G!$V$1:$W$100,2),INDEX(G!$C$2:$C$93,MATCH(Stammdaten!D251&Stammdaten!E251,G!$A$2:$A$93&G!$B$2:$B$93,0))))","v":""},"",{"$f":"IF(E251=\"Projekt bzw. BDA\",O251/100*I251*K251,IF(AND(E251=\"Diplomarbeit/Prüfer\",K251>=5),O251/100*I251*5,IF(AND(E251=\"Betreuung bis 5 FBA\",K251>=2),O251/100*I251*1,IF(AND(E251=\"Betreuung FBA/je Prüfer\",K251>=2),O251/100*I251*1,IF(K251<>\"\",(O251/100*I251*K251),IF(K251=\"\",\"\"))))))","v":""}]
[{"$f":"IF(B252=\"\",\"\",VLOOKUP(B252,Lehrerliste!$A$1:$B$8857,2,0))","v":""},null,null,null,null,null,null,null,null,null,null,"","","",{"$f":"IF(E252=\"\",\"\",IF(E252=\"Projekt bzw. BDA\",VLOOKUP(J252,G!$V$1:$W$100,2),INDEX(G!$C$2:$C$93,MATCH(Stammdaten!D252&Stammdaten!E252,G!$A$2:$A$93&G!$B$2:$B$93,0))))","v":""},"",{"$f":"IF(E252=\"Projekt bzw. BDA\",O252/100*I252*K252,IF(AND(E252=\"Diplomarbeit/Prüfer\",K252>=5),O252/100*I252*5,IF(AND(E252=\"Betreuung bis 5 FBA\",K252>=2),O252/100*I252*1,IF(AND(E252=\"Betreuung FBA/je Prüfer\",K252>=2),O252/100*I252*1,IF(K252<>\"\",(O252/100*I252*K252),IF(K252=\"\",\"\"))))))","v":""}]
[{"$f":"IF(B253=\"\",\"\",VLOOKUP(B253,Lehrerliste!$A$1:$B$8857,2,0))","v":""},null,null,null,null,null,null,null,null,null,null,"","","",{"$f":"IF(E253=\"\",\"\",IF(E253=\"Projekt bzw. BDA\",VLOOKUP(J253,G!$V$1:$W$100,2),INDEX(G!$C$2:$C$93,MATCH(Stammdaten!D253&Stammdaten!E253,G!$A$2:$A$93&G!$B$2:$B$93,0))))","v":""},"",{"$f":"IF(E253=\"Projekt bzw. BDA\",O253/100*I253*K253,IF(AND(E253=\"Diplomarbeit/Prüfer\",K253>=5),O253/100*I253*5,IF(AND(E253=\"Betreuung bis 5 FBA\",K253>=2),O253/100*I253*1,IF(AND(E253=\"Betreuung FBA/je Prüfer\",K253>=2),O253/100*I253*1,IF(K253<>\"\",(O253/100*I253*K253),IF(K253=\"\",\"\"))))))","v":""}]
[{"$f":"IF(B254=\"\",\"\",VLOOKUP(B254,Lehrerliste!$A$1:$B$8857,2,0))","v":""},null,null,null,null,null,null,null,null,null,null,"","","",{"$f":"IF(E254=\"\",\"\",IF(E254=\"Projekt bzw. BDA\",VLOOKUP(J254,G!$V$1:$W$100,2),INDEX(G!$C$2:$C$93,MATCH(Stammdaten!D254&Stammdaten!E254,G!$A$2:$A$93&G!$B$2:$B$93,0))))","v":""},"",{"$f":"IF(E254=\"Projekt bzw. BDA\",O254/100*I254*K254,IF(AND(E254=\"Diplomarbeit/Prüfer\",K254>=5),O254/100*I254*5,IF(AND(E254=\"Betreuung bis 5 FBA\",K254>=2),O254/100*I254*1,IF(AND(E254=\"Betreuung FBA/je Prüfer\",K254>=2),O254/100*I254*1,IF(K254<>\"\",(O254/100*I254*K254),IF(K254=\"\",\"\"))))))","v":""}]
[{"$f":"IF(B255=\"\",\"\",VLOOKUP(B255,Lehrerliste!$A$1:$B$8857,2,0))","v":""},null,null,null,null,null,null,null,null,null,null,"","","",{"$f":"IF(E255=\"\",\"\",IF(E255=\"Projekt bzw. BDA\",VLOOKUP(J255,G!$V$1:$W$100,2),INDEX(G!$C$2:$C$93,MATCH(Stammdaten!D255&Stammdaten!E255,G!$A$2:$A$93&G!$B$2:$B$93,0))))","v":""},"",{"$f":"IF(E255=\"Projekt bzw. BDA\",O255/100*I255*K255,IF(AND(E255=\"Diplomarbeit/Prüfer\",K255>=5),O255/100*I255*5,IF(AND(E255=\"Betreuung bis 5 FBA\",K255>=2),O255/100*I255*1,IF(AND(E255=\"Betreuung FBA/je Prüfer\",K255>=2),O255/100*I255*1,IF(K255<>\"\",(O255/100*I255*K255),IF(K255=\"\",\"\"))))))","v":""}]
[{"$f":"IF(B256=\"\",\"\",VLOOKUP(B256,Lehrerliste!$A$1:$B$8857,2,0))","v":""},null,null,null,null,null,null,null,null,null,null,"","","",{"$f":"IF(E256=\"\",\"\",IF(E256=\"Projekt bzw. BDA\",VLOOKUP(J256,G!$V$1:$W$100,2),INDEX(G!$C$2:$C$93,MATCH(Stammdaten!D256&Stammdaten!E256,G!$A$2:$A$93&G!$B$2:$B$93,0))))","v":""},"",{"$f":"IF(E256=\"Projekt bzw. BDA\",O256/100*I256*K256,IF(AND(E256=\"Diplomarbeit/Prüfer\",K256>=5),O256/100*I256*5,IF(AND(E256=\"Betreuung bis 5 FBA\",K256>=2),O256/100*I256*1,IF(AND(E256=\"Betreuung FBA/je Prüfer\",K256>=2),O256/100*I256*1,IF(K256<>\"\",(O256/100*I256*K256),IF(K256=\"\",\"\"))))))","v":""}]
[{"$f":"IF(B257=\"\",\"\",VLOOKUP(B257,Lehrerliste!$A$1:$B$8857,2,0))","v":""},null,null,null,null,null,null,null,null,null,null,"","","",{"$f":"IF(E257=\"\",\"\",IF(E257=\"Projekt bzw. BDA\",VLOOKUP(J257,G!$V$1:$W$100,2),INDEX(G!$C$2:$C$93,MATCH(Stammdaten!D257&Stammdaten!E257,G!$A$2:$A$93&G!$B$2:$B$93,0))))","v":""},"",{"$f":"IF(E257=\"Projekt bzw. BDA\",O257/100*I257*K257,IF(AND(E257=\"Diplomarbeit/Prüfer\",K257>=5),O257/100*I257*5,IF(AND(E257=\"Betreuung bis 5 FBA\",K257>=2),O257/100*I257*1,IF(AND(E257=\"Betreuung FBA/je Prüfer\",K257>=2),O257/100*I257*1,IF(K257<>\"\",(O257/100*I257*K257),IF(K257=\"\",\"\"))))))","v":""}]
[{"$f":"IF(B258=\"\",\"\",VLOOKUP(B258,Lehrerliste!$A$1:$B$8857,2,0))","v":""},null,null,null,null,null,null,null,null,null,null,"","","",{"$f":"IF(E258=\"\",\"\",IF(E258=\"Projekt bzw. BDA\",VLOOKUP(J258,G!$V$1:$W$100,2),INDEX(G!$C$2:$C$93,MATCH(Stammdaten!D258&Stammdaten!E258,G!$A$2:$A$93&G!$B$2:$B$93,0))))","v":""},"",{"$f":"IF(E258=\"Projekt bzw. BDA\",O258/100*I258*K258,IF(AND(E258=\"Diplomarbeit/Prüfer\",K258>=5),O258/100*I258*5,IF(AND(E258=\"Betreuung bis 5 FBA\",K258>=2),O258/100*I258*1,IF(AND(E258=\"Betreuung FBA/je Prüfer\",K258>=2),O258/100*I258*1,IF(K258<>\"\",(O258/100*I258*K258),IF(K258=\"\",\"\"))))))","v":""}]
[{"$f":"IF(B259=\"\",\"\",VLOOKUP(B259,Lehrerliste!$A$1:$B$8857,2,0))","v":""},null,null,null,null,null,null,null,null,null,null,"","","",{"$f":"IF(E259=\"\",\"\",IF(E259=\"Projekt bzw. BDA\",VLOOKUP(J259,G!$V$1:$W$100,2),INDEX(G!$C$2:$C$93,MATCH(Stammdaten!D259&Stammdaten!E259,G!$A$2:$A$93&G!$B$2:$B$93,0))))","v":""},"",{"$f":"IF(E259=\"Projekt bzw. BDA\",O259/100*I259*K259,IF(AND(E259=\"Diplomarbeit/Prüfer\",K259>=5),O259/100*I259*5,IF(AND(E259=\"Betreuung bis 5 FBA\",K259>=2),O259/100*I259*1,IF(AND(E259=\"Betreuung FBA/je Prüfer\",K259>=2),O259/100*I259*1,IF(K259<>\"\",(O259/100*I259*K259),IF(K259=\"\",\"\"))))))","v":""}]
[{"$f":"IF(B260=\"\",\"\",VLOOKUP(B260,Lehrerliste!$A$1:$B$8857,2,0))","v":""},null,null,null,null,null,null,null,null,null,null,"","","",{"$f":"IF(E260=\"\",\"\",IF(E260=\"Projekt bzw. BDA\",VLOOKUP(J260,G!$V$1:$W$100,2),INDEX(G!$C$2:$C$93,MATCH(Stammdaten!D260&Stammdaten!E260,G!$A$2:$A$93&G!$B$2:$B$93,0))))","v":""},"",{"$f":"IF(E260=\"Projekt bzw. BDA\",O260/100*I260*K260,IF(AND(E260=\"Diplomarbeit/Prüfer\",K260>=5),O260/100*I260*5,IF(AND(E260=\"Betreuung bis 5 FBA\",K260>=2),O260/100*I260*1,IF(AND(E260=\"Betreuung FBA/je Prüfer\",K260>=2),O260/100*I260*1,IF(K260<>\"\",(O260/100*I260*K260),IF(K260=\"\",\"\"))))))","v":""}]
[{"$f":"IF(B261=\"\",\"\",VLOOKUP(B261,Lehrerliste!$A$1:$B$8857,2,0))","v":""},null,null,null,null,null,null,null,null,null,null,"","","",{"$f":"IF(E261=\"\",\"\",IF(E261=\"Projekt bzw. BDA\",VLOOKUP(J261,G!$V$1:$W$100,2),INDEX(G!$C$2:$C$93,MATCH(Stammdaten!D261&Stammdaten!E261,G!$A$2:$A$93&G!$B$2:$B$93,0))))","v":""},"",{"$f":"IF(E261=\"Projekt bzw. BDA\",O261/100*I261*K261,IF(AND(E261=\"Diplomarbeit/Prüfer\",K261>=5),O261/100*I261*5,IF(AND(E261=\"Betreuung bis 5 FBA\",K261>=2),O261/100*I261*1,IF(AND(E261=\"Betreuung FBA/je Prüfer\",K261>=2),O261/100*I261*1,IF(K261<>\"\",(O261/100*I261*K261),IF(K261=\"\",\"\"))))))","v":""}]
[{"$f":"IF(B262=\"\",\"\",VLOOKUP(B262,Lehrerliste!$A$1:$B$8857,2,0))","v":""},null,null,null,null,null,null,null,null,null,null,"","","",{"$f":"IF(E262=\"\",\"\",IF(E262=\"Projekt bzw. BDA\",VLOOKUP(J262,G!$V$1:$W$100,2),INDEX(G!$C$2:$C$93,MATCH(Stammdaten!D262&Stammdaten!E262,G!$A$2:$A$93&G!$B$2:$B$93,0))))","v":""},"",{"$f":"IF(E262=\"Projekt bzw. BDA\",O262/100*I262*K262,IF(AND(E262=\"Diplomarbeit/Prüfer\",K262>=5),O262/100*I262*5,IF(AND(E262=\"Betreuung bis 5 FBA\",K262>=2),O262/100*I262*1,IF(AND(E262=\"Betreuung FBA/je Prüfer\",K262>=2),O262/100*I262*1,IF(K262<>\"\",(O262/100*I262*K262),IF(K262=\"\",\"\"))))))","v":""}]
[{"$f":"IF(B263=\"\",\"\",VLOOKUP(B263,Lehrerliste!$A$1:$B$8857,2,0))","v":""},null,null,null,null,null,null,null,null,null,null,"","","",{"$f":"IF(E263=\"\",\"\",IF(E263=\"Projekt bzw. BDA\",VLOOKUP(J263,G!$V$1:$W$100,2),INDEX(G!$C$2:$C$93,MATCH(Stammdaten!D263&Stammdaten!E263,G!$A$2:$A$93&G!$B$2:$B$93,0))))","v":""},"",{"$f":"IF(E263=\"Projekt bzw. BDA\",O263/100*I263*K263,IF(AND(E263=\"Diplomarbeit/Prüfer\",K263>=5),O263/100*I263*5,IF(AND(E263=\"Betreuung bis 5 FBA\",K263>=2),O263/100*I263*1,IF(AND(E263=\"Betreuung FBA/je Prüfer\",K263>=2),O263/100*I263*1,IF(K263<>\"\",(O263/100*I263*K263),IF(K263=\"\",\"\"))))))","v":""}]
[{"$f":"IF(B264=\"\",\"\",VLOOKUP(B264,Lehrerliste!$A$1:$B$8857,2,0))","v":""},null,null,null,null,null,null,null,null,null,null,"","","",{"$f":"IF(E264=\"\",\"\",IF(E264=\"Projekt bzw. BDA\",VLOOKUP(J264,G!$V$1:$W$100,2),INDEX(G!$C$2:$C$93,MATCH(Stammdaten!D264&Stammdaten!E264,G!$A$2:$A$93&G!$B$2:$B$93,0))))","v":""},"",{"$f":"IF(E264=\"Projekt bzw. BDA\",O264/100*I264*K264,IF(AND(E264=\"Diplomarbeit/Prüfer\",K264>=5),O264/100*I264*5,IF(AND(E264=\"Betreuung bis 5 FBA\",K264>=2),O264/100*I264*1,IF(AND(E264=\"Betreuung FBA/je Prüfer\",K264>=2),O264/100*I264*1,IF(K264<>\"\",(O264/100*I264*K264),IF(K264=\"\",\"\"))))))","v":""}]
[{"$f":"IF(B265=\"\",\"\",VLOOKUP(B265,Lehrerliste!$A$1:$B$8857,2,0))","v":""},null,null,null,null,null,null,null,null,null,null,"","","",{"$f":"IF(E265=\"\",\"\",IF(E265=\"Projekt bzw. BDA\",VLOOKUP(J265,G!$V$1:$W$100,2),INDEX(G!$C$2:$C$93,MATCH(Stammdaten!D265&Stammdaten!E265,G!$A$2:$A$93&G!$B$2:$B$93,0))))","v":""},"",{"$f":"IF(E265=\"Projekt bzw. BDA\",O265/100*I265*K265,IF(AND(E265=\"Diplomarbeit/Prüfer\",K265>=5),O265/100*I265*5,IF(AND(E265=\"Betreuung bis 5 FBA\",K265>=2),O265/100*I265*1,IF(AND(E265=\"Betreuung FBA/je Prüfer\",K265>=2),O265/100*I265*1,IF(K265<>\"\",(O265/100*I265*K265),IF(K265=\"\",\"\"))))))","v":""}]
[{"$f":"IF(B266=\"\",\"\",VLOOKUP(B266,Lehrerliste!$A$1:$B$8857,2,0))","v":""},null,null,null,null,null,null,null,null,null,null,"","","",{"$f":"IF(E266=\"\",\"\",IF(E266=\"Projekt bzw. BDA\",VLOOKUP(J266,G!$V$1:$W$100,2),INDEX(G!$C$2:$C$93,MATCH(Stammdaten!D266&Stammdaten!E266,G!$A$2:$A$93&G!$B$2:$B$93,0))))","v":""},"",{"$f":"IF(E266=\"Projekt bzw. BDA\",O266/100*I266*K266,IF(AND(E266=\"Diplomarbeit/Prüfer\",K266>=5),O266/100*I266*5,IF(AND(E266=\"Betreuung bis 5 FBA\",K266>=2),O266/100*I266*1,IF(AND(E266=\"Betreuung FBA/je Prüfer\",K266>=2),O266/100*I266*1,IF(K266<>\"\",(O266/100*I266*K266),IF(K266=\"\",\"\"))))))","v":""}]
[{"$f":"IF(B267=\"\",\"\",VLOOKUP(B267,Lehrerliste!$A$1:$B$8857,2,0))","v":""},null,null,null,null,null,null,null,null,null,null,{"$f":"IF(D267=\"Reifepr./Diplompr.\",1,IF(D267=\"Abschlussprüfung\",10,IF(D267=\"Vorpr. d. Reifepr./Diplompr./AP\",2,IF(D267=\"Externistenreifeprüfung\",3,IF(D267=\"Zulassungsprüfung z. Extern.RP\",4,IF(D267=\"Sonst. Externistenprüfungen\",5,IF(D267=\"Aufnahms- u. Einstufungsprüfungen\",6,IF(D267=\"Komm. Prüfung/Kolloquien\",7,IF(D267=\"Zertifikatsprüfung Käsek./Jungbark.\",8,IF(D267=\"BRP / Lehre m. Matura\",9,IF(D267=\"Zertifikatsprüfung Weinsommelier\",8,\"\")))))))))))","v":""},{"$f":"IF(E267=\"Vorsitz\",1,IF(E267=\"Vorsitz/mdl. Kompens.\",1,IF(E267=\"Schulleiter/AV/fachk. LP\",1,IF(E267=\"Schulleit./AV/LP/mdl. Komp\",1,IF(E267=\"JV/FV/SK/LP\",1,IF(E267=\"JV/FV/SK/LP/mdl. Komp.\",1,IF(E267=\"Klassenvorstand\",1,IF(E267=\"Klassenvorst./mdl. Komp.\",1,IF(E267=\"Schulleiter/AV/LP\",1,IF(E267=\"KV/FV/SK/LP\",1,\"\"))))))))))","v":""},{"$f":"IFERROR(IF(K267=\"\",\"\",IF(AND(L267=1,M267=1),(O267*F267),IF(AND(L267=11,M267=1),(O267*F267), IF(AND(L267=10,M267=1),(O267*F267),VALUE(O267))))),\"\")","v":""},{"$f":"IF(E267=\"\",\"\",IF(E267=\"Projekt bzw. BDA\",VLOOKUP(J267,G!$V$1:$W$100,2),INDEX(G!$C$2:$C$93,MATCH(Stammdaten!D267&Stammdaten!E267,G!$A$2:$A$93&G!$B$2:$B$93,0))))","v":""},{"$f":"IFERROR(IF(B267=\"\",\"\",IF(K267=\"\",\"0,00\",IF(AND(L267=1,M267=1),VALUE(Q267*F267),IF(AND(L267=11,M267=1),VALUE(Q267*F267),IF(AND(L267=10,M267=1),VALUE(Q267*F267),VALUE(Q267)))))),\"\")","v":""},{"$f":"IF(E267=\"Projekt bzw. BDA\",O267/100*I267*K267,IF(AND(E267=\"Diplomarbeit/Prüfer\",K267>=5),O267/100*I267*5,IF(AND(E267=\"Betreuung bis 5 FBA\",K267>=2),O267/100*I267*1,IF(AND(E267=\"Betreuung FBA/je Prüfer\",K267>=2),O267/100*I267*1,IF(K267<>\"\",(O267/100*I267*K267),IF(K267=\"\",\"\"))))))","v":""}]
[{"$f":"IF(B268=\"\",\"\",VLOOKUP(B268,Lehrerliste!$A$1:$B$8857,2,0))","v":""},null,null,null,null,null,null,null,null,null,null,"","","",{"$f":"IF(E268=\"\",\"\",IF(E268=\"Projekt bzw. BDA\",VLOOKUP(J268,G!$V$1:$W$100,2),INDEX(G!$C$2:$C$93,MATCH(Stammdaten!D268&Stammdaten!E268,G!$A$2:$A$93&G!$B$2:$B$93,0))))","v":""},"",{"$f":"IF(E268=\"Projekt bzw. BDA\",O268/100*I268*K268,IF(AND(E268=\"Diplomarbeit/Prüfer\",K268>=5),O268/100*I268*5,IF(AND(E268=\"Betreuung bis 5 FBA\",K268>=2),O268/100*I268*1,IF(AND(E268=\"Betreuung FBA/je Prüfer\",K268>=2),O268/100*I268*1,IF(K268<>\"\",(O268/100*I268*K268),IF(K268=\"\",\"\"))))))","v":""}]
[{"$f":"IF(B269=\"\",\"\",VLOOKUP(B269,Lehrerliste!$A$1:$B$8857,2,0))","v":""},null,null,null,null,null,null,null,null,null,null,"","","",{"$f":"IF(E269=\"\",\"\",IF(E269=\"Projekt bzw. BDA\",VLOOKUP(J269,G!$V$1:$W$100,2),INDEX(G!$C$2:$C$93,MATCH(Stammdaten!D269&Stammdaten!E269,G!$A$2:$A$93&G!$B$2:$B$93,0))))","v":""},"",{"$f":"IF(E269=\"Projekt bzw. BDA\",O269/100*I269*K269,IF(AND(E269=\"Diplomarbeit/Prüfer\",K269>=5),O269/100*I269*5,IF(AND(E269=\"Betreuung bis 5 FBA\",K269>=2),O269/100*I269*1,IF(AND(E269=\"Betreuung FBA/je Prüfer\",K269>=2),O269/100*I269*1,IF(K269<>\"\",(O269/100*I269*K269),IF(K269=\"\",\"\"))))))","v":""}]
[{"$f":"IF(B270=\"\",\"\",VLOOKUP(B270,Lehrerliste!$A$1:$B$8857,2,0))","v":""},null,null,null,null,null,null,null,null,null,null,"","","",{"$f":"IF(E270=\"\",\"\",IF(E270=\"Projekt bzw. BDA\",VLOOKUP(J270,G!$V$1:$W$100,2),INDEX(G!$C$2:$C$93,MATCH(Stammdaten!D270&Stammdaten!E270,G!$A$2:$A$93&G!$B$2:$B$93,0))))","v":""},"",{"$f":"IF(E270=\"Projekt bzw. BDA\",O270/100*I270*K270,IF(AND(E270=\"Diplomarbeit/Prüfer\",K270>=5),O270/100*I270*5,IF(AND(E270=\"Betreuung bis 5 FBA\",K270>=2),O270/100*I270*1,IF(AND(E270=\"Betreuung FBA/je Prüfer\",K270>=2),O270/100*I270*1,IF(K270<>\"\",(O270/100*I270*K270),IF(K270=\"\",\"\"))))))","v":""}]
[{"$f":"IF(B271=\"\",\"\",VLOOKUP(B271,Lehrerliste!$A$1:$B$8857,2,0))","v":""},null,null,null,null,null,null,null,null,null,null,"","","",{"$f":"IF(E271=\"\",\"\",IF(E271=\"Projekt bzw. BDA\",VLOOKUP(J271,G!$V$1:$W$100,2),INDEX(G!$C$2:$C$93,MATCH(Stammdaten!D271&Stammdaten!E271,G!$A$2:$A$93&G!$B$2:$B$93,0))))","v":""},"",{"$f":"IF(E271=\"Projekt bzw. BDA\",O271/100*I271*K271,IF(AND(E271=\"Diplomarbeit/Prüfer\",K271>=5),O271/100*I271*5,IF(AND(E271=\"Betreuung bis 5 FBA\",K271>=2),O271/100*I271*1,IF(AND(E271=\"Betreuung FBA/je Prüfer\",K271>=2),O271/100*I271*1,IF(K271<>\"\",(O271/100*I271*K271),IF(K271=\"\",\"\"))))))","v":""}]
[{"$f":"IF(B272=\"\",\"\",VLOOKUP(B272,Lehrerliste!$A$1:$B$8857,2,0))","v":""},null,null,null,null,null,null,null,null,null,null,"","","",{"$f":"IF(E272=\"\",\"\",IF(E272=\"Projekt bzw. BDA\",VLOOKUP(J272,G!$V$1:$W$100,2),INDEX(G!$C$2:$C$93,MATCH(Stammdaten!D272&Stammdaten!E272,G!$A$2:$A$93&G!$B$2:$B$93,0))))","v":""},"",{"$f":"IF(E272=\"Projekt bzw. BDA\",O272/100*I272*K272,IF(AND(E272=\"Diplomarbeit/Prüfer\",K272>=5),O272/100*I272*5,IF(AND(E272=\"Betreuung bis 5 FBA\",K272>=2),O272/100*I272*1,IF(AND(E272=\"Betreuung FBA/je Prüfer\",K272>=2),O272/100*I272*1,IF(K272<>\"\",(O272/100*I272*K272),IF(K272=\"\",\"\"))))))","v":""}]
[{"$f":"IF(B273=\"\",\"\",VLOOKUP(B273,Lehrerliste!$A$1:$B$8857,2,0))","v":""},null,null,null,null,null,null,null,null,null,null,"","","",{"$f":"IF(E273=\"\",\"\",IF(E273=\"Projekt bzw. BDA\",VLOOKUP(J273,G!$V$1:$W$100,2),INDEX(G!$C$2:$C$93,MATCH(Stammdaten!D273&Stammdaten!E273,G!$A$2:$A$93&G!$B$2:$B$93,0))))","v":""},"",{"$f":"IF(E273=\"Projekt bzw. BDA\",O273/100*I273*K273,IF(AND(E273=\"Diplomarbeit/Prüfer\",K273>=5),O273/100*I273*5,IF(AND(E273=\"Betreuung bis 5 FBA\",K273>=2),O273/100*I273*1,IF(AND(E273=\"Betreuung FBA/je Prüfer\",K273>=2),O273/100*I273*1,IF(K273<>\"\",(O273/100*I273*K273),IF(K273=\"\",\"\"))))))","v":""}]
[{"$f":"IF(B274=\"\",\"\",VLOOKUP(B274,Lehrerliste!$A$1:$B$8857,2,0))","v":""},null,null,null,null,null,null,null,null,null,null,"","","",{"$f":"IF(E274=\"\",\"\",IF(E274=\"Projekt bzw. BDA\",VLOOKUP(J274,G!$V$1:$W$100,2),INDEX(G!$C$2:$C$93,MATCH(Stammdaten!D274&Stammdaten!E274,G!$A$2:$A$93&G!$B$2:$B$93,0))))","v":""},"",{"$f":"IF(E274=\"Projekt bzw. BDA\",O274/100*I274*K274,IF(AND(E274=\"Diplomarbeit/Prüfer\",K274>=5),O274/100*I274*5,IF(AND(E274=\"Betreuung bis 5 FBA\",K274>=2),O274/100*I274*1,IF(AND(E274=\"Betreuung FBA/je Prüfer\",K274>=2),O274/100*I274*1,IF(K274<>\"\",(O274/100*I274*K274),IF(K274=\"\",\"\"))))))","v":""}]
[{"$f":"IF(B275=\"\",\"\",VLOOKUP(B275,Lehrerliste!$A$1:$B$8857,2,0))","v":""},null,null,null,null,null,null,null,null,null,null,"","","",{"$f":"IF(E275=\"\",\"\",IF(E275=\"Projekt bzw. BDA\",VLOOKUP(J275,G!$V$1:$W$100,2),INDEX(G!$C$2:$C$93,MATCH(Stammdaten!D275&Stammdaten!E275,G!$A$2:$A$93&G!$B$2:$B$93,0))))","v":""},"",{"$f":"IF(E275=\"Projekt bzw. BDA\",O275/100*I275*K275,IF(AND(E275=\"Diplomarbeit/Prüfer\",K275>=5),O275/100*I275*5,IF(AND(E275=\"Betreuung bis 5 FBA\",K275>=2),O275/100*I275*1,IF(AND(E275=\"Betreuung FBA/je Prüfer\",K275>=2),O275/100*I275*1,IF(K275<>\"\",(O275/100*I275*K275),IF(K275=\"\",\"\"))))))","v":""}]
[{"$f":"IF(B276=\"\",\"\",VLOOKUP(B276,Lehrerliste!$A$1:$B$8857,2,0))","v":""},null,null,null,null,null,null,null,null,null,null,"","","",{"$f":"IF(E276=\"\",\"\",IF(E276=\"Projekt bzw. BDA\",VLOOKUP(J276,G!$V$1:$W$100,2),INDEX(G!$C$2:$C$93,MATCH(Stammdaten!D276&Stammdaten!E276,G!$A$2:$A$93&G!$B$2:$B$93,0))))","v":""},"",{"$f":"IF(E276=\"Projekt bzw. BDA\",O276/100*I276*K276,IF(AND(E276=\"Diplomarbeit/Prüfer\",K276>=5),O276/100*I276*5,IF(AND(E276=\"Betreuung bis 5 FBA\",K276>=2),O276/100*I276*1,IF(AND(E276=\"Betreuung FBA/je Prüfer\",K276>=2),O276/100*I276*1,IF(K276<>\"\",(O276/100*I276*K276),IF(K276=\"\",\"\"))))))","v":""}]
[{"$f":"IF(B277=\"\",\"\",VLOOKUP(B277,Lehrerliste!$A$1:$B$8857,2,0))","v":""},null,null,null,null,null,null,null,null,null,null,"","","",{"$f":"IF(E277=\"\",\"\",IF(E277=\"Projekt bzw. BDA\",VLOOKUP(J277,G!$V$1:$W$100,2),INDEX(G!$C$2:$C$93,MATCH(Stammdaten!D277&Stammdaten!E277,G!$A$2:$A$93&G!$B$2:$B$93,0))))","v":""},"",{"$f":"IF(E277=\"Projekt bzw. BDA\",O277/100*I277*K277,IF(AND(E277=\"Diplomarbeit/Prüfer\",K277>=5),O277/100*I277*5,IF(AND(E277=\"Betreuung bis 5 FBA\",K277>=2),O277/100*I277*1,IF(AND(E277=\"Betreuung FBA/je Prüfer\",K277>=2),O277/100*I277*1,IF(K277<>\"\",(O277/100*I277*K277),IF(K277=\"\",\"\"))))))","v":""}]
[{"$f":"IF(B278=\"\",\"\",VLOOKUP(B278,Lehrerliste!$A$1:$B$8857,2,0))","v":""},null,null,null,null,null,null,null,null,null,null,"","","",{"$f":"IF(E278=\"\",\"\",IF(E278=\"Projekt bzw. BDA\",VLOOKUP(J278,G!$V$1:$W$100,2),INDEX(G!$C$2:$C$93,MATCH(Stammdaten!D278&Stammdaten!E278,G!$A$2:$A$93&G!$B$2:$B$93,0))))","v":""},"",{"$f":"IF(E278=\"Projekt bzw. BDA\",O278/100*I278*K278,IF(AND(E278=\"Diplomarbeit/Prüfer\",K278>=5),O278/100*I278*5,IF(AND(E278=\"Betreuung bis 5 FBA\",K278>=2),O278/100*I278*1,IF(AND(E278=\"Betreuung FBA/je Prüfer\",K278>=2),O278/100*I278*1,IF(K278<>\"\",(O278/100*I278*K278),IF(K278=\"\",\"\"))))))","v":""}]
[{"$f":"IF(B279=\"\",\"\",VLOOKUP(B279,Lehrerliste!$A$1:$B$8857,2,0))","v":""},null,null,null,null,null,null,null,null,null,null,"","","",{"$f":"IF(E279=\"\",\"\",IF(E279=\"Projekt bzw. BDA\",VLOOKUP(J279,G!$V$1:$W$100,2),INDEX(G!$C$2:$C$93,MATCH(Stammdaten!D279&Stammdaten!E279,G!$A$2:$A$93&G!$B$2:$B$93,0))))","v":""},"",{"$f":"IF(E279=\"Projekt bzw. BDA\",O279/100*I279*K279,IF(AND(E279=\"Diplomarbeit/Prüfer\",K279>=5),O279/100*I279*5,IF(AND(E279=\"Betreuung bis 5 FBA\",K279>=2),O279/100*I279*1,IF(AND(E279=\"Betreuung FBA/je Prüfer\",K279>=2),O279/100*I279*1,IF(K279<>\"\",(O279/100*I279*K279),IF(K279=\"\",\"\"))))))","v":""}]
[{"$f":"IF(B280=\"\",\"\",VLOOKUP(B280,Lehrerliste!$A$1:$B$8857,2,0))","v":""},null,null,null,null,null,null,null,null,null,null,"","","",{"$f":"IF(E280=\"\",\"\",IF(E280=\"Projekt bzw. BDA\",VLOOKUP(J280,G!$V$1:$W$100,2),INDEX(G!$C$2:$C$93,MATCH(Stammdaten!D280&Stammdaten!E280,G!$A$2:$A$93&G!$B$2:$B$93,0))))","v":""},"",{"$f":"IF(E280=\"Projekt bzw. BDA\",O280/100*I280*K280,IF(AND(E280=\"Diplomarbeit/Prüfer\",K280>=5),O280/100*I280*5,IF(AND(E280=\"Betreuung bis 5 FBA\",K280>=2),O280/100*I280*1,IF(AND(E280=\"Betreuung FBA/je Prüfer\",K280>=2),O280/100*I280*1,IF(K280<>\"\",(O280/100*I280*K280),IF(K280=\"\",\"\"))))))","v":""}]
[{"$f":"IF(B281=\"\",\"\",VLOOKUP(B281,Lehrerliste!$A$1:$B$8857,2,0))","v":""},null,null,null,null,null,null,null,null,null,null,"","","",{"$f":"IF(E281=\"\",\"\",IF(E281=\"Projekt bzw. BDA\",VLOOKUP(J281,G!$V$1:$W$100,2),INDEX(G!$C$2:$C$93,MATCH(Stammdaten!D281&Stammdaten!E281,G!$A$2:$A$93&G!$B$2:$B$93,0))))","v":""},"",{"$f":"IF(E281=\"Projekt bzw. BDA\",O281/100*I281*K281,IF(AND(E281=\"Diplomarbeit/Prüfer\",K281>=5),O281/100*I281*5,IF(AND(E281=\"Betreuung bis 5 FBA\",K281>=2),O281/100*I281*1,IF(AND(E281=\"Betreuung FBA/je Prüfer\",K281>=2),O281/100*I281*1,IF(K281<>\"\",(O281/100*I281*K281),IF(K281=\"\",\"\"))))))","v":""}]
[{"$f":"IF(B282=\"\",\"\",VLOOKUP(B282,Lehrerliste!$A$1:$B$8857,2,0))","v":""},null,null,null,null,null,null,null,null,null,null,"","","",{"$f":"IF(E282=\"\",\"\",IF(E282=\"Projekt bzw. BDA\",VLOOKUP(J282,G!$V$1:$W$100,2),INDEX(G!$C$2:$C$93,MATCH(Stammdaten!D282&Stammdaten!E282,G!$A$2:$A$93&G!$B$2:$B$93,0))))","v":""},"",{"$f":"IF(E282=\"Projekt bzw. BDA\",O282/100*I282*K282,IF(AND(E282=\"Diplomarbeit/Prüfer\",K282>=5),O282/100*I282*5,IF(AND(E282=\"Betreuung bis 5 FBA\",K282>=2),O282/100*I282*1,IF(AND(E282=\"Betreuung FBA/je Prüfer\",K282>=2),O282/100*I282*1,IF(K282<>\"\",(O282/100*I282*K282),IF(K282=\"\",\"\"))))))","v":""}]
[{"$f":"IF(B283=\"\",\"\",VLOOKUP(B283,Lehrerliste!$A$1:$B$8857,2,0))","v":""},null,null,null,null,null,null,null,null,null,null,"","","",{"$f":"IF(E283=\"\",\"\",IF(E283=\"Projekt bzw. BDA\",VLOOKUP(J283,G!$V$1:$W$100,2),INDEX(G!$C$2:$C$93,MATCH(Stammdaten!D283&Stammdaten!E283,G!$A$2:$A$93&G!$B$2:$B$93,0))))","v":""},"",{"$f":"IF(E283=\"Projekt bzw. BDA\",O283/100*I283*K283,IF(AND(E283=\"Diplomarbeit/Prüfer\",K283>=5),O283/100*I283*5,IF(AND(E283=\"Betreuung bis 5 FBA\",K283>=2),O283/100*I283*1,IF(AND(E283=\"Betreuung FBA/je Prüfer\",K283>=2),O283/100*I283*1,IF(K283<>\"\",(O283/100*I283*K283),IF(K283=\"\",\"\"))))))","v":""}]
[{"$f":"IF(B284=\"\",\"\",VLOOKUP(B284,Lehrerliste!$A$1:$B$8857,2,0))","v":""},null,null,null,null,null,null,null,null,null,null,"","","",{"$f":"IF(E284=\"\",\"\",IF(E284=\"Projekt bzw. BDA\",VLOOKUP(J284,G!$V$1:$W$100,2),INDEX(G!$C$2:$C$93,MATCH(Stammdaten!D284&Stammdaten!E284,G!$A$2:$A$93&G!$B$2:$B$93,0))))","v":""},"",{"$f":"IF(E284=\"Projekt bzw. BDA\",O284/100*I284*K284,IF(AND(E284=\"Diplomarbeit/Prüfer\",K284>=5),O284/100*I284*5,IF(AND(E284=\"Betreuung bis 5 FBA\",K284>=2),O284/100*I284*1,IF(AND(E284=\"Betreuung FBA/je Prüfer\",K284>=2),O284/100*I284*1,IF(K284<>\"\",(O284/100*I284*K284),IF(K284=\"\",\"\"))))))","v":""}]
[{"$f":"IF(B285=\"\",\"\",VLOOKUP(B285,Lehrerliste!$A$1:$B$8857,2,0))","v":""},null,null,null,null,null,null,null,null,null,null,"","","",{"$f":"IF(E285=\"\",\"\",IF(E285=\"Projekt bzw. BDA\",VLOOKUP(J285,G!$V$1:$W$100,2),INDEX(G!$C$2:$C$93,MATCH(Stammdaten!D285&Stammdaten!E285,G!$A$2:$A$93&G!$B$2:$B$93,0))))","v":""},"",{"$f":"IF(E285=\"Projekt bzw. BDA\",O285/100*I285*K285,IF(AND(E285=\"Diplomarbeit/Prüfer\",K285>=5),O285/100*I285*5,IF(AND(E285=\"Betreuung bis 5 FBA\",K285>=2),O285/100*I285*1,IF(AND(E285=\"Betreuung FBA/je Prüfer\",K285>=2),O285/100*I285*1,IF(K285<>\"\",(O285/100*I285*K285),IF(K285=\"\",\"\"))))))","v":""}]
[{"$f":"IF(B286=\"\",\"\",VLOOKUP(B286,Lehrerliste!$A$1:$B$8857,2,0))","v":""},null,null,null,null,null,null,null,null,null,null,"","","",{"$f":"IF(E286=\"\",\"\",IF(E286=\"Projekt bzw. BDA\",VLOOKUP(J286,G!$V$1:$W$100,2),INDEX(G!$C$2:$C$93,MATCH(Stammdaten!D286&Stammdaten!E286,G!$A$2:$A$93&G!$B$2:$B$93,0))))","v":""},"",{"$f":"IF(E286=\"Projekt bzw. BDA\",O286/100*I286*K286,IF(AND(E286=\"Diplomarbeit/Prüfer\",K286>=5),O286/100*I286*5,IF(AND(E286=\"Betreuung bis 5 FBA\",K286>=2),O286/100*I286*1,IF(AND(E286=\"Betreuung FBA/je Prüfer\",K286>=2),O286/100*I286*1,IF(K286<>\"\",(O286/100*I286*K286),IF(K286=\"\",\"\"))))))","v":""}]
[{"$f":"IF(B287=\"\",\"\",VLOOKUP(B287,Lehrerliste!$A$1:$B$8857,2,0))","v":""},null,null,null,null,null,null,null,null,null,null,"","","",{"$f":"IF(E287=\"\",\"\",IF(E287=\"Projekt bzw. BDA\",VLOOKUP(J287,G!$V$1:$W$100,2),INDEX(G!$C$2:$C$93,MATCH(Stammdaten!D287&Stammdaten!E287,G!$A$2:$A$93&G!$B$2:$B$93,0))))","v":""},"",{"$f":"IF(E287=\"Projekt bzw. BDA\",O287/100*I287*K287,IF(AND(E287=\"Diplomarbeit/Prüfer\",K287>=5),O287/100*I287*5,IF(AND(E287=\"Betreuung bis 5 FBA\",K287>=2),O287/100*I287*1,IF(AND(E287=\"Betreuung FBA/je Prüfer\",K287>=2),O287/100*I287*1,IF(K287<>\"\",(O287/100*I287*K287),IF(K287=\"\",\"\"))))))","v":""}]
[{"$f":"IF(B288=\"\",\"\",VLOOKUP(B288,Lehrerliste!$A$1:$B$8857,2,0))","v":""},null,null,null,null,null,null,null,null,null,null,"","","",{"$f":"IF(E288=\"\",\"\",IF(E288=\"Projekt bzw. BDA\",VLOOKUP(J288,G!$V$1:$W$100,2),INDEX(G!$C$2:$C$93,MATCH(Stammdaten!D288&Stammdaten!E288,G!$A$2:$A$93&G!$B$2:$B$93,0))))","v":""},"",{"$f":"IF(E288=\"Projekt bzw. BDA\",O288/100*I288*K288,IF(AND(E288=\"Diplomarbeit/Prüfer\",K288>=5),O288/100*I288*5,IF(AND(E288=\"Betreuung bis 5 FBA\",K288>=2),O288/100*I288*1,IF(AND(E288=\"Betreuung FBA/je Prüfer\",K288>=2),O288/100*I288*1,IF(K288<>\"\",(O288/100*I288*K288),IF(K288=\"\",\"\"))))))","v":""}]
[{"$f":"IF(B289=\"\",\"\",VLOOKUP(B289,Lehrerliste!$A$1:$B$8857,2,0))","v":""},null,null,null,null,null,null,null,null,null,null,"","","",{"$f":"IF(E289=\"\",\"\",IF(E289=\"Projekt bzw. BDA\",VLOOKUP(J289,G!$V$1:$W$100,2),INDEX(G!$C$2:$C$93,MATCH(Stammdaten!D289&Stammdaten!E289,G!$A$2:$A$93&G!$B$2:$B$93,0))))","v":""},"",{"$f":"IF(E289=\"Projekt bzw. BDA\",O289/100*I289*K289,IF(AND(E289=\"Diplomarbeit/Prüfer\",K289>=5),O289/100*I289*5,IF(AND(E289=\"Betreuung bis 5 FBA\",K289>=2),O289/100*I289*1,IF(AND(E289=\"Betreuung FBA/je Prüfer\",K289>=2),O289/100*I289*1,IF(K289<>\"\",(O289/100*I289*K289),IF(K289=\"\",\"\"))))))","v":""}]
[{"$f":"IF(B290=\"\",\"\",VLOOKUP(B290,Lehrerliste!$A$1:$B$8857,2,0))","v":""},null,null,null,null,null,null,null,null,null,null,"","","",{"$f":"IF(E290=\"\",\"\",IF(E290=\"Projekt bzw. BDA\",VLOOKUP(J290,G!$V$1:$W$100,2),INDEX(G!$C$2:$C$93,MATCH(Stammdaten!D290&Stammdaten!E290,G!$A$2:$A$93&G!$B$2:$B$93,0))))","v":""},"",{"$f":"IF(E290=\"Projekt bzw. BDA\",O290/100*I290*K290,IF(AND(E290=\"Diplomarbeit/Prüfer\",K290>=5),O290/100*I290*5,IF(AND(E290=\"Betreuung bis 5 FBA\",K290>=2),O290/100*I290*1,IF(AND(E290=\"Betreuung FBA/je Prüfer\",K290>=2),O290/100*I290*1,IF(K290<>\"\",(O290/100*I290*K290),IF(K290=\"\",\"\"))))))","v":""}]
[{"$f":"IF(B291=\"\",\"\",VLOOKUP(B291,Lehrerliste!$A$1:$B$8857,2,0))","v":""},null,null,null,null,null,null,null,null,null,null,"","","",{"$f":"IF(E291=\"\",\"\",IF(E291=\"Projekt bzw. BDA\",VLOOKUP(J291,G!$V$1:$W$100,2),INDEX(G!$C$2:$C$93,MATCH(Stammdaten!D291&Stammdaten!E291,G!$A$2:$A$93&G!$B$2:$B$93,0))))","v":""},"",{"$f":"IF(E291=\"Projekt bzw. BDA\",O291/100*I291*K291,IF(AND(E291=\"Diplomarbeit/Prüfer\",K291>=5),O291/100*I291*5,IF(AND(E291=\"Betreuung bis 5 FBA\",K291>=2),O291/100*I291*1,IF(AND(E291=\"Betreuung FBA/je Prüfer\",K291>=2),O291/100*I291*1,IF(K291<>\"\",(O291/100*I291*K291),IF(K291=\"\",\"\"))))))","v":""}]
[{"$f":"IF(B292=\"\",\"\",VLOOKUP(B292,Lehrerliste!$A$1:$B$8857,2,0))","v":""},null,null,null,null,null,null,null,null,null,null,"","","",{"$f":"IF(E292=\"\",\"\",IF(E292=\"Projekt bzw. BDA\",VLOOKUP(J292,G!$V$1:$W$100,2),INDEX(G!$C$2:$C$93,MATCH(Stammdaten!D292&Stammdaten!E292,G!$A$2:$A$93&G!$B$2:$B$93,0))))","v":""},"",{"$f":"IF(E292=\"Projekt bzw. BDA\",O292/100*I292*K292,IF(AND(E292=\"Diplomarbeit/Prüfer\",K292>=5),O292/100*I292*5,IF(AND(E292=\"Betreuung bis 5 FBA\",K292>=2),O292/100*I292*1,IF(AND(E292=\"Betreuung FBA/je Prüfer\",K292>=2),O292/100*I292*1,IF(K292<>\"\",(O292/100*I292*K292),IF(K292=\"\",\"\"))))))","v":""}]
[{"$f":"IF(B293=\"\",\"\",VLOOKUP(B293,Lehrerliste!$A$1:$B$8857,2,0))","v":""},null,null,null,null,null,null,null,null,null,null,"","","",{"$f":"IF(E293=\"\",\"\",IF(E293=\"Projekt bzw. BDA\",VLOOKUP(J293,G!$V$1:$W$100,2),INDEX(G!$C$2:$C$93,MATCH(Stammdaten!D293&Stammdaten!E293,G!$A$2:$A$93&G!$B$2:$B$93,0))))","v":""},"",{"$f":"IF(E293=\"Projekt bzw. BDA\",O293/100*I293*K293,IF(AND(E293=\"Diplomarbeit/Prüfer\",K293>=5),O293/100*I293*5,IF(AND(E293=\"Betreuung bis 5 FBA\",K293>=2),O293/100*I293*1,IF(AND(E293=\"Betreuung FBA/je Prüfer\",K293>=2),O293/100*I293*1,IF(K293<>\"\",(O293/100*I293*K293),IF(K293=\"\",\"\"))))))","v":""}]
[{"$f":"IF(B294=\"\",\"\",VLOOKUP(B294,Lehrerliste!$A$1:$B$8857,2,0))","v":""},null,null,null,null,null,null,null,null,null,null,"","","",{"$f":"IF(E294=\"\",\"\",IF(E294=\"Projekt bzw. BDA\",VLOOKUP(J294,G!$V$1:$W$100,2),INDEX(G!$C$2:$C$93,MATCH(Stammdaten!D294&Stammdaten!E294,G!$A$2:$A$93&G!$B$2:$B$93,0))))","v":""},"",{"$f":"IF(E294=\"Projekt bzw. BDA\",O294/100*I294*K294,IF(AND(E294=\"Diplomarbeit/Prüfer\",K294>=5),O294/100*I294*5,IF(AND(E294=\"Betreuung bis 5 FBA\",K294>=2),O294/100*I294*1,IF(AND(E294=\"Betreuung FBA/je Prüfer\",K294>=2),O294/100*I294*1,IF(K294<>\"\",(O294/100*I294*K294),IF(K294=\"\",\"\"))))))","v":""}]
[{"$f":"IF(B295=\"\",\"\",VLOOKUP(B295,Lehrerliste!$A$1:$B$8857,2,0))","v":""},null,null,null,null,null,null,null,null,null,null,"","","",{"$f":"IF(E295=\"\",\"\",IF(E295=\"Projekt bzw. BDA\",VLOOKUP(J295,G!$V$1:$W$100,2),INDEX(G!$C$2:$C$93,MATCH(Stammdaten!D295&Stammdaten!E295,G!$A$2:$A$93&G!$B$2:$B$93,0))))","v":""},"",{"$f":"IF(E295=\"Projekt bzw. BDA\",O295/100*I295*K295,IF(AND(E295=\"Diplomarbeit/Prüfer\",K295>=5),O295/100*I295*5,IF(AND(E295=\"Betreuung bis 5 FBA\",K295>=2),O295/100*I295*1,IF(AND(E295=\"Betreuung FBA/je Prüfer\",K295>=2),O295/100*I295*1,IF(K295<>\"\",(O295/100*I295*K295),IF(K295=\"\",\"\"))))))","v":""}]
[{"$f":"IF(B296=\"\",\"\",VLOOKUP(B296,Lehrerliste!$A$1:$B$8857,2,0))","v":""},null,null,null,null,null,null,null,null,null,null,"","","",{"$f":"IF(E296=\"\",\"\",IF(E296=\"Projekt bzw. BDA\",VLOOKUP(J296,G!$V$1:$W$100,2),INDEX(G!$C$2:$C$93,MATCH(Stammdaten!D296&Stammdaten!E296,G!$A$2:$A$93&G!$B$2:$B$93,0))))","v":""},"",{"$f":"IF(E296=\"Projekt bzw. BDA\",O296/100*I296*K296,IF(AND(E296=\"Diplomarbeit/Prüfer\",K296>=5),O296/100*I296*5,IF(AND(E296=\"Betreuung bis 5 FBA\",K296>=2),O296/100*I296*1,IF(AND(E296=\"Betreuung FBA/je Prüfer\",K296>=2),O296/100*I296*1,IF(K296<>\"\",(O296/100*I296*K296),IF(K296=\"\",\"\"))))))","v":""}]
[{"$f":"IF(B297=\"\",\"\",VLOOKUP(B297,Lehrerliste!$A$1:$B$8857,2,0))","v":""},null,null,null,null,null,null,null,null,null,null,"","","",{"$f":"IF(E297=\"\",\"\",IF(E297=\"Projekt bzw. BDA\",VLOOKUP(J297,G!$V$1:$W$100,2),INDEX(G!$C$2:$C$93,MATCH(Stammdaten!D297&Stammdaten!E297,G!$A$2:$A$93&G!$B$2:$B$93,0))))","v":""},"",{"$f":"IF(E297=\"Projekt bzw. BDA\",O297/100*I297*K297,IF(AND(E297=\"Diplomarbeit/Prüfer\",K297>=5),O297/100*I297*5,IF(AND(E297=\"Betreuung bis 5 FBA\",K297>=2),O297/100*I297*1,IF(AND(E297=\"Betreuung FBA/je Prüfer\",K297>=2),O297/100*I297*1,IF(K297<>\"\",(O297/100*I297*K297),IF(K297=\"\",\"\"))))))","v":""}]
[{"$f":"IF(B298=\"\",\"\",VLOOKUP(B298,Lehrerliste!$A$1:$B$8857,2,0))","v":""},null,null,null,null,null,null,null,null,null,null,"","","",{"$f":"IF(E298=\"\",\"\",IF(E298=\"Projekt bzw. BDA\",VLOOKUP(J298,G!$V$1:$W$100,2),INDEX(G!$C$2:$C$93,MATCH(Stammdaten!D298&Stammdaten!E298,G!$A$2:$A$93&G!$B$2:$B$93,0))))","v":""},"",{"$f":"IF(E298=\"Projekt bzw. BDA\",O298/100*I298*K298,IF(AND(E298=\"Diplomarbeit/Prüfer\",K298>=5),O298/100*I298*5,IF(AND(E298=\"Betreuung bis 5 FBA\",K298>=2),O298/100*I298*1,IF(AND(E298=\"Betreuung FBA/je Prüfer\",K298>=2),O298/100*I298*1,IF(K298<>\"\",(O298/100*I298*K298),IF(K298=\"\",\"\"))))))","v":""}]
[{"$f":"IF(B299=\"\",\"\",VLOOKUP(B299,Lehrerliste!$A$1:$B$8857,2,0))","v":""},null,null,null,null,null,null,null,null,null,null,"","","",{"$f":"IF(E299=\"\",\"\",IF(E299=\"Projekt bzw. BDA\",VLOOKUP(J299,G!$V$1:$W$100,2),INDEX(G!$C$2:$C$93,MATCH(Stammdaten!D299&Stammdaten!E299,G!$A$2:$A$93&G!$B$2:$B$93,0))))","v":""},"",{"$f":"IF(E299=\"Projekt bzw. BDA\",O299/100*I299*K299,IF(AND(E299=\"Diplomarbeit/Prüfer\",K299>=5),O299/100*I299*5,IF(AND(E299=\"Betreuung bis 5 FBA\",K299>=2),O299/100*I299*1,IF(AND(E299=\"Betreuung FBA/je Prüfer\",K299>=2),O299/100*I299*1,IF(K299<>\"\",(O299/100*I299*K299),IF(K299=\"\",\"\"))))))","v":""}]
[{"$f":"IF(B300=\"\",\"\",VLOOKUP(B300,Lehrerliste!$A$1:$B$8857,2,0))","v":""},null,null,null,null,null,null,null,null,null,null,"","","",{"$f":"IF(E300=\"\",\"\",IF(E300=\"Projekt bzw. BDA\",VLOOKUP(J300,G!$V$1:$W$100,2),INDEX(G!$C$2:$C$93,MATCH(Stammdaten!D300&Stammdaten!E300,G!$A$2:$A$93&G!$B$2:$B$93,0))))","v":""},"",{"$f":"IF(E300=\"Projekt bzw. BDA\",O300/100*I300*K300,IF(AND(E300=\"Diplomarbeit/Prüfer\",K300>=5),O300/100*I300*5,IF(AND(E300=\"Betreuung bis 5 FBA\",K300>=2),O300/100*I300*1,IF(AND(E300=\"Betreuung FBA/je Prüfer\",K300>=2),O300/100*I300*1,IF(K300<>\"\",(O300/100*I300*K300),IF(K300=\"\",\"\"))))))","v":""}]

{"sheet":"Lehrerliste","index":1,"n_rows":5374,"n_cols":2,"rows_kept":5374,"cut":false,"hidden":true,"merged":[]}
["PersNr","Name"]
[90462151,"Lippoth Anna"]
[90462155,"Dekan Waltraud"]
[90462163,"Hofmeister Elisabeth"]
[90462171,"Mocher Hermine"]
[90462174,"Pucher Angelika"]
[90462175,"Stangl Gertraud"]
[90462178,"Scheiternig Katharina"]
[90462179,"Hubmann Irmgard"]
[90462188,"Zojer Maria"]
[90462189,"Pressinger Daniela, Mag."]
[90462190,"Lagger Doris"]
[90462196,"Maier Angelika, Dipl.-Päd."]
[90462203,"Troicher Roswitha"]
[90462205,"Wurzer Ingrid"]
[90462212,"Kokot Irene"]
[90462215,"Stern-Hartung Gabriele"]
[90462216,"Hilweg Ferdinand"]
[90462217,"Horn Elisabeth"]
[90462218,"Jäger Melitta"]
[90462220,"Köfler-Seebacher Ingrid"]
[90462221,"Krauschnig Maria"]
[90462223,"Wagner Christine, Dipl.-Päd."]
[90462224,"Obernosterer Dagmar"]
[90462227,"Pink Astrid"]
[90462230,"Ezr Elisabeth, BEd"]
[90462231,"Kugi Carol, Mag."]
[90462232,"Pusca Gertrude"]
[90462235,"Brunner Sieglinde"]
[90462236,"Filippitsch Johanna"]
[90462240,"Hafner-Bürger Bettina"]
[90462241,"Erat-Schatz Aloisia"]
[90462242,"Mößler Johann, Ing."]
[90462245,"Wolte-Lesitschnig Renate, Ing."]
[90462247,"Scheiber Annemarie, Mag."]
[90462249,"Hyden Karoline"]
[90462250,"Saupper Josefine"]
[90462251,"Fugger Uta, Mag."]
[90462254,"Poschinger Dessiree"]
[90462255,"Buchacher Hildegard"]
[90462265,"Schilcher Helga, BEd MEd"]
[90462267,"Zager Marina"]
[90462272,"Kesselbacher Doris"]
[90462275,"Karnicar Daniela"]
[90462276,"Hermanik Beate"]
[90462277,"Reiter Andrea"]
[90462278,"Lecher Gudrun"]
[90462280,"Wurmitzer Marianne, Ing."]
[90462284,"Holl-Vouk Eva"]
[90462287,"Retl Margit"]
[90462288,"Pirker Elisabeth"]
[90462291,"Vallant Karin"]
[90462292,"Schweiger Vera"]
[90462295,"Leitsoni Karoline"]
[90462298,"Lackner Brigitte"]
[90462299,"Musitsch Christine"]
[90462300,"Brockers Christiane"]
[90462302,"Haberl Elisabeth, Dipl.-Päd."]
[90462303,"Stingl Sonja"]
[90462304,"Maneßinger Anita"]
[90462306,"Stollwitzer Hubert"]
[90462307,"Morak Birgit"]
[90462309,"Moser Ingrid"]
[90462311,"Leiss Margit"]
[90462314,"Rettl Barbara"]
[90462319,"Hebenstreit Edith"]
[90462320,"Maierhofer Maria"]
[90462322,"Braunecker Ulrike"]
[90462323,"Nußler Susanne"]
[90462325,"Allesch-Repar Isabella"]
[90462327,"Jerabek Cornelia"]
[90462328,"Huber Karin"]
[90462330,"Hofer Gerald, Mag. Dr."]
[90462332,"Pech Andrea"]
[90462334,"Platzer Andrea"]
[90462335,"Kogler Margit"]
[90462336,"Bergmann Birgit"]
[90462338,"Setz Anna, Ing.Mag."]
[90462342,"Heine Jasmine"]
[90462344,"Gallo Susanne"]
[90462345,"Appe Susanne"]
[90462347,"Scheiflinger Claudia"]
[90462349,"Grötschnig-Einspieler Mira"]
[90462350,"Kuchar Roswitha"]
[90462351,"Raß Elisabeth"]
[90462352,"Falle Martina"]
[90462353,"Holzfeind Ingrid"]
[90462354,"Graf Margot"]
[90462357,"Rosenwirth Silvia"]
[90462358,"Treul Gudrun, MA BEd"]
[90462359,"Mogy Jutta"]
[90462360,"Wohlfahrt Klaudia"]
[90462361,"Lattacher Birgit, MA BA BEd"]
[90462362,"Lessiak Teda, Mag. Dr."]
[90462365,"Hartl Reinhild, Mag."]
[90462368,"Malle Waltraud"]
[90462369,"Lackner Bertram"]
[90462370,"Salentinig Theodora"]
[90462375,"Rigelnik Eveline"]
[90462377,"Lackner Helmut"]
[90462379,"Wang Ulrike"]
[90462380,"Miklauc Angelika"]
[90462382,"Stabentheiner Anna"]
[90462384,"Foltinek Helga"]
[90462385,"Brenner Gerda"]
[90462386,"Reinisch Josefine, BEd"]
[90462387,"Maurel Gertraud, BEd"]
[90462390,"Kolter Siegfried"]
[90462392,"Steger Hildegard"]
[90462393,"Nickel Jürgen"]
[90462394,"Lasnig Miriam"]
[90462395,"Rom Ernst, DPäd. Ing."]
[90462397,"Strutzmann Evelin"]
[90462401,"Petritsch-Odreitz Brigitte"]
[90462404,"Zauner Astrid, Dipl.-Päd."]
[90462406,"Bauer Gerhard"]
[90462407,"Burghauser Doris"]
[90462408,"Walter Doris"]
[90462409,"Hantinger Ida"]
[90462410,"Kainz Sigrid"]
[90462411,"Fertala Margit"]
[90462412,"Jamnig Franz, Ing."]
[90462415,"Fritz Edeltraud"]
[90462416,"Jank Monika"]
[90462417,"Greiner Josefine, Mag."]
[90462421,"Engelbrecht Rosalia"]
[90462423,"Dabernig Ursula"]
[90462424,"Persterer Andrea, BEd"]
[90462425,"Sturm Christine"]
[90462426,"Schützelhofer Doris"]
[90462428,"Domenig Karin"]
[90462430,"Matitz Helga, Dipl.-Päd."]
[90462431,"Logar Vida"]
[90462432,"Pucher Margit"]
[90462434,"Scherzer Heidemarie"]
[90462435,"Wassermann Ingrid"]
[90462436,"Kölz Harald"]
[90462437,"Bozic Adele"]
[90462438,"Schwager Gertrude"]
[90462439,"Rhomberg Ulrike"]
[90462440,"Buchbauer Monika"]
[90462441,"Müller Brigitte"]
[90462442,"Hofer Elisabeth"]
[90462443,"Huber Monika"]
[90462444,"Krassnig Sonja"]
[90462446,"Illemann Melitta"]
[90462448,"Freitag Elisabeth"]
[90462449,"Maderebner Elisabeth"]
[90462450,"Martin Sabine"]
[90462451,"Pridnigg Bruno"]
[90462452,"Jabornig Ilse, Dipl.-Päd."]
[90462453,"Cieslar Irene"]
[90462454,"Glantschnig Sabine"]
[90462455,"Klatzer Anna"]
[90462456,"Tschreschnig Edeltraud"]
[90462457,"Arzberger Elisabeth, Dipl.-Päd."]
[90462458,"Morianz Monika, Dipl.-Päd."]
[90462459,"Guntschnig Maria, MA BEd"]
[90462460,"Sachs Doris"]
[90462462,"Schautzer Margit"]
[90462463,"Santner Andrea"]
[90462464,"Wriessnegger Belinda"]
[90462465,"Galli Gertraud"]
[90462466,"Millonig Andrea"]
[90462467,"Korak Sylvia"]
[90462468,"Marktl Renate"]
[90462469,"Streicher Margit"]
[90462470,"Kohlmeier Daniele"]
[90462472,"Rießer Ines"]
[90462473,"Velik Karoline"]
[90462474,"Schurz Sigrid"]
[90462475,"Cisorio-Pichler Claudia"]
[90462476,"Oblaßnig Ulrike"]
[90462477,"Fritzl Gerlinde"]
[90462478,"Zmollnig Beate"]
[90462479,"Kovacic Sonja"]
[90462480,"Mischkulnig Sigrid-Maria"]
[90462481,"Blasge Barbara"]
[90462482,"Kos Marina"]
[90462483,"Wagner Eduard"]
[90462484,"Kadisch Josefine"]
[90462485,"Twardon Jutta"]
[90462486,"Kriegl Andrea"]
[90462487,"Kleinbichler Christine"]
[90462488,"Pichler Edit, MA BEd"]
[90462489,"Morgenfurt Renate, BEd"]
[90462490,"Lepuschitz Claudia"]
[90462491,"Wirth Renate"]
[90462492,"Plesnitzer Edith"]
[90462493,"Unterweger Ingrid"]
[90462494,"Kronawetter-Polli Karin"]
[90462495,"Pobaschnig Christine"]
[90462496,"Micheuz Arno, Dipl.-Päd."]
[90462497,"Strieder Erika"]
[90462498,"Schmid Elke"]
[90462499,"Lepuschitz Anita"]
[90462500,"Schöffmann Anna"]
[90462501,"Fercher Johanna, BEd"]
[90462502,"Kohlweiß Gerda"]
[90462503,"Opreßnig Ingeborg"]
[90462504,"Winkler Daniela"]
[90462505,"Breitegger Brigitte"]
[90462506,"Pasterk Judith"]
[90462507,"Ebner Gertrud"]
[90462510,"Fanzott Andrea"]
[90462513,"Kilzer Gabriele"]
[90462514,"Brandner Rosemarie"]
[90462517,"Maierwieser Joachim, Ing."]
[90462518,"Gruber Herbert, DI(FH)"]
[90462520,"Nuart Evelin"]
[90462521,"Hartweger Gerhild, Ing. MSc"]
[90462522,"Habernig Rosemarie"]
[90462523,"Berger Barbara"]
[90462524,"Krainz Sabine"]
[90462525,"Eipeltauer Eva Maria"]
[90462526,"Hoppenstock-Schatz Andrea"]
[90462527,"Podobnig Elisabeth"]
[90462528,"Schindler Christine"]
[90462529,"Wieser Evelin"]
[90462530,"Sokoll Melitta"]
[90462531,"Scholz Ulrike"]
[90462532,"Maier Gerda"]
[90462533,"Kröpfl Claudia"]
[90462534,"Karnel Johanna"]
[90462536,"Gollner Isolde"]
[90462538,"Sibitz Claudia"]
[90462540,"Oberrisser Marika"]
[90462542,"Sabitzer Ingrid"]
[90462543,"Rakobitsch Elke, Dipl.-Päd."]
[90462544,"Perc Ernestine"]
[90462545,"Hollentin Andrea"]
[90462546,"Michor Andrea"]
[90462547,"Maierhofer Monika"]
[90462548,"Kodritsch Sigrid"]
[90462549,"Nedved Josef"]
[90462550,"Koschu Elisabeth"]
[90462551,"Auer Sylvia"]
[90462552,"Baumgartner Ingrid"]
[90462554,"Geyer Hans"]
[90462555,"Novak Barbara"]
[90462556,"Geyer Claudia"]
[90462557,"Furian Erich"]
[90462558,"Schütz Reinhold"]
[90462559,"Wernig Renate"]
[90462560,"Zeilinger Ulrike, Mag."]
[90462562,"Podgornik Veronika"]
[90462563,"Lauchart Bernadette"]
[90462564,"Buchacher Astrid"]
[90462565,"Molinari Daniela"]
[90462566,"Wurzer Karin"]
[90462567,"Torker Brigitte"]
[90462570,"Köstenbaumer Werner"]
[90462572,"Hopfgartner Isabella"]
[90462573,"Michelatsch Birgit"]
[90462574,"Wassermann Edmund"]
[90462575,"Glaser-Mlatschnig Rosalia"]
[90462576,"Grosse Brigitte"]
[90462577,"Kulmitzer Gabriele"]
[90462578,"Reiter Edith"]
[90462579,"Lexe Arnulf"]
[90462580,"Scheuerer Renate, BEd"]
[90462581,"Germ Maria Theresia"]
[90462583,"Wurzer Michaela"]
[90462584,"Gressel Elisabeth"]
[90462585,"Schratt Sieglinde"]
[90462586,"Fischer Heidi"]
[90462587,"Spittau Ingrid"]
[90462588,"Kari Irene"]
[90462589,"Wachernig Monika"]
[90462590,"Graf-Reiter Hermelinde, BEd"]
[90462591,"Zoltan Gabriele"]
[90462592,"Metzler-Samonig Margarete, Mag. MA"]
[90462593,"Schmid Gabriele"]
[90462594,"Zedlacher Dagmar"]
[90462595,"Heber Michael"]
[90462596,"Taferner Barbara"]
[90462597,"Puff Gerhild"]
[90462598,"Isopp-Erian Ines, MA"]
[90462599,"Hobel Christine"]
[90462600,"Raup Gabriele, Mag."]
[90462601,"Greiler Ingrid"]
[90462603,"Prinz-Isopp Maria"]
[90462604,"Liengitz-Stimpfl Annelies"]
[90462605,"Pirker Karoline"]
[90462606,"Winkler Josefine"]
[90462608,"Brescak Christine"]
[90462610,"Lapusch Brigitte"]
[90462611,"Beiweis Kurt"]
[90462612,"Kanalz Brigitte"]
[90462614,"Pesendorfer Iris"]
[90462615,"Kirisits Wolfgang, BEd"]
[90462616,"Zehentner Franz"]
[90462617,"Winkler Elke"]
[90462618,"Janesch Maria"]
[90462619,"Niederdorfer Waltraud"]
[90462620,"Faschinger Isolde"]
[90462621,"Siter Elke"]
[90462622,"Wirnsberger Klaus"]
[90462623,"Truppe Monika"]
[90462624,"Tomantschger Ingeborg"]
[90462625,"Weißegger Jürgen"]
[90462628,"Kropiunik Waltraud"]
[90462629,"Kueß Karoline"]
[90462630,"Komatz Johannes"]
[90462631,"Bogner Barbara"]
[90462632,"Liesinger Susanne"]
[90462633,"Sylle Renate"]
[90462634,"Omann Astrid"]
[90462635,"Gradischnig Ingeborg"]
[90462636,"Kraxner Veronika"]
[90462637,"Erath Sonja"]
[90462638,"Kraxner Reinhild Klaudia"]
[90462639,"Drussnitzer Christa"]
[90462640,"Kienleitner Ingrid"]
[90462641,"Juritsch Friederike, Mag."]
[90462642,"Eberhart Astrid"]
[90462643,"Kröpfl Barbara"]
[90462644,"Hallegger Annemarie"]
[90462645,"Polzer Renate"]
[90462646,"Plattner-Primus Gabriele"]
[90462648,"Zechner Petra"]
[90462649,"Summerauer Christa, Mag."]
[90462651,"Urbas Karin"]
[90462652,"Wilscher Peter"]
[90462653,"Morgenfurt Manfred"]
[90462654,"Lobnig Rosa"]
[90462656,"Pitamitz Marianne"]
[90462657,"Traunmüller Eduard"]
[90462658,"Lenzhofer Mathias"]
[90462659,"Werner Walter, Ing. MA BEd"]
[90462661,"Valent Karl, Ing.Mag.Dr."]
[90462663,"Hobel Ludmilla"]
[90462664,"Hecher Michael"]
[90462665,"Isola-Danicek Ulrike"]
[90462666,"Egger Judith"]
[90462667,"Maier Claudia"]
[90462669,"Hanauska Helga"]
[90462670,"Unterköfler Claudia, BEd"]
[90462671,"Steinberger Andrea"]
[90462672,"Rauter Siegrid"]
[90462673,"Walchensteiner Waltraud"]
[90462674,"Stromberger Christiane"]
[90462675,"Dorfer Erich"]
[90462676,"Köpf Andrea"]
[90462677,"Tatschl Petra"]
[90462678,"Hönck Gerlinde"]
[90462679,"Molzbichler Alice"]
[90462680,"Kosch Ingeborg"]
[90462681,"Koch Rosmarie"]
[90462682,"Hochhold Christine"]
[90462683,"Muffat Angelika"]
[90462684,"Jordan Alois, Ing."]
[90462685,"Pongratz Christoph, Ing."]
[90462686,"Wölscher Franz, Ing."]
[90462688,"Writz Peter, Ing."]
[90462689,"Pirker Gerald, Ing."]
[90462690,"Woitischek Barbara, Mag. Dr."]
[90462691,"Fertala Anna"]
[90462692,"Krenn Martin, MA"]
[90462693,"Werner Christine"]
[90462694,"Ertl Gabriele"]
[90462695,"Prugger Gertraud"]
[90462696,"Müller Waltraud"]
[90462697,"Stefaner Christian"]
[90462698,"Oswald Anna"]
[90462699,"Lederer-Trattnig Christine"]
[90462700,"Borotschnig Franz, Mag. Dr. BEd"]
[90462701,"Matschnigg-Kuster Beatrix"]
[90462702,"Langegger Hans"]
[90462703,"Telesklav Angelika"]
[90462704,"Funder Peter"]
[90462705,"Rauchenwald Karin"]
[90462706,"Pototschnig Waltraud"]
[90462707,"Millechner Walter, MMag."]
[90462709,"Schnitzer Sybille"]
[90462710,"Keuschnig-Reimann Karin"]
[90462711,"Grabner Susanne"]
[90462712,"Granegger Johannes, Ing."]
[90462713,"Fritzl-Marx Karin"]
[90462714,"Binner Barbara"]
[90462716,"Stromberger Markus"]
[90462717,"Dietrichstein Christa"]
[90462718,"Weyrer Ursula"]
[90462719,"Petschar Sylvia"]
[90462720,"Münzer Magret"]
[90462721,"Pargger Petra"]
[90462722,"Engl Gabriele"]
[90462723,"Meißlitzer-Sacher Marion"]
[90462724,"Hasler Gernot"]
[90462725,"Slanitsch Isolde"]
[90462726,"Pessentheiner Winfried"]
[90462727,"Unterrieder Ingrid"]
[90462728,"Buchacher Evelyn"]
[90462729,"Slamanig Klaudia"]
[90462730,"Markitz Sonja"]
[90462731,"Durl Rene"]
[90462732,"Klogger Harald"]
[90462733,"Würschl Karmen"]
[90462734,"Springer Marisa, Mag.phil."]
[90462735,"Pogatschnig Gerlinde"]
[90462736,"Babic Evelin"]
[90462737,"Hoi Renate"]
[90462738,"Adlaßnig Christine"]
[90462739,"Vallant Heidrun"]
[90462741,"Ronacher Karin, MSc BEd"]
[90462742,"Taferner Elisabeth"]
[90462743,"Obmann Jutta"]
[90462744,"More Elisabeth"]
[90462745,"Wiednig Sonja"]
[90462746,"Knauder Margit"]
[90462748,"Spitzer-Simonitsch Karin"]
[90462749,"Wernig Gerhard"]
[90462750,"Burgstaller Gudrun"]
[90462752,"Wedenig Doris"]
[90462755,"Sematon Elvira, Mag. Dr."]
[90462756,"Wallner Antonia"]
[90462757,"Trixner Marina"]
[90462758,"Persterer Michael, BEd"]
[90462759,"Binter Christine"]
[90462760,"Mesner Mateja"]
[90462761,"Holzmann-Bär Franziska"]
[90462762,"Weinzerl Claudia"]
[90462763,"Glavan Martina"]
[90462764,"Luxenberger Anita"]
[90462766,"Rohr Margot"]
[90462767,"Richter Margot"]
[90462768,"Kottnig Elke, BEd"]
[90462769,"Lerchbaumer Silvia"]
[90462770,"Wassermann-Stollwitzer Martina"]
[90462771,"Obkircher Andre"]
[90462772,"Gaggl Karin"]
[90462774,"Lapusch Michael"]
[90462775,"Perko Michael, Mag."]
[90462777,"Peer Anita"]
[90462779,"Dürnegger Heidemarie"]
[90462780,"Pließnig Andrea"]
[90462781,"Unterweger-Tiefnig Gerhild"]
[90462784,"Spendier Michael"]
[90462785,"Enzenebner Edith, Mag."]
[90462786,"Di Bartolo Dagmar"]
[90462787,"Jeschofnik Ingeborg"]
[90462788,"Hammer Susanne"]
[90462789,"Matschek Christine"]
[90462791,"Baumgartner Veronika"]
[90462792,"Kuester Sieglinde"]
[90462793,"Kubin Ulrike"]
[90462794,"Dietrichsteiner Erna"]
[90462795,"Zlepnik Karin"]
[90462796,"Jesse Claudia"]
[90462797,"Horn Ursula"]
[90462798,"Koren-Hafner Christine"]
[90462799,"Mak Valentin"]
[90462800,"Stossier Renate"]
[90462801,"Müller Irene, BA MA"]
[90462802,"Tschofenig Ulrike"]
[90462803,"Kristof Maria, BEd"]
[90462804,"Zissernig Maria, MMag."]
[90462805,"Rappitsch Brigitte"]
[90462806,"Fercher Maria"]
[90462807,"Wolf Gabriele"]
[90462808,"Lesiak Alfred"]
[90462809,"Werkl Petra"]
[90462810,"Wedam-Gasser Martina"]
[90462811,"Stich Ines"]
[90462812,"Magnet Wolfgang"]
[90462813,"Hinteregger Wilfried"]
[90462814,"Buchleitner Birgit"]
[90462815,"Marin Rebekka"]
[90462816,"Jellenig Karin"]
[90462818,"Brugger Inge"]
[90462819,"Unterrieder Hermann"]
[90462820,"Trattnig Astrid"]
[90462821,"Rischnig Horst, Mag."]
[90462823,"Struckl Andrea"]
[90462824,"Messner Stefanie"]
[90462825,"Duschek Heidi"]
[90462826,"Riegler Gabriele, Mag. Dr."]
[90462827,"Schwartz Bernhard"]
[90462828,"Glaser Monika"]
[90462829,"Miklautsch Andrea"]
[90462831,"Drussnitzer Josef"]
[90462832,"Hautzenberger Brigitte"]
[90462833,"Kuster Renate"]
[90462835,"Pleschberger Astrid"]
[90462836,"Zoltan Laszlo"]
[90462837,"Opetnik Georg"]
[90462838,"Reinsberger Gerlinde"]
[90462839,"Forstner Agnes"]
[90462840,"Berger Georg"]
[90462841,"Weishaupt Annette, Mag."]
[90462842,"Illgoutz-Smrekar Jutta"]
[90462843,"Standler Ursula"]
[90462844,"Kropp-Novello Doris"]
[90462845,"Sima Klaus, BEd"]
[90462846,"Weigand Karin"]
[90462847,"Widmann Wolfgang"]
[90462848,"Gietler Claudia, BEd"]
[90462849,"Oberweger Karin"]
[90462850,"Odrei Ilse, Mag."]
[90462851,"Laggner Margarethe"]
[90462853,"Ebner Ulrike"]
[90462854,"Piroutz Josef, Ing."]
[90462855,"Pongratz Rosemarie, Ing."]
[90462856,"Auernig Sebastian, Ing."]
[90462857,"Fritz Michaela"]
[90462858,"Lackner Alois, Ing."]
[90462859,"Sereinig-Huber Rosemarie, Ing."]
[90462860,"Rutter Andrea"]
[90462861,"Kapp-Bosic Lidija"]
[90462862,"Rogl Ingeborg"]
[90462863,"Kulmesch Angela"]
[90462865,"Aichern Evelin"]
[90462866,"Susiti Anita"]
[90462867,"Kügerl-Rom Andrea"]
[90462868,"Orlandi-Arrigoni Martina"]
[90462869,"Oberbucher Irene"]
[90462870,"Mitterer Peter"]
[90462871,"Struckl Hannes"]
[90462872,"Uggowitzer Doris"]
[90462873,"Daborer Jutta"]
[90462874,"Novak Philipp"]
[90462875,"Kapeller Ingrid"]
[90462876,"Rudiferia Doris"]
[90462877,"Seiser Angelika"]
[90462878,"Jensac Georg"]
[90462879,"Jensac Monika"]
[90462880,"Wieser-Fröhlich Eveline"]
[90462881,"Pirich Lisbeth"]
[90462882,"Zeiner Veronika"]
[90462883,"Altreiter Robert"]
[90462884,"Plaschke Heide"]
[90462885,"Pichler Josef"]
[90462886,"Egger Johannes"]
[90462887,"Rauter Christa"]
[90462888,"Gfrerer Brigitte, BEd"]
[90462889,"Pasterk Christa"]
[90462890,"Krainer Friedrich"]
[90462891,"Gruber Mariella"]
[90462892,"Sager Margit"]
[90462893,"Preinig Daniela"]
[90462894,"Tschudnig Elke, BEd"]
[90462895,"Bugelnig Reinhold"]
[90462896,"Leitgeb Helga"]
[90462897,"Leitner Gudrun"]
[90462898,"Perchtold-Weißenegger Petra"]
[90462899,"Jörke Andrea"]
[90462900,"Griesser Elisabeth"]
[90462901,"Würfler Helga"]
[90462903,"Valicek Klaudia"]
[90462904,"Lutschounig Andrea"]
[90462905,"Prieger Monika"]
[90462906,"Erlacher Martha"]
[90462907,"Obereder Sigrid"]
[90462908,"Holzer Heidemarie"]
[90462909,"Traußnig Gabriele, MA"]
[90462910,"Bär Renate"]
[90462911,"Praxmarer Irene"]
[90462912,"Riepl Ulrike"]
[90462913,"Pontasch Jutta"]
[90462914,"Hutter Gerda"]
[90462915,"Ludwiger Irmhild, BEd"]
[90462916,"Kusej Ludmilla"]
[90462917,"Bernhart Gudrun"]
[90462918,"Wiery Maria Magdalena"]
[90462919,"Candussi-Martens Jutta, BEd"]
[90462920,"Meklin-Sumnitsch Christine, MA BEd"]
[90462921,"Ebner Birgit"]
[90462922,"Machne Doris"]
[90462923,"Lackner Ilse"]
[90462924,"Moritz Marion"]
[90462925,"Edlinger-Tröbacher Gudrun"]
[90462926,"Truntschnig Annegret"]
[90462927,"Kapeller Eva"]
[90462928,"Fahlböck Hans"]
[90462929,"Zechner Peter Fritz"]
[90462930,"Heber Karin"]
[90462931,"Mayerhofer Renate"]
[90462932,"Weissmann Erwin"]
[90462933,"Wernig Helga"]
[90462934,"Wobak Maria"]
[90462935,"Walder Edith"]
[90462936,"Holzinger Andrea, MA"]
[90462937,"Kokarnig Angelika"]
[90462938,"Knellwolf Erika"]
[90462939,"Ruggenthaler Christine, Mag."]
[90462940,"Weinsack Carmen"]
[90462941,"Petritsch Barbara, BEd"]
[90462942,"Zenz Eva"]
[90462943,"Egger Judith"]
[90462944,"Kreuch Ingrid"]
[90462945,"Strutz Andrea"]
[90462946,"Leitner Claudia, Mag."]
[90462947,"Vanicek Sabine"]
[90462948,"Aichholzer Birgit"]
[90462949,"Rupp Iris"]
[90462950,"Kreutz Sonja"]
[90462951,"Sackl Heike"]
[90462953,"Weinberger Claudia"]
[90462954,"Müller-Domnig Waltraud, MA BEd"]
[90462955,"Illing Andrea"]
[90462957,"Krammer-Fink Karin"]
[90462958,"Haller Helmut"]
[90462959,"Pietschnig Reinhild"]
[90462960,"Schwarz-Jamer Helga, Mag."]
[90462961,"Dobraunig Barbara Carmen"]
[90462962,"Olip Bernhard"]
[90462963,"Astei Edith"]
[90462964,"Jenisy Alexander"]
[90462965,"Waluschnig Viola"]
[90462966,"Komar Ingeborg"]
[90462967,"Dorner Maria"]
[90462969,"Korak Anna"]
[90462970,"Bugelnig Hildegard"]
[90462971,"Dohr Elsbeth"]
[90462972,"Kircher-Demschar Margit, BEd"]
[90462975,"Lindner Robert"]
[90462977,"Lackner Aloisia, Ing."]
[90462978,"Madritsch Helga"]
[90462979,"Schnabl Renate"]
[90462980,"Winkler Gertrud, BEd"]
[90462981,"Peball-Winkler Gabriele"]
[90462982,"Koppitsch Eva-Maria"]
[90462983,"Benke Reginalda, BEd"]
[90462984,"Scharf-Zenz Monika"]
[90462985,"Sturm Stanko"]
[90462986,"Steiner Gabriele"]
[90462987,"Clarke Gertrud"]
[90462988,"Deutsch-Trauhsnig Christine"]
[90462989,"Auner Irmgard"]
[90462990,"Leiter Bernadette"]
[90462991,"Kreuzer Petra, BEd"]
[90462992,"Oraze Lydia"]
[90462993,"Zdouc Rosalia"]
[90462994,"Schütt Kornelia, MSc BEd"]
[90462995,"Puggl Gerda, MMag."]
[90462996,"Gabriel Christa"]
[90462997,"Rindler Edith"]
[90462998,"Gasser Karin"]
[90462999,"Kramer Hermann"]
[90463000,"Koban Rosemarie"]
[90463001,"Kapellari Klaudia"]
[90463003,"Scherübel Barbara"]
[90463004,"Maurer-Jost Angelika"]
[90463005,"Hopfgartner Monika"]
[90463006,"Muschlin Ilse"]
[90463008,"Roth-Gabriel Maria"]
[90463009,"Florjancic Valentina"]
[90463010,"Drobesch Monika"]
[90463011,"Kühschweiger Elisabeth"]
[90463012,"Scherzer Astrid"]
[90463013,"Riegler Heidemarie"]
[90463014,"Piwonka Monika, Ing."]
[90463015,"Krall Susanne, Ing."]
[90463016,"Buchacher Hans"]
[90463017,"Katholnig Margit"]
[90463018,"Liegl Solveig"]
[90463019,"Caldera Orsolina"]
[90463020,"Sima Maria"]
[90463021,"Körner Birgit"]
[90463022,"Slanic Marina"]
[90463023,"Totschnig Sabine"]
[90463024,"Prieler Inga"]
[90463025,"Dietrichsteiner Manuela"]
[90463026,"Semmelrock Ines"]
[90463027,"Melcher Ingrid"]
[90463028,"Pleschberger Andrea"]
[90463029,"Koch Monika"]
[90463030,"Furian Sabine"]
[90463031,"Holler-Bucher Hemma"]
[90463032,"Koschutnig Gabriele"]
[90463033,"Stückler Silvia"]
[90463034,"Macher Claudia"]
[90463035,"Wastian Gottfried, Ing."]
[90463036,"Ghidini-Weitensfelder Monika"]
[90463037,"Sturm Hildegard"]
[90463038,"Steiner-Hribernig Isabella"]
[90463039,"Buchwald Walpurga"]
[90463040,"Stopper Freya"]
[90463041,"Maier Ulrike"]
[90463042,"Freidl Petra, Mag."]
[90463043,"Allitsch Gabriela"]
[90463044,"Liegl Susanne"]
[90463045,"Mollhofer Frieda, Ing."]
[90463046,"Scheriau Volkmar, Ing."]
[90463047,"Dabringer Karl, Ing."]
[90463048,"Pürcher Helga, Dipl.-Päd."]
[90463050,"Frauenlob Michael"]
[90463051,"Fritz Silvia"]
[90463052,"Schwartz Birgit"]
[90463053,"Sima Maximilian"]
[90463054,"Haberfellner Robert"]
[90463055,"Lesjak-Ressmann Anna-Maria"]
[90463056,"Silan Maria"]
[90463057,"Latritsch Reinhard"]
[90463058,"Zebedin Andrea"]
[90463061,"Singer Manfred"]
[90463062,"Grabner Elke"]
[90463063,"Hofer Alexander"]
[90463064,"Ranner Doris"]
[90463065,"Derbuch Elke"]
[90463066,"Braunegg Monika"]
[90463067,"Mistelbauer-Stern Barbara"]
[90463068,"Pfeffer Claudia"]
[90463069,"Grollitsch Christine, MA BEd"]
[90463070,"Robatsch-Brunner Heidemarie"]
[90463072,"Wohlhart Elisabeth, MMag."]
[90463073,"Mastnak Ida"]
[90463074,"Sternat Elisabeth"]
[90463075,"Weber Britta"]
[90463076,"Horst Maria"]
[90463077,"Altorff Martina"]
[90463078,"Kopeinig Astrid"]
[90463079,"Kircher Daniela"]
[90463080,"Zechner Eva-Maria"]
[90463081,"Habernig Dieter"]
[90463082,"Chyba Brigitte"]
[90463083,"Sigl-Eisner Andrea"]
[90463084,"Bürger Susanna"]
[90463085,"Steurer Evelyn"]
[90463086,"Schurz Marianne"]
[90463087,"Poltnig Melitta"]
[90463089,"Weithaler Doris"]
[90463090,"Certov Johann"]
[90463091,"Gasser Daniela"]
[90463092,"Cesnik Andrea"]
[90463094,"Pichler Evelyn"]
[90463096,"Mochorko Brigitte"]
[90463097,"Eberhardt Manuela, BEd"]
[90463098,"Ruppitsch Christa"]
[90463099,"Ratheiser Sabine"]
[90463100,"Hoi Barbara"]
[90463101,"Schöffmann Elfriede, BEd"]
[90463102,"Roither Judith"]
[90463103,"Offner Erika"]
[90463104,"Mattersdorfer Heike"]
[90463105,"Steinthaler Christine"]
[90463106,"Nusser Barbara"]
[90463107,"Hobisch Birgit, BEd"]
[90463108,"Ebner Astrid"]
[90463109,"Haimburger Ingeborg, BEd"]
[90463110,"Grübler Kriemhilde"]
[90463111,"Allmaier Hildegard"]
[90463112,"Grafenauer Jutta"]
[90463113,"Kusej Irmgard, Mag. BEd"]
[90463115,"Krobath-Rutter Andrea"]
[90463116,"Sumnitsch Veronika"]
[90463117,"Hartlieb Silvia"]
[90463118,"Lipus Waltraud, BEd"]
[90463119,"Fasching Rosemarie"]
[90463120,"Jost Jutta"]
[90463121,"Persoglia Monika, BEd"]
[90463122,"Gallob Gerhard, Mag."]
[90463123,"Eickhoff Margit, Dipl.-Päd. MA BEd"]
[90463124,"Pleunigg Christine"]
[90463125,"Komoraus Sabrina"]
[90463126,"Petrei Katja"]
[90463127,"Regensburger Maria"]
[90463128,"Bucher-Suette Heidemarie"]
[90463129,"Widowitz Andrea"]
[90463130,"Marginter Hildegard"]
[90463131,"Jäger Ulrike"]
[90463132,"Wedenig Peter"]
[90463133,"Dolliner Andrea"]
[90463134,"Salcher Otto"]
[90463135,"Seher Alexandra"]
[90463136,"Wildmann Karin"]
[90463137,"Mitteregger Jutta"]
[90463138,"Eberdorfer Susanne"]
[90463139,"Struggl Maria, BEd"]
[90463140,"Pschernig Gabriele"]
[90463141,"Penker Anita"]
[90463142,"Wohlfahrt Magdalena, Mag."]
[90463143,"Laßnig Elisabeth"]
[90463144,"Wosatka Evelin"]
[90463145,"Lepuschitz Waltraud"]
[90463146,"Berger Renate"]
[90463147,"Paulitsch Gudrun"]
[90463148,"Christler Hannelore"]
[90463149,"Hübler Barbara"]
[90463150,"Matschke Elisabeth"]
[90463151,"Wrulich Andrea, MA"]
[90463152,"Lanner Adolf"]
[90463153,"Paulik-Schumann Viktoria"]
[90463154,"Blasge Monika"]
[90463155,"Krämmer Petra"]
[90463156,"Tschabitscher Christiane, BEd"]
[90463157,"Erlacher Sonja"]
[90463158,"Kronabetter Maria"]
[90463159,"Michl-Dörre Ilse"]
[90463161,"Kaplaner Gerda"]
[90463162,"Palfy Reinhild"]
[90463163,"Mak Andrina"]
[90463164,"Ambrosch Andrea"]
[90463165,"Hartlieb Anita"]
[90463166,"Adlaßnig Christin, BEd"]
[90463167,"Vasold Alfons"]
[90463168,"Raunegger Christine"]
[90463169,"Nussbaumer Birgit"]
[90463170,"Kravanja Andrea, Mag."]
[90463171,"Sandrieser Stefan"]
[90463172,"Sarkissian Gabriella"]
[90463173,"Schatz Edith"]
[90463174,"Deinsberger Gerald"]
[90463175,"Kropfitsch Christine"]
[90463176,"Millonig Thomas"]
[90463177,"Znidar Dominike"]
[90463178,"Tolmaier Tatjana"]
[90463179,"Wresnik Anna"]
[90463180,"Rabensteiner Hermine"]
[90463181,"Urban Ingrid"]
[90463182,"Gruber Edda"]
[90463183,"Wutte Wilhelmine, Ing."]
[90463184,"Pichler Barbara, Ing."]
[90463185,"Kohlenbrein Robert, Ing."]
[90463186,"Hazrati Elfriede, Ing."]
[90463187,"Klammer Irmgard, Ing."]
[90463188,"Wigoschnig Franz, Ing."]
[90463189,"Glantschnig Peter, DI"]
[90463190,"Smrtnik Marjan"]
[90463192,"Grosser Jutta"]
[90463193,"Zobernig Elisabeth, MMag."]
[90463194,"Frank Karin"]
[90463195,"Zirngast Barbara"]
[90463196,"Srienz Hanna"]
[90463197,"More Claudia"]
[90463198,"Müller Sabine, Mag."]
[90463199,"Zinterl Renate"]
[90463200,"Joham Annemarie"]
[90463201,"Schrüffer Barbara"]
[90463203,"Gasser Lydia, BEd"]
[90463204,"Pichler Elisabeth, BEd"]
[90463205,"Gallob Sabine, Mag. MSc"]
[90463206,"Marolt-Kirchbaumer Andrea, Mag."]
[90463207,"Mayer Martina"]
[90463209,"Brandstätter Sonja, Mag."]
[90463210,"Wetschnig Eva"]
[90463211,"Puchreiter Oswald"]
[90463212,"Hofstätter Marion, Mag."]
[90463213,"Angerer-Pitschko Magdalena, Mag."]
[90463214,"Nowak Sabine"]
[90463215,"Haas Martina"]
[90463216,"Zammernig Ulrich"]
[90463217,"Steinlechner Horst"]
[90463218,"Bergmayr Ursula"]
[90463219,"Stockenreitner Edith"]
[90463220,"Hofer Gabriele"]
[90463221,"Puchreiter Sonja"]
[90463222,"Töfferl Elvira, Mag. BEd"]
[90463223,"Jammer Elisabeth"]
[90463224,"Cvetko Roswita"]
[90463225,"Pinter Perdita"]
[90463226,"Liebert Ulrike"]
[90463227,"Orasche Gottfriede"]
[90463228,"Latschen Doris"]
[90463229,"Grabner Astrid"]
[90463230,"Gasser Gisela"]
[90463231,"Mußnig-Herzog Martina"]
[90463232,"Kofler Sabine"]
[90463233,"Wakonig Margit"]
[90463234,"Rapold Eva"]
[90463235,"Wodlej Barbara, BEd"]
[90463236,"Wagner Renate, BEd"]
[90463237,"Hubmann Ingrid"]
[90463239,"Ebner Angelika, BEd"]
[90463240,"Zankl Andrea"]
[90463241,"Oitzl Sandra"]
[90463242,"Durl Ninette"]
[90463243,"Hrast Amina, Mag."]
[90463244,"Reichmann-Partl Daniela, Mag."]
[90463245,"Karner Sabine"]
[90463246,"Kaltenbacher Ingrid"]
[90463247,"Lackner Birgit"]
[90463248,"Wohlmuth Sigrid, BEd"]
[90463249,"Schnabl Gabriele"]
[90463250,"Laussegger Martina"]
[90463251,"Six Christina"]
[90463252,"Kavelar Olivia, MA"]
[90463253,"Gorton Hemma"]
[90463254,"Allmann Adolf"]
[90463255,"Ortner Silvia"]
[90463256,"Mistelbauer Michael"]
[90463257,"Antolic Andrea"]
[90463258,"Oschounig Kordula"]
[90463259,"Brunner Lando-Alexander, Mag."]
[90463260,"Leitner-Klinzer Michaela"]
[90463261,"Ziak Angelika, Mag."]
[90463262,"Müller Gabriela"]
[90463263,"Trap-Kert Janja"]
[90463264,"Zuschin Horst"]
[90463265,"Wurzer-Rattenberger Andrea"]
[90463266,"Michorl Walburga"]
[90463267,"Egger-Hopfgartner Gerda"]
[90463268,"Hartwig Jutta"]
[90463269,"Rieger Roswitha"]
[90463270,"Kulmesch Heribert"]
[90463271,"Gärtner Veronika"]
[90463272,"Wagner Alfred, BEd"]
[90463273,"De Roja Roland"]
[90463274,"Petritz Gabriele"]
[90463275,"Hensel Angela, MMag.Dr."]
[90463276,"Sucher Waltraud"]
[90463277,"Pischelsberger Jutta"]
[90463278,"Neumaier Isolde"]
[90463279,"Minatti Julia"]
[90463280,"Schabus Konrad, Ing."]
[90463281,"Herzele Doris"]
[90463282,"Santner Heidemarie, BEd"]
[90463283,"Mak Beatrix"]
[90463284,"Hinteregger-Tunde Sabine, Mag. BEd"]
[90463285,"Pipper Karin"]
[90463286,"Mühlböck Manuela"]
[90463287,"Gabriel Petra, BEd"]
[90463288,"Trampitsch Renate"]
[90463289,"Hochkircher Sabine"]
[90463290,"Grani-Weissensteiner Angelika"]
[90463291,"Koschu Maria"]
[90463292,"Hipp Sieglinde"]
[90463293,"Raup Harald, Mag."]
[90463294,"Lobner Heike"]
[90463295,"Allmaier Hildegard"]
[90463296,"Hubmann Bettina"]
[90463297,"Weiß Walter"]
[90463298,"Eizinger Gabriele, Mag."]
[90463299,"Oprießnig Helfried"]
[90463300,"Pleßnitzer Barbara"]
[90463301,"Kuglitsch Sigrid"]
[90463302,"Ropac Anneliese, Mag."]
[90463303,"Klaus Andrea"]
[90463304,"Maier Dagmar"]
[90463305,"Marktl Belinda, BEd"]
[90463306,"Schulterer Michaela"]
[90463307,"Frumlacher Elisabeth, MA BEd"]
[90463309,"Marginter Monika"]
[90463310,"Strauß-Moser Dagmar"]
[90463311,"Zwischenberger Erika"]
[90463312,"Kraiger Elke, MA"]
[90463313,"Marktl Silvia"]
[90463314,"Juvan Karlheinz, Ing.Mag."]
[90463315,"Kaiser Bettina"]
[90463316,"Fugger Ulrike"]
[90463317,"Thurner Andrea"]
[90463318,"Schloffer Ingrid"]
[90463319,"Egger Beatrix"]
[90463320,"Gritschacher Karin"]
[90463322,"Faller Ulrike"]
[90463323,"Ebner Andrea"]
[90463324,"Nagelschmied-Ehlers Susanne, Mag. BEd"]
[90463325,"Unterrieder Herbert"]
[90463326,"Wasserer Carmen"]
[90463327,"Prasch Ina"]
[90463328,"Ibel Isolde"]
[90463329,"Scheiber Helmut"]
[90463330,"Miklautz Sonja"]
[90463331,"Perisutti Bettina"]
[90463333,"Maier-Onitsch Ines"]
[90463334,"Kaiser Ingeborg"]
[90463335,"Rader-Gurmann Elisabeth"]
[90463336,"Weishaupt Johann, Mag."]
[90463337,"Reiner Regina"]
[90463338,"Kandutsch Cornelia, MA"]
[90463339,"Hofer Egon, Ing."]
[90463340,"Messner Marlene"]
[90463341,"Angermann Erich, Mag."]
[90463342,"Steinberger Christine"]
[90463343,"Oberneder Dagmar"]
[90463344,"Sandrieser Sabine"]
[90463345,"Dorfer Isabella"]
[90463346,"Kazianka Edith"]
[90463347,"Kalt Cornelia"]
[90463348,"Wagener Judith"]
[90463349,"Jahn Susanne"]
[90463350,"Olsacher Claudia, Mag."]
[90463351,"Strieder Patrizia"]
[90463352,"Hopfgartner Susanne"]
[90463353,"Riedel-Pribassnig Susanne"]
[90463354,"Zagar Gudrun"]
[90463355,"Pongratz Andrea"]
[90463356,"Polesnig Josef"]
[90463357,"Wauch Silvia"]
[90463358,"Reinisch Gerhard"]
[90463360,"Logar Stefan, BEd"]
[90463361,"Luschnig Christine"]
[90463362,"Kruschitz Helga"]
[90463364,"Kropf Monika"]
[90463365,"Jaut Brunhilde, Ing."]
[90463366,"Pfister Renate, Ing."]
[90463367,"Toegel Irene"]
[90463368,"Harrich Gerhard, BEd"]
[90463369,"Zuschin Elisabeth"]
[90463370,"Pöllinger Manfred"]
[90463371,"Schwarzfurtner Damaris, MMag."]
[90463372,"Kienzer Anna Maria"]
[90463373,"Kreuzer Gerd"]
[90463374,"Moser-Streiner Gabriele, BEd"]
[90463375,"Herzele Karin"]
[90463376,"Wilding Alice"]
[90463377,"Koschuttnigg Franz, Ing."]
[90463378,"Glatz-Wadl Silvia"]
[90463379,"Smrtnik Bettina"]
[90463380,"Memmer Birgit, Mag. Dr."]
[90463382,"Funk Karin"]
[90463383,"Kreutzer-Rappitsch Gerlinde"]
[90463384,"Plankensteiner Lydia"]
[90463385,"Groß Felizitas"]
[90463386,"Drießen Birgit, BEd"]
[90463387,"Edlinger-Pammer Elisabeth"]
[90463388,"Kainz Marianne"]
[90463389,"Rupp Ingrid"]
[90463390,"Velik Birgit"]
[90463391,"Maurer Iris"]
[90463392,"Czadilek Peter"]
[90463393,"Schmutzer Andreas"]
[90463394,"Perkonig Katharina"]
[90463395,"Gauster Johanna"]
[90463396,"Robinig Gerhild"]
[90463397,"Pleßnitzer Wolfgang"]
[90463398,"Schmidhofer Barbara"]
[90463399,"Raunikar Karin"]
[90463400,"Jessenitschnig Isabella, Ing. MA"]
[90463401,"Siwetz Karin"]
[90463402,"Pirker Sabine"]
[90463403,"Jesenko Heidemarie, MA BEd"]
[90463404,"Rinder Andrea, Mag. BEd"]
[90463405,"Tatschl Herbert, Ing."]
[90463406,"Kernjak Majda, Mag."]
[90463407,"Hahn Angelika, Mag."]
[90463408,"Popofsits Astrid"]
[90463409,"Novak Sabine"]
[90463410,"Ertl Heidelinde"]
[90463411,"Stückler Birgit"]
[90463412,"Vasold Hermine"]
[90463413,"Weber-Ogris Maria"]
[90463414,"Hutter Sabine"]
[90463416,"Jesse Manfred, Ing."]
[90463417,"Klever Gabriele"]
[90463418,"Schurian Elisabeth, Mag. BEd"]
[90463419,"Heber Rosemarie"]
[90463420,"Pertl Marlen, BEd"]
[90463421,"Holzer Franz"]
[90463422,"Loibnegger Iris"]
[90463423,"Gutschi Melitta"]
[90463425,"Frey Christine"]
[90463426,"Spöck Petra"]
[90463427,"Leopold-Kirisits Barbara"]
[90463428,"Burgstaller Christiane, Ing."]
[90463429,"Glas-Jaklitsch Siegrun"]
[90463430,"Kaplaner Christof, DI(FH) Dr."]
[90463432,"Groß Waltraud"]
[90463433,"Korak Paul, Ing."]
[90463434,"Maier Albert, Ing."]
[90463435,"Müller Klaus, Ing."]
[90463436,"Wuntschek Thomas, Ing."]
[90463437,"Lampersberger Hannes, Ing."]
[90463438,"Moser Reinhold, Ing."]
[90463439,"Strobl Sylvia"]
[90463440,"Altmann Gudrun"]
[90463441,"Eberhart Birgit, BEd"]
[90463442,"Feichter Martina"]
[90463443,"Jursic Birgit"]
[90463444,"Kuchling Jutta"]
[90463445,"Scherzer Martina"]
[90463446,"Steinlechner Birgit"]
[90463447,"Kogler Christine"]
[90463448,"Putzinger Manuela"]
[90463449,"Sadnikar Miriam"]
[90463450,"De Roja Birgit"]
[90463451,"Guggenberger Andrea"]
[90463452,"Gößeringer Eva, BEd"]
[90463453,"Vielgut Ines"]
[90463454,"Werzer Tanja"]
[90463455,"Salcher Elvira"]
[90463456,"Marko Sieglinde, Mag."]
[90463457,"Wiedenig Martina"]
[90463458,"Wernitznig-Steiner Evelyn, BEd"]
[90463459,"Moeller Monika"]
[90463460,"Jaritz Jutta"]
[90463461,"Reinisch Irmgard, Mag."]
[90463462,"Reichhold Christina, Ing."]
[90463463,"Scheiflinger Sigrid, Ing."]
[90463464,"Leitner Johannes, DI"]
[90463465,"Freithofnig Anton, Ing."]
[90463466,"Jessenitschnig Dorothea"]
[90463467,"Koren-Lederer Sabine, Mag."]
[90463468,"Pinter Silvia"]
[90463469,"Waldner Astrid"]
[90463470,"Muggi Johann, DI"]
[90463471,"Reichmann Horst, Ing."]
[90463472,"Tschernitz Günter, Ing."]
[90463473,"Russegger Mathias, Ing."]
[90463474,"Kozar Gabriele, MBA"]
[90463475,"Gräfling Ursula"]
[90463476,"Haller Petra"]
[90463477,"Huber Doris"]
[90463478,"Rabensteiner Anneliese"]
[90463479,"Petutschnig Christine"]
[90463480,"Lechner-Pitzler Gerit"]
[90463481,"Sadjak Vera"]
[90463482,"Gabriel Pauline"]
[90463483,"Vejnik Manuela, Mag."]
[90463484,"Strasser Florentina"]
[90463485,"Müller Christa"]
[90463486,"Ulbing Ilba"]
[90463487,"Bugelnig Michaela"]
[90463488,"Moser Ulrike"]
[90463489,"Reichmann Brigitte"]
[90463490,"Jandl Willibald, Mag."]
[90463491,"Otrob Evelyn"]
[90463492,"Mischkounig Beatrix"]
[90463493,"Reichhold Ingrid"]
[90463494,"Pröbsting Gabriele"]
[90463495,"Hartl Rosalia, BEd"]
[90463496,"Suntinger Hemma"]
[90463497,"Brenner Monika"]
[90463498,"Liegl Ulrike"]
[90463499,"Hillebold Josef"]
[90463500,"Dielacher Karin"]
[90463501,"Hyden Gerhard"]
[90463502,"Kügele Iris"]
[90463503,"Klammer Ulrike"]
[90463504,"Smolnik Martha"]
[90463505,"Fröhlich Gabriele"]
[90463506,"Schätzer Gabriele"]
[90463507,"Pirker Peter"]
[90463508,"Schachner Barbara, MMag. BEd"]
[90463509,"Jeßner Karin"]
[90463510,"Schuller-Ninaus Andrea"]
[90463511,"Biedermann Barbara"]
[90463512,"Marin-Reinhart Ute"]
[90463513,"Kurnig-Gruber Karoline, Mag."]
[90463514,"Plankenauer Thomas"]
[90463516,"Fritzer Annette, Ing."]
[90463517,"Marginter Maximilian"]
[90463518,"Huber Christine"]
[90463519,"Schaffer-Schellander Marianne, Mag. Dr."]
[90463520,"Kumer Erika"]
[90463521,"Visser Andrea, BEd BSc"]
[90463522,"Keuschnig Astrid"]
[90463523,"Zarfl Christiane"]
[90463524,"Strauß Anita"]
[90463525,"Hammerschall Daniela"]
[90463526,"Bayer Doris"]
[90463527,"Innerhofer Sabine"]
[90463528,"Zebedin Melitta"]
[90463529,"Olsacher Vitus Robert, Ing."]
[90463530,"Stadtschreiber Helmut, BEd"]
[90463531,"Aigensberger Gerlinde"]
[90463532,"Sabath Angelika"]
[90463533,"Gurmann Peter, MMag.Dr."]
[90463534,"Janko-Tschekon Angelika"]
[90463535,"Seebacher Regina"]
[90463536,"Lenzhofer Ilse"]
[90463537,"Wutte Robert, Ing."]
[90463538,"Schwarz Maria"]
[90463539,"Tschinder Beatrix"]
[90463540,"Rocnik Rosalia"]
[90463541,"Lehnert Monika"]
[90463542,"Nepraunig Josefine"]
[90463543,"Bärenthaler-Pachner Hans"]
[90463544,"Weber Johann, Ing."]
[90463545,"Erlacher Ingo"]
[90463546,"Fresser Rita"]
[90463547,"Höfinger Petra"]
[90463548,"Kores Tatjana"]
[90463549,"Hermanik Helmut"]
[90463550,"Gasser-Dermutz Maria"]
[90463551,"Drießen Michael, BEd"]
[90463552,"Walcher Dieter"]
[90463553,"Krebs Dagmar, BEd"]
[90463554,"Münzer Regine"]
[90463555,"Sackl Christine"]
[90463556,"Melcher Karin, BEd"]
[90463557,"Höfer Claudia"]
[90463558,"Pichler Gerald"]
[90463559,"Bernhart Karin"]
[90463560,"Wutti Renate"]
[90463561,"Nagelschmied Werner, Mag. BEd"]
[90463562,"Leitner Gerold"]
[90463563,"Krammer Erwin, Mag."]
[90463564,"Truppe-Rescher Gerda, Ing."]
[90463567,"Blackert-Gosch Irma, MMag.Dr. BEd"]
[90463568,"Katz Anna, BEd"]
[90463569,"Opetnik Maria, Dipl.-Päd."]
[90463570,"Rukavina Gabriele"]
[90463571,"Sternjak Helmut, BEd"]
[90463572,"Neumann Monika"]
[90463573,"Kowatsch Gudrun"]
[90463574,"Kummer Josef"]
[90463575,"Olipp Sigrid"]
[90463576,"Waldner Gernot"]
[90463577,"Luxbacher Sieglinde"]
[90463578,"Traunmüller Ulrich"]
[90463579,"Knafl Erich"]
[90463581,"Komar Gabriele, MSc BEd"]
[90463582,"Egger Waltraud"]
[90463583,"Gotthardt Elvira"]
[90463585,"Tscherteu Christine"]
[90463587,"Pistrol Ronald, DI"]
[90463588,"Huber Josef, DI"]
[90463589,"Motz Gunter"]
[90463590,"Weber Josef"]
[90463591,"Pirzl Walter, Ing.Mag.Dr."]
[90463592,"Kühbacher Christine"]
[90463593,"Daniel Anni"]
[90463594,"Moerisch Eva, Mag."]
[90463595,"Hartl Helmut"]
[90463596,"Gischa Cornelia, MA"]
[90463597,"Pließnig Gabriele, BEd"]
[90463598,"Trattnig Andrea"]
[90463600,"Kriegl Evelyn"]
[90463602,"Harrich Renate"]
[90463603,"Matweber Nicole"]
[90463604,"Selan Angelika"]
[90463605,"Kaulfersch Hermine"]
[90463606,"Krausler Helmut, Ing."]
[90463607,"Dorner Andrea"]
[90463608,"Hofer Wolfgang"]
[90463609,"Jandl Doris"]
[90463610,"Pedretscher Annegret, Mag."]
[90463611,"Pfeiler Josef, Ing."]
[90463612,"Toporis-Pucher Gerda"]
[90463613,"Leitner Gerlinde"]
[90463614,"Scheuchl Sabine, BEd"]
[90463615,"Baurecht Roswitha"]
[90463616,"Sattmann-Taferner Bettina"]
[90463617,"Patscheider Edith, MA"]
[90463618,"Ertl Ursula"]
[90463619,"Melcher Anke"]
[90463620,"Kovacs Istvan"]
[90463621,"Lindner Monika"]
[90463622,"Bruckner Petra"]
[90463623,"Zederbauer Janine, BEd"]
[90463624,"Leitner Josef"]
[90463626,"Pollheimer Ernst"]
[90463627,"Fritz Petra"]
[90463628,"Kulterer Claudia"]
[90463629,"Faist Susanne"]
[90463630,"Pschenitschnig Claudia"]
[90463631,"Schachner-Martl Petra"]
[90463632,"Wieser Elisabeth"]
[90463633,"Eisner Alfred"]
[90463634,"Probsdorfer Gudrun"]
[90463635,"Lipnig Brunhilde"]
[90463637,"Lepuch Waltraud"]
[90463638,"Grundnig Eva"]
[90463639,"Pick Ursula"]
[90463640,"Strauß Martina"]
[90463641,"Jäger Elisabeth, BEd"]
[90463642,"Susitz Edith"]
[90463643,"Lassnig Doris, DI"]
[90463644,"Salzmann Ewald"]
[90463645,"Unterköfler Karoline"]
[90463646,"Slamnig Petra"]
[90463647,"Zeber Reinhard"]
[90463648,"Salamon-Picottini Barbara"]
[90463649,"Zechmeister-Machhart Sabine"]
[90463650,"Vierbach Franz"]
[90463651,"Znidar Marlies"]
[90463652,"Thomas Almut, Mag. Dr."]
[90463653,"Kaltenegger Elke"]
[90463654,"Röhrenbeck Gerhard"]
[90463655,"Herbst Karin"]
[90463656,"Donner-Havelka Sabine"]
[90463657,"Woska Petra"]
[90463658,"Fischer Regina"]
[90463659,"Seidl Michael, Ing."]
[90463660,"Müller Sigrid, Mag. Dr."]
[90463661,"Kollienz Rita"]
[90463662,"Linder Christine, Mag."]
[90463665,"Kuschnig Isabella"]
[90463666,"Ehm Claudia, BEd"]
[90463667,"Hopfgartner-Bucher Ursula"]
[90463668,"Kastner Gertrude, Mag. BEd"]
[90463670,"Kezar Mirjam"]
[90463672,"Salentinig Barbara"]
[90463675,"Wilhelmer Maria"]
[90463676,"Lampichler Heidemarie"]
[90463677,"Steinkellner Elisabeth"]
[90463678,"Nindler Andrea, Mag. MSc"]
[90463679,"Wieser Gabriele"]
[90463680,"Krexner Johann"]
[90463682,"Ratheiser Claudia, Ing."]
[90463683,"Innerwinkler Maria, Ing."]
[90463684,"Uran Brigitte"]
[90463685,"Schaller Elisabeth"]
[90463686,"Oberlercher Barbara"]
[90463687,"Wautsche-Pototschnik Ulrike"]
[90463688,"Kronawetter Ulrike"]
[90463690,"Krestan Sonja"]
[90463691,"Buchacher Liselotte"]
[90463692,"Polzer Brigitte"]
[90463693,"Tuppinger Martina"]
[90463695,"Weber Brigitte"]
[90463697,"Auer Sabine"]
[90463698,"Enzi Hermann, DI(FH)"]
[90463699,"Kraßnitzer Angelika"]
[90463700,"Sorschag Ulrike"]
[90463701,"Grantner Maria"]
[90463702,"Fellner-Beer Daniela"]
[90463703,"Neidhardt Margret"]
[90463704,"Wohlgemuth Karoline, MA"]
[90463705,"Fellner Karl"]
[90463706,"Stanz Karl"]
[90463707,"Moser Johannes"]
[90463708,"Haslauer Andrea"]
[90463709,"Sukalia Magdalena"]
[90463710,"Wedenig Daniela"]
[90463711,"Gailer Barbara"]
[90463712,"Rass Herta"]
[90463713,"Wastian Gertrud, Ing."]
[90463714,"Koller Barbara"]
[90463715,"Hartenberger Karin"]
[90463716,"Kribitz-Nitsche Gudrun"]
[90463717,"Pinter Marion"]
[90463718,"Stampfer Margot"]
[90463719,"Rom Ulrike"]
[90463720,"Jost Barbara"]
[90463721,"Zangerle Michaele"]
[90463722,"Mandl Birgitt"]
[90463725,"Perne Rosemarie"]
[90463726,"Kofler Hans"]
[90463728,"Wolf-Schöffmann Claudia, BEd"]
[90463729,"Lampichler Karin"]
[90463730,"Ernst-Hoffer Ines"]
[90463731,"Marinello Astrid, Mag. BEd"]
[90463732,"Mang Peter"]
[90463733,"Obweger Josef, Ing."]
[90463734,"Papst Brigitte"]
[90463735,"Hochenwarter Erich"]
[90463736,"Neubauer Irmgard"]
[90463737,"Griengl Petra"]
[90463738,"Lastin Marlies, Ing."]
[90463739,"Ebner Ingeborg, BEd"]
[90463740,"Warmuth Sonja"]
[90463741,"Wucherer Astrid"]
[90463742,"Kassl Dagmar"]
[90463743,"Nageler Gudrun"]
[90463744,"Druml Petra"]
[90463745,"Manges Birgit"]
[90463746,"Pacher Carolin"]
[90463747,"Hamers Michaela"]
[90463748,"Marinello Rosemarie"]
[90463749,"Kositz Cornelia"]
[90463750,"Hölbling Ursula, BEd"]
[90463751,"Marchetti Ute"]
[90463752,"Hoffland-Kolb Susanne"]
[90463753,"Sandtner-Sitter Gerda"]
[90463754,"Schmölzer Michaela"]
[90463755,"Katz Elke"]
[90463756,"Gstrein Dagmar"]
[90463757,"Wassertheurer Regina"]
[90463758,"Felle Sabine"]
[90463759,"Kaltenhauser Karin, BEd"]
[90463760,"Tomaschitz Peter"]
[90463761,"Gutjahr Claudia"]
[90463762,"Schmucker Gabriele"]
[90463763,"Kapeller Barbara, MA BEd"]
[90463764,"Sallfeldner Sabine"]
[90463765,"Campidell Sylvia, BEd"]
[90463766,"Kontrus Beate"]
[90463767,"Scheicher Ilse, Ing."]
[90463768,"Auer Waltraud, Ing."]
[90463769,"Genshofer Judith"]
[90463771,"Wegscheider Sabine, MMag."]
[90463772,"Theuermann Carmen"]
[90463773,"Krammer Germana, Mag."]
[90463774,"Ofner Caroline"]
[90463775,"Liendl-Petru Sabine, BEd"]
[90463776,"Türk Christian"]
[90463777,"Gratzer Sabine"]
[90463778,"Piskernik Christine"]
[90463779,"Rainsperger Herbert"]
[90463780,"Wallner Heidemarie, Mag."]
[90463781,"Preßlauer Annemarie"]
[90463782,"Wimmer-Scheibenpflug Susanne"]
[90463783,"Tatschl Arno"]
[90463784,"Pauscha Monika"]
[90463785,"Sabitzer Angelika"]
[90463786,"Wastl Katharina"]
[90463788,"Pak Ingrid, MSc"]
[90463789,"Grundnig Martin, Ing."]
[90463790,"Zechner Elvira"]
[90463791,"Terbuch Veronika, MA"]
[90463792,"Kuttnig-Kosche Petra"]
[90463793,"Klogger Ingrid"]
[90463794,"Kalin Cornelia"]
[90463795,"Rutter Christine"]
[90463796,"Biedermann Barbara"]
[90463797,"Kaltschmidt Manuela, MA BEd"]
[90463798,"Wochinz Nicola"]
[90463799,"Unterkofler Ruth"]
[90463800,"Nickel-Unterholzer Carmen"]
[90463801,"Bachmann Christiane"]
[90463802,"Necemer Franziska, BEd"]
[90463803,"Nußbaumer Bettina"]
[90463804,"Kaspurz Renate"]
[90463805,"Samwald Astrid"]
[90463806,"Pogrilz Waltraud"]
[90463807,"Klemen-Stocker Christl, Mag."]
[90463808,"Unterholzer Doris"]
[90463809,"Petutschnig Margit"]
[90463810,"Bergmann Silvia"]
[90463811,"Gabriel Dorothea"]
[90463812,"Gaggl Petra, Mag."]
[90463813,"Lanzer Claudia"]
[90463814,"Wilplinger Irmgard"]
[90463816,"Ball Christina"]
[90463817,"Hrobath Christina, Mag."]
[90463818,"Hassler Sabine"]
[90463819,"Ebner Anton, BEd"]
[90463820,"Moser Michaela"]
[90463821,"Müller Roswitha"]
[90463822,"Filzmaier Sabine"]
[90463824,"Schober Monika"]
[90463825,"Schmid Martina"]
[90463826,"Frank Elke, MA BEd"]
[90463827,"Jesenko Birgit"]
[90463828,"Knapp Claudia"]
[90463829,"Hollauf Marion, MA BEd"]
[90463830,"Nigsch Renate"]
[90463831,"Leitner Margit"]
[90463832,"Adunka Hans"]
[90463833,"Malec Brigitte"]
[90463834,"Tamegger Gerlinde, Ing."]
[90463835,"Adunka-Demoser Helga, Mag."]
[90463836,"Traunik Michaela"]
[90463838,"Thaler Stanislaus, Mag."]
[90463839,"Kazianka Dorothea"]
[90463840,"Stopper Isolde, Ing.Mag."]
[90463841,"Eicher Monika"]
[90463842,"Holzer Sabine"]
[90463843,"Pöck Frank"]
[90463844,"Stampfer Beatrice"]
[90463845,"Reinsperger Sabine"]
[90463846,"Tscheru Wolfgang"]
[90463847,"Reichmann Sandra"]
[90463848,"Kreimer Brigitte"]
[90463849,"Pecnik Rosemarie, BEd"]
[90463850,"Weixler Melanie"]
[90463851,"Andritsch Christine"]
[90463852,"Erlacher Astrid"]
[90463853,"Galsterer Iris"]
[90463854,"Pirold Sabine"]
[90463855,"König Cordula"]
[90463856,"Münzer Robert"]
[90463857,"Schittenkopf Viktoria"]
[90463858,"Hitz-Uneg Florentina"]
[90463859,"Wanek Gerda"]
[90463860,"Enzersfellner Tatjana"]
[90463861,"Schmid-Salobir Irma"]
[90463862,"Weißenegger Isabell"]
[90463863,"Sturm Margret"]
[90463864,"Krainz Karoline, Mag."]
[90463866,"Taupe Klaudia"]
[90463867,"Havlicek Gernot"]
[90463868,"Potocnik Christiana, Mag. Dr."]
[90463869,"Weber-Mulle Bettina"]
[90463870,"Bezdek Petra"]
[90463871,"Galler-Mußnig Martina"]
[90463872,"Martl Elke"]
[90463873,"Dold Anne"]
[90463874,"Vallant Monika"]
[90463876,"Unterkofler Hans-Jörg"]
[90463877,"Horr Martina"]
[90463879,"Malle Kornelia"]
[90463880,"Seiser Dagmar"]
[90463881,"Grün Sabine"]
[90463882,"Motaln-Snobe Ines"]
[90463883,"Jost-Michevc Maria"]
[90463884,"Miserre Manuela, BEd"]
[90463885,"Galle Karin"]
[90463886,"Dorfer Reingard"]
[90463887,"Ragger Karin"]
[90463888,"Baumgartner Christina, MA BEd"]
[90463889,"Pobaschnig Elfriede"]
[90463890,"Thaler Daniela, Mag."]
[90463891,"Ebner Ulfried"]
[90463892,"Vilanek Evelyn"]
[90463893,"Teich Petra"]
[90463894,"Lexer Michael"]
[90463895,"Eder Gerhard, Ing."]
[90463896,"Gasser Marian"]
[90463897,"Zraunig Andrea, MMag.Dr."]
[90463898,"Banozic Gordana"]
[90463899,"Habich Sabine"]
[90463900,"Stimpfl Evelyn"]
[90463901,"Grundnig Danja"]
[90463902,"Augustin Monika"]
[90463903,"Koller Boris"]
[90463904,"Krall Anna"]
[90463905,"Ogris Tatjana"]
[90463906,"Sulzenbacher Anna"]
[90463907,"Scheuerer Elisabeth"]
[90463908,"Liebhart Bianka"]
[90463909,"Sorger Sabine"]
[90463910,"Grillitsch Martina, BEd"]
[90463911,"Weißegger-Ellersdorfer Rosemarie"]
[90463912,"Trattnig Josef"]
[90463913,"Kanzian Claudia"]
[90463914,"Sax Birgit"]
[90463915,"Seidl Aaron"]
[90463916,"Maier Karin, MA"]
[90463917,"Golger Franz"]
[90463918,"Ebner-Schwarz Brigitta"]
[90463919,"Zankl Claudia"]
[90463920,"Vallant Elke"]
[90463921,"Miklau Adelheid"]
[90463922,"Zlamy Solweig"]
[90463923,"Schöffmann Dagmar, BEd"]
[90463924,"Seher Gertrude"]
[90463925,"Kocnik Dietlinde"]
[90463926,"Issak Birgit, MMag.Dr."]
[90463927,"Stückler Claudia, BEd"]
[90463928,"Rehak Iris, Mag."]
[90463929,"Bergner Birgit"]
[90463930,"Aigner Elfriede"]
[90463931,"Lederer Wolfgang"]
[90463932,"Auernig Andrea"]
[90463933,"Penker Elisabeth"]
[90463934,"Rabensteiner-Krause Claudia"]
[90463935,"Kainbacher Iris"]
[90463936,"Krammer Kornelia"]
[90463937,"Gallob Eveline, Mag."]
[90463939,"Tengg Christine"]
[90463940,"Grein Claudia"]
[90463941,"Sprachmann Adelheid"]
[90463942,"Hlavka Eveline"]
[90463943,"Zaminer Elsa, Ing."]
[90463945,"Mesnik Daniel"]
[90463946,"Wallner Wolfgang"]
[90463947,"Ebner-Gollisch Sigrid"]
[90463949,"Woschitz Alexandra"]
[90463950,"Wosatka Gerald"]
[90463951,"Werhonig Christiana"]
[90463952,"Vankat Elisabeth, BEd"]
[90463953,"Ressmann Markus, Mag."]
[90463954,"Prieger Monika"]
[90463955,"Gfrerer Dagmar, MA"]
[90463956,"Sumnik Elisabeth"]
[90463958,"Stromberger-Puggl Monika, MMag."]
[90463959,"Bräuhaupt Daniela, Mag."]
[90463961,"Stotter Gerlinde"]
[90463962,"Pöllinger Hans Peter, MA BEd"]
[90463963,"Peintner Ute"]
[90463964,"Gebhard Christian"]
[90463965,"Pozewaunig Sonja, Mag."]
[90463966,"Bierbaumer Barbara"]
[90463967,"Schütz Irene, BEd"]
[90463968,"Marizzi Carmen"]
[90463969,"Tripolt Ingeborg"]
[90463970,"Pintar Margit, Mag."]
[90463971,"Mitsch Magdalena"]
[90463972,"Scherzer Trudelinde"]
[90463973,"Pfandl Astrid"]
[90463974,"Petschnig Barbara, BEd"]
[90463976,"Zraunig Barbara"]
[90463977,"Göschl Andrea"]
[90463978,"Smolnik-Jeromin Dorothee"]
[90463979,"Schwaiger Franziska, Mag."]
[90463980,"Hübler Andrea"]
[90463981,"Fleißner Eva"]
[90463982,"Tosin Irmgard"]
[90463983,"Rainer Maria, Mag. Dr."]
[90463984,"Zeginigg Andrea, Mag."]
[90463985,"Podesser Maria"]
[90463986,"Koch Petra"]
[90463987,"Guggenberger Clemens"]
[90463988,"Steinhauser Sabine"]
[90463989,"Landsmann-Tatschl Sabine"]
[90463990,"Harnisch Bettina"]
[90463991,"Steiner Berta"]
[90463992,"Klaus Miriam"]
[90463993,"Sitter-Gradenegger Karin"]
[90463994,"Mosser Angela"]
[90463995,"Pesec Sabine"]
[90463996,"Zechner Elisabeth, BEd"]
[90463997,"Tossmann Marianne"]
[90463998,"Köllich Gudrun"]
[90463999,"Fössl Regina"]
[90464000,"Tribondeau Michele"]
[90464002,"Salberger Birgit"]
[90464003,"Dohr Elisabeth"]
[90464004,"Rothleitner Margit"]
[90464005,"Frießnegger Reinhildis"]
[90464006,"Schallehn Maria, BEd"]
[90464007,"Zöllner Claudia"]
[90464008,"Buchleitner Sigrid"]
[90464009,"Haid Helga"]
[90464010,"Steiner Christina"]
[90464011,"Gradenegger Gabriele"]
[90464012,"Wirnsberger Johanna"]
[90464013,"Rauter-Kristof Gabriele, BA"]
[90464014,"Ouschan Michael-Friedrich, Ing.Mag."]
[90464015,"Matschnigg Maria, Ing."]
[90464016,"Seher Daniela"]
[90464017,"Wurzer-Jeglitsch Barbara"]
[90464018,"Kraxner Christina"]
[90464019,"Auer Doris"]
[90464020,"Sander Andrea"]
[90464021,"Kummer Sabine"]
[90464022,"Maier-Wernisch Barbara"]
[90464023,"Wallner Andrea"]
[90464024,"Derflinger Iris"]
[90464025,"Debevec Andrea"]
[90464026,"Plankenauer Julia"]
[90464027,"Lungkofler-Kriegl Gabriele, Mag."]
[90464028,"Kereskenyi Csaba"]
[90464029,"Kaltschmidt Eveline, Mag."]
[90464030,"Fahlböck-Handler Carina, BEd"]
[90464031,"Angermann Barbara"]
[90464032,"Sabotnik Thomas"]
[90464033,"Ranner-Jordan Eva"]
[90464034,"Karner-Pucher Sigrun"]
[90464035,"Bärnthaler Kirsten"]
[90464036,"Zwitter Christina"]
[90464037,"Wimmer Heidemarie"]
[90464038,"Tropper Günter"]
[90464039,"Totschnig Michael"]
[90464040,"Pluch-Rainer Monika, Mag. BEd"]
[90464041,"Prossegger Elsbeth"]
[90464042,"Berg Barbara"]
[90464043,"Hasenbichler Barbara, Ing."]
[90464044,"Karnitschnig Edith, Ing."]
[90464045,"Sneditz Maria, Ing."]
[90464046,"Pleschberger Uta"]
[90464047,"Bischof Inge"]
[90464048,"Staffler Christine"]
[90464049,"Steiner Gabriele, BEd"]
[90464050,"Karner Lorenz"]
[90464051,"Kustrin-Gönitzer Claudia"]
[90464052,"Prijatelj-Mak Manuela"]
[90464053,"Huber Karoline"]
[90464054,"Nussbaumer Roswitha, BEd"]
[90464055,"Prünster Roland"]
[90464056,"Koinig-Wohofsky Gerda, BEd"]
[90464057,"Frohnwieser Sigrid"]
[90464058,"Frick Barbara"]
[90464059,"Zwischenberger Josef"]
[90464060,"Wandaller Barbara"]
[90464061,"Ogris Karoline, Mag."]
[90464062,"Lederer Christian"]
[90464063,"Grießer Kurt"]
[90464064,"Greßl Astrid, BEd"]
[90464065,"Praster Eva"]
[90464066,"Schnögl Karin"]
[90464067,"Peitler Sylvia"]
[90464068,"Pöllinger Christine"]
[90464069,"Adolf Harald, BEd"]
[90464070,"Wohlkinger Gerhard"]
[90464071,"Grimschitz Iris, BEd"]
[90464072,"Kohlweg Karin"]
[90464073,"Schwarzinger Cornelia"]
[90464074,"Oraze Eduard"]
[90464075,"Grimschitz Martha"]
[90464076,"Egger-Kort Kristin"]
[90464077,"Fülöp Elke"]
[90464078,"Schatzmayr Hannes"]
[90464079,"Fessl Ulrike"]
[90464080,"Domenig Wolfgang"]
[90464081,"Mayer Brunhild"]
[90464082,"Suprun Margret"]
[90464083,"Martl Bernhard"]
[90464084,"Feichter Christina"]
[90464085,"Theuermann Sabine"]
[90464086,"Globatschnik Petra"]
[90464087,"Müller Sara"]
[90464088,"Bergner Helga, MSc BEd"]
[90464089,"Platzner Claudia"]
[90464091,"Hübner Maria-Luise"]
[90464092,"Kavalirek Franziska"]
[90464093,"Hribernig Gerda, BEd"]
[90464094,"Prelog Katja"]
[90464095,"Friedrich Martina"]
[90464096,"Brandstätter Daniela, BEd"]
[90464097,"Vogel-Weneberger Melanie"]
[90464098,"Egger Hermann"]
[90464099,"Rautz Sonja"]
[90464100,"Tomaschitz Christiane, Mag."]
[90464101,"Schuschu Michaela, Mag."]
[90464102,"Hassler Veronika"]
[90464103,"Müller Martin, BEd"]
[90464104,"Drumbl Marion"]
[90464105,"Schaller Jutta"]
[90464106,"Steinkellner Kathrin, Mag."]
[90464107,"Kühnel Katharina"]
[90464108,"Jamnig Petra"]
[90464109,"Rubinig Christine"]
[90464110,"Mayrbrugger Gabriele"]
[90464111,"Ramsbacher Karl, Ing. BEd"]
[90464112,"Paulitsch Petra"]
[90464113,"Kuntner Michael"]
[90464114,"Langer Pia, Mag."]
[90464115,"Moser Michaela"]
[90464116,"Grilz Michaela, BEd"]
[90464117,"Otti Renate"]
[90464118,"Haberl Karin"]
[90464120,"Dumpelnik-Prasenc Dagmar"]
[90464121,"Kup-Duller Maria"]
[90464122,"Apounik Roswita"]
[90464123,"Stückler Brigitte"]
[90464124,"Micheu Edith, BA"]
[90464125,"Stückler-Deinsberger Angela"]
[90464126,"Aren Heidemarie"]
[90464127,"Zaminer Gabriele"]
[90464128,"Fercher Hannes"]
[90464129,"Schaflechner Gerfried"]
[90464130,"Wasner Ursula, BEd"]
[90464131,"Unterweger Daniela, BEd"]
[90464132,"Jöbstl Sigrid"]
[90464133,"Stempfer Daniela"]
[90464134,"Jandl Elisabeth, MA BA BEd"]
[90464136,"Tuppinger Heidi"]
[90464137,"Rosicky Ute"]
[90464139,"Oberrauner Gerhard"]
[90464140,"Mandler Monika"]
[90464141,"Duller Gerit"]
[90464143,"Pfeiler Manuela, Ing."]
[90464144,"Höberl Monika"]
[90464145,"Radl Martha"]
[90464146,"Wallensteiner Marion"]
[90464147,"Zoppoth Lydia"]
[90464149,"Lepuschitz Friedrich"]
[90464150,"Kristof-Skant Aurelia"]
[90464151,"Petutschnig Cornelia"]
[90464152,"Gfrerer-Unterlerchner Eva, BEd"]
[90464153,"Branz-Sallay Waltraud"]
[90464154,"Sorger Lotte, BEd"]
[90464155,"Dumpelnik Martin"]
[90464156,"Schaller Susanne"]
[90464157,"Wiegele Doris"]
[90464158,"Weigand Ingrid"]
[90464159,"Reitermayer Angelika"]
[90464160,"Moschitz Martin"]
[90464161,"Kuttnig Udo"]
[90464162,"Seifried Margarethe"]
[90464163,"Herzog Carmen"]
[90464164,"Bujar Erich"]
[90464165,"Nußbaumer Ingrid"]
[90464166,"Bachlechner Evelyn, BEd"]
[90464168,"Maierbrugger Doris, MA"]
[90464169,"Bleier Sonnhild, MMag. BEd"]
[90464170,"Kofler Daniela"]
[90464171,"Rainer Claudia, BEd"]
[90464172,"Pichler Eva Maria"]
[90464173,"Rohrer Edith"]
[90464174,"Ofner Simone"]
[90464175,"Gallob Patricia, Mag."]
[90464176,"Hotschnig Petra, BEd"]
[90464177,"Fruhwirth Doris"]
[90464178,"Mak Gerlinde"]
[90464179,"Jöbstl Ines, BEd"]
[90464180,"Unterlass Heimo"]
[90464181,"Granig Sigrid"]
[90464182,"Seidl Betina"]
[90464183,"Rabensteiner Monika, BEd"]
[90464184,"Malle Alexandra"]
[90464185,"Geiger Claudia"]
[90464186,"Buchacher Heidrun"]
[90464187,"Bermoser Claudia"]
[90464188,"Allmaier Manuela"]
[90464189,"Issak Elke, BEd"]
[90464190,"Rusch Anna"]
[90464191,"Maier Sandra"]
[90464192,"Marizzi Martin"]
[90464193,"Schlacher Elisabeth"]
[90464194,"Oberortner Oliver"]
[90464195,"Zwitter Simone"]
[90464196,"Strobl Heidrun"]
[90464197,"De Colle Elsbeth"]
[90464198,"Kerschbaumer Evelyn"]
[90464199,"Hoy Martin"]
[90464200,"Robin Johanna, BEd"]
[90464201,"Piuk Hannes"]
[90464202,"Strießnig Gerlinde"]
[90464203,"Fischer Andrea"]
[90464204,"Poms Gerlinde, Ing."]
[90464205,"Stromberger Ursula"]
[90464206,"Streicher Elisabeth"]
[90464207,"Angermann Andrea"]
[90464208,"Sickl Herlinde"]
[90464209,"Lanner Anton"]
[90464210,"Hulmak Karl"]
[90464211,"Rass Alfons, BEd"]
[90464212,"Graf-Karner Christiane"]
[90464213,"Moshammer Renate, Mag."]
[90464214,"Lackner Regina"]
[90464215,"Schuster-Nidetzky Susanne"]
[90464216,"Gailberger Marika"]
[90464217,"Schwarzl Barbara, Mag."]
[90464218,"Slemic Anja"]
[90464219,"Graf Maria, BEd"]
[90464220,"Kusej Barbara"]
[90464221,"Lamprecht Christa"]
[90464222,"Zerbst Christoph"]
[90464223,"Buse Isabella"]
[90464224,"Kenda Andrea"]
[90464225,"Offner-Koller Andrea, Mag."]
[90464226,"Müller Natalie, Mag."]
[90464227,"Koch Beate"]
[90464228,"Labetzsch Berit Anke, BEd"]
[90464229,"Wieser-Laußegger Andrea"]
[90464230,"Fellner Gerald, BEd"]
[90464232,"Legat-Moser Bettina, Ing."]
[90464233,"Pöllinger Birgit"]
[90464234,"Jonach Margret"]
[90464235,"Gaberle Elisabeth"]
[90464236,"Schaumberger Bettina, Ing."]
[90464237,"Hofstätter-Lackner Ingrid, BEd"]
[90464238,"Plattner Bernhard, BEd"]
[90464239,"Haberfellner Ines, BEd"]
[90464240,"Moser Gerhild"]
[90464241,"Steiner Maria"]
[90464242,"Egger Julia"]
[90464243,"Huber Stefanie"]
[90464244,"Greilberger Erika"]
[90464245,"Holzmann Brigitte"]
[90464246,"Bünker Martin, Ing."]
[90464247,"Stern Veronika"]
[90464248,"Kobald Birgit"]
[90464249,"Satz Renate"]
[90464250,"Zechner Monika, Ing."]
[90464253,"Zwitter Nikodemus"]
[90464254,"Waldner-Rami Stefanie"]
[90464255,"Oberhammer Claudia"]
[90464257,"Gärtner Sabine"]
[90464258,"Schmölzer Claudia"]
[90464259,"Pfatschbacher Birgit"]
[90464260,"Tschabuschnig-Lex Julia"]
[90464261,"Weber-Kuglitsch Barbara"]
[90464262,"Knapp Barbara"]
[90464263,"Albl Christina"]
[90464264,"Mochar Florian"]
[90464265,"Katz-Lipusch Edeltraud"]
[90464266,"Schlintl Marianne, BEd"]
[90464267,"Kleber Sonja, BEd"]
[90464268,"Katz Danilo"]
[90464269,"Hofer Angelika"]
[90464270,"Illing Michaela"]
[90464271,"Rainer Martina, BEd"]
[90464272,"Hofer Heidrun, BEd"]
[90464273,"Berchtold Angelika"]
[90464274,"Fritzer Harald, BEd"]
[90464275,"Radl Alexander"]
[90464276,"Schratter Gerald"]
[90464277,"Morak Sonja, Mag. BEd"]
[90464278,"Stockhammer Tina"]
[90464279,"Astner Sabine"]
[90464281,"Zedrosser Angelika"]
[90464282,"Wachernig Andrea, BEd"]
[90464283,"Malle Renate, BEd"]
[90464284,"Markitz Maria"]
[90464285,"Prawda Monika"]
[90464286,"Alija Anna"]
[90464287,"Petersen Monja"]
[90464288,"Wutte Karin"]
[90464289,"Wendl Beate, BEd"]
[90464290,"Hohenberger-Schneider Claudia, Mag."]
[90464291,"Bergmann-Umile Ingrid, DI"]
[90464292,"Piko Johannes, Ing."]
[90464293,"Stocker Michaela, BEd"]
[90464294,"Sacher Günther"]
[90464295,"Maningi Renate"]
[90464296,"Ranacher Katharina"]
[90464297,"Obernosterer Daniela"]
[90464298,"Krobath Johann"]
[90464299,"Krobath Maria"]
[90464300,"Daniel Claudia"]
[90464301,"Arbeitstein Tanja, BEd"]
[90464302,"Goriup Sandra"]
[90464303,"Fritz Daniela, Mag."]
[90464304,"Kraßnig Christine, BEd"]
[90464305,"Kuncic-Metschina Simona, Mag."]
[90464306,"Novak Christine"]
[90464307,"Lugger Siri"]
[90464308,"Urschitz Kerstin"]
[90464309,"Korotaj Veronika"]
[90464310,"Partl Thomas"]
[90464311,"Zöttl Konrad"]
[90464312,"Ebner Christine"]
[90464313,"Stefan Sabine"]
[90464314,"Schall Manuela"]
[90464315,"Kapus Andrea"]
[90464316,"Schall Heimo, Ing."]
[90464317,"Kuss-Bergner Angelika, BEd"]
[90464318,"Greß Sabine"]
[90464319,"Sajko Maya"]
[90464322,"Egger Eva"]
[90464323,"Petutschnig Ingrid"]
[90464324,"Lettner Hemma, MA BEd"]
[90464325,"Peternell Wolfgang, Ing."]
[90464326,"Holzer Daniela"]
[90464327,"Rechberger Carmen, BEd"]
[90464328,"Köferle Angelika"]
[90464329,"Tazoll Christa"]
[90464330,"Sandtner Daniela"]
[90464331,"Stocker Harald, BEd"]
[90464332,"Mayer Ingo, BEd"]
[90464333,"Sonntag Markus, Ing."]
[90464334,"Bayer Renate, BEd"]
[90464335,"Wintersteiger Johann, MA BEd"]
[90464336,"Weikert Gerhard, BEd"]
[90464337,"Gruber Kathrin"]
[90464338,"Kraxner Reinfried"]
[90464339,"Bartlmä Elke"]
[90464340,"Sturm-Schönsleben Diana, BEd"]
[90464341,"Rindler Brigitte"]
[90464342,"Dundacek Gudrun"]
[90464343,"Winkler Jennifer"]
[90464344,"Thaler Christian"]
[90464345,"Kozelsky Brigitte"]
[90464346,"Zankl Michael"]
[90464347,"Lastin Johann, Ing."]
[90464348,"Zalka Alexandra, Mag. Dr."]
[90464349,"Trampitsch Manuela"]
[90464350,"Mirnig Sylvia"]
[90464351,"Gaber Sabine"]
[90464352,"Rainer Elisabeth"]
[90464353,"Czell Martin"]
[90464354,"Grilz Barbara, Mag."]
[90464355,"Wohinz Daniel, BEd"]
[90464356,"Padinger Stefan"]
[90464357,"Khreisheh Abdullah, BSc"]
[90464358,"Koller Annette, BEd"]
[90464359,"Pirker Johann, Dipl.-HLFL-Ing."]
[90464360,"Urbanek Andreas"]
[90464361,"Raß Thomas, Ing."]
[90464362,"Lackner Franz"]
[90464364,"Spendier Gernot, Ing."]
[90464365,"Zwatz Wolfgang, Mag."]
[90464366,"Gadner Harald"]
[90464367,"Gallo Rudolf, Mag."]
[90464368,"Elsbacher Werner, Ing."]
[90464369,"Lackner Friedrich"]
[90464370,"Aichholzer Norbert"]
[90464371,"Waditzer Andrea"]
[90464372,"Ertler Doris, BEd"]
[90464373,"Lax-Peitler Anja"]
[90464374,"Spitzer Bettina"]
[90464375,"Wagner Heidemarie"]
[90464376,"Radovanov Ljubomir"]
[90464377,"Kleinegger Cornelia, Mag."]
[90464378,"Kordesch Gernot"]
[90464380,"Ressmann Ilka"]
[90464382,"Gabriel Andrea"]
[90464383,"Sadjak Simon"]
[90464384,"Petjak-Lach Sonja, Mag."]
[90464385,"Pack Josef"]
[90464386,"Smid Marijan"]
[90464387,"Maurel Sonja"]
[90464388,"Iskra-Hrobath Natasa"]
[90464389,"Lanzner Irina"]
[90464391,"Gesierich Eva-Maria"]
[90464392,"Amon-Dreer Karoline"]
[90464393,"Fabian Beate"]
[90464394,"Boben Sabine"]
[90464395,"Staats Johannes, DI"]
[90464396,"Kogler Anita"]
[90464397,"Lanzinger Birgit"]
[90464398,"Riebenbauer-Pleschberger Eva, MA"]
[90464399,"Maier Andreas, Ing."]
[90464400,"Wutte Heimo, Mag."]
[90464401,"Krainer Veronika, Mag."]
[90464402,"Frohner Natascha"]
[90464403,"Reinisch Elisabeth"]
[90464404,"Galo Iris"]
[90464405,"Kaplan Jutta"]
[90464406,"Lichem-Löwenburg Jutta"]
[90464407,"Steiner Yvonne"]
[90464408,"Kanzian Andrea, Mag."]
[90464409,"Illing Ulf"]
[90464411,"Stattmann Petra"]
[90464412,"Sacher Reinhard, BEd"]
[90464413,"Oraze Natascha"]
[90464414,"Polak Daniela, Mag."]
[90464415,"Nakent Dieter, Ing. BEd"]
[90464416,"Winkler-Warl Anita"]
[90464417,"Jocham Dieter"]
[90464418,"Kucher Katja"]
[90464419,"Matschnig Sabine, BEd"]
[90464420,"Halilovic Sevala"]
[90464421,"Lassnig Monika"]
[90464422,"Maly Peter"]
[90464423,"Stark Sonja, MMMag. Dr."]
[90464424,"Grün Claudia"]
[90464425,"Nußbaumer Gernot"]
[90464426,"Petrik Tamara"]
[90464427,"Springer Ines, BEd"]
[90464428,"Gabric Mario"]
[90464429,"Seebacher-Hofer Sigrid"]
[90464430,"Rothleitner Silvia"]
[90464431,"Manolas Doris"]
[90464432,"Ramsbacher Ines, BEd"]
[90464433,"Kapeller Barbara, Mag. BEd"]
[90464434,"Rauter Andreas, DI BEd"]
[90464435,"Torta Silvia"]
[90464436,"Joun Patricia, Mag. BEd"]
[90464437,"Janusch Kristina"]
[90464438,"Rasras Mustafa"]
[90464439,"Pichler Silvia"]
[90464440,"Domenig Ines, BEd"]
[90464441,"Spendier Jutta, Ing."]
[90464442,"Meschnark Karl, Ing."]
[90464443,"Lackner Jana, Mag."]
[90464444,"Mauthner Melanie"]
[90464445,"Rischner Stefan"]
[90464446,"Untersteiner Evelin, MA BEd"]
[90464447,"Hausott Tanja"]
[90464448,"Rüegg Karin Michaela"]
[90464449,"Schatte Eva"]
[90464450,"Winkler Reinhold"]
[90464451,"Stocker Roland"]
[90464453,"Kriener Daniela, BEd"]
[90464454,"Anderwald Roland, Mag."]
[90464455,"Isopp Karin, BEd"]
[90464456,"Brenter Alexandra"]
[90464457,"Timmerer Sigrid, Mag."]
[90464458,"Hölbling Thomas"]
[90464459,"Dorner Claudia"]
[90464460,"Schratter Birgit"]
[90464461,"Dreschl Nina"]
[90464462,"Spiegel Larissa, Mag."]
[90464463,"Steiner Martina"]
[90464464,"Mosser Birgit, BEd"]
[90464465,"Klampferer Johann"]
[90464466,"Flajs Michael, BEd"]
[90464467,"Kogler Erich"]
[90464468,"Walder Astrid"]
[90464469,"Schwarzenbacher Ilona"]
[90464470,"Pichler-Stachl Maria"]
[90464471,"Fellner Sylvia"]
[90464472,"Seiß Iris"]
[90464473,"Unterguggenberger Nikolaus"]
[90464474,"Janosch Sabine"]
[90464475,"Fabian Christa"]
[90464476,"Lopar-Wernig Silke"]
[90464477,"Drabosenig Sabine"]
[90464478,"Tröthan Angelika"]
[90464479,"Klocker Monika"]
[90464481,"Suppersberger Sabine"]
[90464482,"Oberdorfer Sonja"]
[90464483,"Sturm Ortrun"]
[90464484,"Lesjak Stefan, BEd"]
[90464485,"Kosutnik Daniel"]
[90464486,"Zakrajsek Barbara"]
[90464487,"Sitter Georg, DI BEd BSc"]
[90464488,"Raupl Herbert, BEd"]
[90464489,"Gruber Silvia"]
[90464490,"Benedikt Hannes, BEd"]
[90464491,"Trojer Tanja"]
[90464492,"Egger Susanne"]
[90464493,"Brandstätter Herbert, BEd"]
[90464494,"Padinger Sonja"]
[90464495,"Bacher Barbara"]
[90464496,"Marktl Linda"]
[90464497,"Quinesser Birgit"]
[90464498,"Jauernegger Sibylle"]
[90464499,"Prisslan Herbert, Mag."]
[90464500,"Bacher Ida, MMag."]
[90464501,"Lex Bernt"]
[90464502,"Matheuschitz Hermine, Ing."]
[90464503,"Schmid Jürgen"]
[90464504,"Krenn-Salbrechter Alexandra, Mag."]
[90464505,"Themeßl-Huber Gerda"]
[90464507,"Atanovic Hasudin, Mag."]
[90464508,"Möderndorfer Astrid"]
[90464510,"Skorianz Harald, Mag."]
[90464511,"Wohlgemuth Wilfried, Ing. BEd"]
[90464512,"Schwarz Ingrid"]
[90464513,"Geiling Michael"]
[90464514,"Grassler Marion"]
[90464515,"Drumbl Johanna"]
[90464516,"Pacher-Hrast Sonja"]
[90464517,"Seiser Karina"]
[90464519,"Truskaller Isabell"]
[90464520,"Klaus-Siencnik Barbara Michaela"]
[90464521,"Kristöfl Andrea"]
[90464522,"Ahm Daniela, BEd"]
[90464523,"Vauti Gerhard, Mag."]
[90464524,"Harisch Monika, MA MA BEd"]
[90464525,"Puganigg Christine, Mag."]
[90464526,"Sandrieser Sabine"]
[90464527,"Martinz Silvia, MA BEd"]
[90464528,"Media Birgit, MA BEd"]
[90464529,"Lanzer Bettina"]
[90464530,"Adinger Andrea"]
[90464531,"Mörtl Ingrid"]
[90464532,"Guggenberger Ludwig"]
[90464533,"Murko Michaela"]
[90464534,"Wohlbang Bernhard"]
[90464535,"Kordesch Silke"]
[90464536,"Zikulnig Katja, Mag."]
[90464537,"Zeppitz Christine"]
[90464538,"Haimburger Norbert, BEd"]
[90464539,"Gamsler Jasmine, BEd"]
[90464540,"Habernig Karin"]
[90464541,"Triebnig Elmar"]
[90464542,"Dolzer-Schöffmann Iris, BEd"]
[90464543,"Possegger Jasmin"]
[90464544,"Topelzer Robert, Mag."]
[90464545,"Hofer Sandra, BEd"]
[90464546,"Payer Johann, Ing."]
[90464547,"Brunner Herbert, Ing."]
[90464548,"Stuck Silvia"]
[90464549,"Ladinig Martin, Ing."]
[90464551,"Bacher Elisabeth, Ing."]
[90464552,"Pucher Irmgard, Ing."]
[90464553,"Verdino Elisabeth, Mag."]
[90464554,"Scheiflinger Andrea"]
[90464555,"Kovatsch Günter, Mag."]
[90464556,"Bäck Birgit"]
[90464557,"Steflitsch Evelyn, BEd"]
[90464558,"Lichtenegger Ulrike, Mag."]
[90464559,"Raunegger Andrea"]
[90464560,"Daniel Vida"]
[90464561,"Wunder Claudia, Mag."]
[90464562,"Schein-Kontschitsch Paula, Mag."]
[90464563,"Herbst Daniela, BA"]
[90464564,"Lexer Uwe, Ing. BEd"]
[90464565,"Gasser Karin"]
[90464566,"Rainer Verena, BEd"]
[90464568,"Felsinger-Hrovath Claudia"]
[90464569,"Rainer Alfred"]
[90464572,"Breiteneder Herwig, BEd"]
[90464573,"Tuma Birgit, BEd"]
[90464574,"Hopfgartner Günther, Ing."]
[90464576,"Urbanz Franz, BEd"]
[90464577,"Kröpfl Siegfried, Ing."]
[90464578,"Pertl Nina"]
[90464579,"Türmer Michael, Ing."]
[90464580,"Himmelbauer Waltraud, Ing."]
[90464581,"Percuzzi Chiara, Mag."]
[90464582,"Kämmerer Johann"]
[90464583,"Scheriau Andrea"]
[90464584,"Pichler German, Ing. BEd"]
[90464585,"Altersberger Alfred"]
[90464586,"Gärtner Adelheid, Mag."]
[90464587,"Hafner Christina"]
[90464588,"Seebacher-Prett Simone"]
[90464589,"Kulnig-Oprießnig Alexandra"]
[90464590,"Engler Barbara"]
[90464591,"Vavti Niko"]
[90464592,"Furjan Renate"]
[90464593,"Dabringer Alberta"]
[90464594,"Zügner Petra"]
[90464596,"Glanznig Silvia"]
[90464597,"Wieltschnig Silvia"]
[90464598,"Lipus-Gregoric Alexandra"]
[90464599,"Quendler Gabriele, Mag."]
[90464600,"Samonigg Christine"]
[90464601,"Krische Sabine"]
[90464602,"Schojer Simone, BEd"]
[90464603,"Mlinar Walpurga"]
[90464604,"Mayer-Pernat Alexandra"]
[90464605,"Laßnig Maria"]
[90464606,"Wilhelmer Michael"]
[90464607,"Walcher Petra, BEd"]
[90464608,"Sommer Karl, Mag."]
[90464609,"Kollienz Isabella, BEd"]
[90464610,"Berthold Gudrun"]
[90464611,"Kranabether Helga, BEd"]
[90464612,"Moser Tanja, BEd"]
[90464613,"Steindorfer Heinz, BEd"]
[90464614,"Kienbacher Ines, BEd"]
[90464615,"Radeschnig Petra"]
[90464616,"Himmelbauer Bernadette"]
[90464617,"Bermoser Herbert"]
[90464618,"Olsacher Mario, Ing. BEd"]
[90464619,"Winkler Eckhard"]
[90464620,"Steinwender Barbara, MA BEd"]
[90464621,"Srienz Petra"]
[90464622,"Fugger-Volpe Bernadette, BEd"]
[90464623,"Rasinger Andrea, Mag."]
[90464624,"Kropp Angelika, BEd"]
[90464625,"Olip Sonja"]
[90464626,"Illgoutz Ingrid, BEd"]
[90464627,"Fellner Sigrun, MMag.Dr."]
[90464628,"Mitsche Viktoria, BEd"]
[90464629,"Kontschitsch Rudolf, BEd"]
[90464630,"Micheuz Anna"]
[90464631,"Kreuzer Karin"]
[90464632,"Eberhard Heidemarie"]
[90464633,"Polzer Martina, BEd"]
[90464635,"Kogler Erika"]
[90464636,"Kraiger Hubert"]
[90464637,"Esterl-Puaschunder Sieglinde, Mag. BEd"]
[90464638,"Kropfberger Eva"]
[90464639,"Wornig Monika, Mag. BEd"]
[90464640,"Memic Senada"]
[90464641,"Fera Katja Maria, BEd"]
[90464642,"Wilhelmer-Thaler Natascha"]
[90464643,"Walder Beatrix, BEd"]
[90464644,"Kulle Judith, BEd"]
[90464645,"Erlenkamp Kerstin"]
[90464646,"Sand-Penz Silvia, BEd"]
[90464647,"Roth Andrea"]
[90464648,"Sertschnigg Andrea"]
[90464649,"Gamberger Harald, Ing. BEd"]
[90464650,"Gundolf Martin"]
[90464651,"Hauser Franz, Ing."]
[90464652,"Kriegl-Pernjak Marianne, BEd"]
[90464653,"Rainer Ulrike, BEd"]
[90464654,"Schöller Michaela, BEd"]
[90464655,"Kordesch Markus, BEd"]
[90464656,"Glockner Maria, BEd"]
[90464657,"Nuck Irina"]
[90464658,"Woschitz Sonja"]
[90464659,"Woschitz Igor"]
[90464660,"Rabitsch Elke"]
[90464661,"Selecov Alexander, Ing. BEd BEd"]
[90464662,"Steiner Michaela, BEd"]
[90464663,"Schönherr Brigitte, MA BEd"]
[90464664,"Weinberger Andrea, BEd"]
[90464665,"Kristof Marijan"]
[90464666,"Sima Thomas"]
[90464667,"Kosutnik-Striedner Esther, BEd BA MA"]
[90464668,"Rabitsch-Plesnik Christine"]
[90464669,"Gratzer Rene, BA BEd"]
[90464670,"Resch Elisabeth"]
[90464671,"Prein Beate, Mag. BEd"]
[90464672,"Winkler Anja"]
[90464673,"Schramm Sonja"]
[90464674,"Thurner Klaus"]
[90464675,"Weinzerl Margit"]
[90464676,"Onic Jolanda"]
[90464677,"Behringer Oliver"]
[90464679,"Romauch Michaela"]
[90464680,"Hauptmann Myrianna"]
[90464681,"Hamböck Astrid, BEd"]
[90464682,"Brabec Roman, BEd"]
[90464684,"Oschep Ferdinand, BEd"]
[90464685,"Steiner Sabine"]
[90464686,"Hörmanseder-Krenn Kristina, MMag."]
[90464687,"Hausegger Barbara"]
[90464688,"Dullnigg Claudia"]
[90464689,"Jessenig Jürgen, Mag. BEd"]
[90464691,"Koschik-Kuntner Susanne"]
[90464692,"Jakab Manuela"]
[90464693,"Strießnig Ingrid, MMag.Dr. BEd"]
[90464694,"Kurtovic Monika"]
[90464695,"Fojan Hannes"]
[90464696,"Mößler-Möderndorfer Doris"]
[90464697,"Joham Michael, Mag."]
[90464698,"Kandler Martina, BEd"]
[90464699,"Wutte Mirjam"]
[90464700,"Rauchenberger Andreas, BEd BEd"]
[90464701,"Sekerka Sonja, BEd"]
[90464702,"Scheucher Mirjam, Mag. BEd"]
[90464703,"Scherzer Thomas, BEd"]
[90464704,"Bermoser-Wolligger Andrea, Ing. BEd"]
[90464705,"Sauritschnig Stefan, BEd"]
[90464706,"Gamisch-Karner Sigrid"]
[90464707,"Oberlassnig Michaela"]
[90464708,"Leopold Waltraud, Mag. MA BEd"]
[90464709,"Reiterer Sylvia"]
[90464710,"Felsberger Renate"]
[90464711,"Valent Andrea"]
[90464712,"Strauss Claudia"]
[90464713,"Zidej Magda, BA BEd"]
[90464714,"Wakounig Nadja, BEd"]
[90464716,"Presser Heimo"]
[90464717,"Kontschitsch Elisabeth, BEd"]
[90464718,"Ogris Silvia"]
[90464720,"Kölblinger Isolde, Mag. BEd"]
[90464721,"Gasser Reinhild, BEd"]
[90464722,"Bergner Gebhard"]
[90464723,"Pickl Michael, DI(FH)"]
[90464724,"Steger Ingo"]
[90464725,"Strießnig Othmar"]
[90464726,"Wulz Nicole, BEd"]
[90464727,"Wallfisch Peter, BEd"]
[90464728,"Ruß Martin, Ing. BEd"]
[90464729,"Pirker Günther, Ing."]
[90464731,"Kulmitzer David"]
[90464732,"Dohr Christian, Mag."]
[90464733,"Ragossnig Christian, Mag. BEd"]
[90464734,"Steiner Alexander"]
[90464735,"Haberl Gerd, MA"]
[90464736,"Blazej Valentin, BEd"]
[90464737,"Meyer Tanja, BEd"]
[90464738,"Rubländer Daniela, Dr."]
[90464739,"Kosjek Sandra, BEd"]
[90464740,"Lesjak Christian, BEd"]
[90464741,"Kaschnig Elisabeth"]
[90464742,"Zlimnig Franz"]
[90464743,"Regittnig Elisabeth"]
[90464744,"Rieger Evelin, MA BEd"]
[90464745,"Missoni Franz, DI"]
[90464746,"El Moharki Balamon"]
[90464747,"Bucher Nadine, BEd"]
[90464748,"Egger Alfons, BEd"]
[90464749,"Regenfelder Winfried, BEd"]
[90464750,"Pötscher Marlies, Dipl.-Päd."]
[90464752,"Kohlmaier Birgit"]
[90464753,"Brunner Alexandra, Ing."]
[90464754,"Ebner Monika, Ing."]
[90464755,"Oraze Barbara"]
[90464756,"Wutte Bojana"]
[90464757,"Feldner Miriam"]
[90464759,"Glabischnig Hannes"]
[90464760,"Urbanek Barbara, BEd"]
[90464761,"Miklautsch Barbara, Bakk. BEd"]
[90464762,"Krapesch Marianne, Mag."]
[90464763,"Rukavina Josef, BEd"]
[90464764,"Kogler Joachim, BEd"]
[90464765,"Faller Bernhard, Ing."]
[90464766,"Erlacher Herbert, Ing. BEd"]
[90464767,"Stocker Josef, BEd"]
[90464768,"Augustin Elmar, Mag."]
[90464769,"Jammerbund Claudia, Mag. BEd"]
[90464770,"Gradnitzer Alexandra"]
[90464771,"Kolm Karin, BA BEd"]
[90464772,"Schellander Martina"]
[90464773,"Christof-Köchl Sonja"]
[90464774,"Leschanz Brigitte, BEd"]
[90464775,"Supanz Petra"]
[90464776,"Ortner Siegfried"]
[90464777,"Lugger Christina"]
[90464778,"Zebedin Elisabeth, Mag."]
[90464779,"Fradler Sandra, Ing."]
[90464780,"Bucher Manuela"]
[90464781,"Olivotto Christine, BEd"]
[90464782,"Stimpfl Rainer, BEd"]
[90464783,"Pirzl Christoph, BEd"]
[90464784,"Weinberger Siegfried, BEd"]
[90464785,"Mosinz Andreas, Ing. BEd"]
[90464786,"Mak Robert, BEd"]
[90464787,"Sattlegger Dieter, Ing. BEd"]
[90464788,"Gruber Mario, Ing. BEd"]
[90464789,"Schöffmann Erwin, Ing. BEd"]
[90464790,"Buchacher Martin, BEd"]
[90464791,"Jandl Johann, BEd"]
[90464792,"Spenger Vanessa, Mag. BEd"]
[90464793,"Buchhart Josef, Mag."]
[90464794,"Kanzian Markus, Ing. MA BEd"]
[90464795,"Wrulich Josef, Ing. BEd"]
[90464796,"Fritz Ulrike"]
[90464797,"Tschachler Janja"]
[90464798,"Wuttej Jasmina"]
[90464799,"Worku-Zirgoi Kerstin, BEd"]
[90464800,"Kap Sonja"]
[90464801,"Marx Günther, Mag.(FH) BEd"]
[90464802,"Rothleitner Kerstin"]
[90464803,"Rupp Elisabeth"]
[90464804,"Schönfelder Sigrid"]
[90464805,"Drobesch Michaela"]
[90464806,"Redhammer Margit"]
[90464807,"Überbacher Alexandra"]
[90464808,"Buchleitner Harald, BEd"]
[90464809,"Lodrant Angelika, BEd"]
[90464810,"Winkler Katharina, Mag.(FH) BEd"]
[90464811,"Breschan Isabella"]
[90464812,"Trodt Tatjana, BEd"]
[90464813,"Wurzer Roland, DI"]
[90464814,"Dornan Elfriede, Ing."]
[90464815,"Weissnegger Nicole, Ing."]
[90464816,"Uitz Martin, Ing."]
[90464817,"Janz Thomas, BEd"]
[90464818,"Göschl Ewald, Ing.Mag. BEd"]
[90464819,"Wettl Markus, Ing. BEd"]
[90464820,"Gutmorgeth Silvana, BEd"]
[90464821,"Kletz Martina, BEd"]
[90464822,"Dullnig Erich, BEd"]
[90464823,"Gasser Peter Ägidius, Ing. BEd"]
[90464824,"Zojer Stefan, Ing. BEd"]
[90464825,"Sandrisser Gunnar, Mag.(FH) BEd"]
[90464826,"Kassl Michael"]
[90464827,"Schellander Claudia, BEd"]
[90464828,"Sematon Ingrid, Mag."]
[90464829,"Olip Monika"]
[90464830,"Wüster Tim, Mag. BEd"]
[90464831,"Merwa-Igerc Andrea"]
[90464832,"Kanduth Marijana, MA"]
[90464833,"Juch-Karajica Ljubica, Mag."]
[90464834,"Nußbaumer Lydia"]
[90464835,"Jölli Eveline"]
[90464836,"Eichholzer Doris"]
[90464837,"Sternik Klaus, Mag. BEd"]
[90464838,"Koffler Martin Walter, BEd"]
[90464839,"Rossmann Klaudia, Mag. BEd"]
[90464840,"Stark Markus, Ing. BEd"]
[90464841,"Zaminer Julia, Mag. BEd"]
[90464842,"Himmelbauer Wilhelm"]
[90464843,"Lippnig Thomas, BEd"]
[90464844,"Branz Herbert, BEd"]
[90464845,"Kogelnig Claudia, BEd"]
[90464846,"Tengg Ingeborg"]
[90464847,"Maurer Matthias, BEd"]
[90464848,"Kupper Gabrijela"]
[90464849,"Krenn Gerhard"]
[90464850,"Tuma Bernhard, Ing. BEd"]
[90464851,"Jandl Dunja, BEd"]
[90464852,"Zleptnig Hugo, Ing. BEd"]
[90464853,"Ebner Siegfried, Mag. BEd"]
[90464854,"Hatberger Iris, MSc BEd"]
[90464855,"Zauchner Silvio, Mag. BEd"]
[90464856,"Schretter Martin, DI(FH) BEd"]
[90464857,"Gritschacher Kerstin, BEd"]
[90464858,"Zerza Wolfgang, DI(FH) BA BEd"]
[90464859,"Schöller Wolfgang, Ing. BEd"]
[90464860,"Petritsch Rudolf, BEd"]
[90464861,"Birnbaumer Helmut, DI(FH) MA BEd"]
[90464862,"Niederbichler Brigitte, Mag. BEd"]
[90464863,"Loibnegger Christian, BEd"]
[90464864,"Sattler Walter, DI(FH) BEd MEd"]
[90464865,"Smole Markus, BEd"]
[90464866,"Pichler Albert, BEd"]
[90464867,"Konrad Manfred, Ing. BEd"]
[90464868,"Mörtl Christof"]
[90464869,"Steiner Wolfgang, BEd"]
[90464870,"Ertl Christina"]
[90464871,"Freunschlag-Kronawetter Lisa"]
[90464872,"Krebs Norbert, BEd"]
[90464873,"Werkl Michaela, BEd"]
[90464874,"Miklautsch Silke"]
[90464875,"Zenz Monika"]
[90464876,"Florio Vita, Mag."]
[90464877,"Guggenberger Gerd, BEd"]
[90464878,"Pichler Katja, MA BEd"]
[90464879,"Gratzer-Bujar Marion, BEd"]
[90464880,"Schuschnig Karin"]
[90464881,"Hansche Cornelia, BEd"]
[90464882,"Kraßnig Josefine"]
[90464883,"Stefanschitz Christina"]
[90464884,"Kraßnitzer Andrea"]
[90464885,"Papst-Huber Verena, BEd"]
[90464886,"Dörfler Bettina"]
[90464887,"Eberhardt Claudia, BEd"]
[90464888,"Höfferer Stefan, Ing."]
[90464889,"Hetzl Markus, BEd"]
[90464890,"Koboltschnig Reingard"]
[90464891,"Hillebold Gerit"]
[90464892,"Toff Barbara"]
[90464893,"Jaidhauser Helga"]
[90464894,"Zleptnig-Illgoutz Doris, Mag. BEd"]
[90464895,"Quendler Evelyn, BEd"]
[90464896,"Pongratz Christian, BEd"]
[90464897,"Merl Andrea, BEd"]
[90464898,"Rebernig-Klemen Daniela, Mag.(FH) BEd"]
[90464899,"Schlee Christian, BEd"]
[90464900,"Madrutter Alfred, Ing. BEd"]
[90464901,"Greilberger Heinrich, BEd"]
[90464902,"Ferk Christian, BEd"]
[90464903,"Hattenberger Karl, Ing. BEd"]
[90464904,"Gutschi-Kogler Werner, BEd"]
[90464905,"Gelbmann Eva"]
[90464906,"Nocker Silvia, BEd"]
[90464907,"Hojnik Danny"]
[90464908,"Karner Stefanie"]
[90464909,"Schwab Karin"]
[90464910,"Hopfgartner Alfred"]
[90464911,"Wulz Gebhard, BEd"]
[90464912,"Karitnig Alexandra"]
[90464913,"Lerchbaumer Caroline"]
[90464914,"Hanschitz Andrea"]
[90464915,"Holzmann Bettina Elisabeth"]
[90464916,"Anzelak Pamela"]
[90464917,"Horn Silvana"]
[90464918,"Unterwalcher Margit"]
[90464919,"Candussi Gudrun, BEd"]
[90464920,"Urban Silvia, Mag."]
[90464921,"Frießnegger Stefan, BEd"]
[90464922,"Lengfellner Sonja, BEd"]
[90464923,"Mandl Stephanie"]
[90464924,"Cabon Marie-Laure"]
[90464925,"Fanzott Eveline, BEd"]
[90464926,"Isak Daniela"]
[90464927,"Gellan-Magerle Sabine"]
[90464928,"Smetana Oskar, BEd"]
[90464929,"Oberlercher Ralf"]
[90464930,"Zmölnig Florian, MA"]
[90464931,"Poglitsch Susanne"]
[90464932,"Buxbaum Daniela, BEd"]
[90464933,"Grechenig Josefine"]
[90464935,"Pikalo-Dobnig Christiane"]
[90464936,"Kelih Matjaz, BEd"]
[90464937,"Druml Markus, BEd"]
[90464938,"Pukl Anja, BEd"]
[90464939,"Treffner Petra, BEd"]
[90464940,"Pitschek Julia, BEd"]
[90464941,"Freudenberger-Luschnik Ursula"]
[90464942,"Wurzer Stefan, BEd"]
[90464943,"Kraßnitzer Ingrid, BEd"]
[90464944,"Leikauf Gabriele, BEd"]
[90464945,"Niegelhell Karin"]
[90464946,"Wutscher Michaela, BEd"]
[90464947,"Wuttej Helena, BEd"]
[90464948,"Petutschnig Marion"]
[90464949,"Kapeller Gerd"]
[90464950,"Diamante-Thelesklav Sigrid, Mag. BEd"]
[90464951,"Fruhstorfer Othmar, BEd"]
[90464952,"Weitensfelder Martin, BEd"]
[90464953,"Pernthoner Ingrid, BEd"]
[90464954,"Weratschnig Elke, BEd"]
[90464955,"Schury Angelika, BEd"]
[90464956,"Maier Thomas, Mag."]
[90464957,"Stocker Brigitte, BEd"]
[90464958,"Mayer Rudolf, BEd"]
[90464959,"Baumgartner Andreas, BEd"]
[90464960,"Zernig Petra, Mag. BEd"]
[90464961,"Ellinger Thomas, BEd"]
[90464962,"Juch Iris, BEd"]
[90464963,"Krall Andreas, BEd"]
[90464964,"Rednak Karl Hannes, BEd"]
[90464965,"Weinberger Erich, BEd"]
[90464966,"Ambrosch Veronika, Mag."]
[90464968,"Philipp Elisabeth, BEd"]
[90464969,"Kraxner Christina"]
[90464970,"Krajger Simona, BEd"]
[90464971,"Kravanja Alexandra"]
[90464972,"Waltritsch Martin, BEd"]
[90464973,"Hudl-Podgornik Karin"]
[90464974,"Hobel Ina, BEd"]
[90464975,"Skorjanz Armin, BEd"]
[90464976,"Schellander Stefan, BEd"]
[90464977,"Widitsch-Brandner Gaby, BEd"]
[90464978,"Plattner Christian, Ing. BEd"]
[90464979,"Rauscher Christian, BEd"]
[90464980,"Feinig Karin, MA BEd"]
[90464981,"Wobak Siegfried, BEd"]
[90464982,"Andres Oliver Marco Johann, MSc BEd"]
[90464983,"Daxkobler Thomas"]
[90464984,"Johannsen Heike, BEd"]
[90464985,"Golob-Schatzmayr Astrid, BEd"]
[90464986,"Neuwersch-Deutschmann Manuela, DI"]
[90464987,"Almas Eszter"]
[90464988,"Antonitsch Robert"]
[90464989,"Bissinger Stefan, BEd"]
[90464991,"Forobosko Gabrielle"]
[90464992,"Heiser Ilse, BEd"]
[90464993,"Heissenberger Manfred, BEd"]
[90464994,"Juan Joachim, Mag."]
[90464996,"Komar Martina, BEd"]
[90464997,"Maieritsch Oliver, Mag. BEd"]
[90464998,"Weiß Martin, BEd"]
[90464999,"Moder Angelika"]
[90465000,"Nachtigall Michael"]
[90465001,"Springer Stefan, BEd"]
[90465002,"Wister Leopold, Ing. BEd"]
[90465003,"Bierbaumer Gernot, BA BEd MSc"]
[90465004,"Kriegl Marcus, Ing.DI(FH) BEd"]
[90465005,"Tinkhauser Petra, MA MSc BSc"]
[90465006,"Wohlbang Silvia"]
[90465007,"Wrolich Verena, MA BEd"]
[90465008,"Pichorner Yvonne, BEd"]
[90465009,"Eder Felix, BEd"]
[90465010,"Riegler Silvia, BEd"]
[90465011,"Pasterk Anna, BEd BEd"]
[90465012,"Haberl Manuela, BEd"]
[90465013,"Paintner Birgit, BEd"]
[90465014,"Kullnig Barbara, MA BEd"]
[90465015,"Krainer Markus, MSc BEd"]
[90465016,"Heger Helmut, BEd"]
[90465017,"Obersteiner Marleen, BEd"]
[90465018,"Prugger Christian"]
[90465019,"Theuermann Valentin"]
[90465020,"Tüchler Rebecca, BEd"]
[90465021,"Ranacher Robert, BEd"]
[90465022,"Pugganig Angela, BEd"]
[90465023,"Haid Daniel, BEd"]
[90465024,"Unterhohenwarter Hannes, BEd"]
[90465025,"Kelderer Christine"]
[90465026,"Igerc Tamara, BEd"]
[90465027,"Aliti-Puggl Christine"]
[90465028,"Bozic Sabrina, BEd"]
[90465029,"Brunner-Wappis Elisabeth, BEd"]
[90465030,"Prisker Marlen, BEd"]
[90465031,"Sokoll Denise, BEd"]
[90465032,"Strauß Claudia, BEd"]
[90465033,"Kokosar Teja"]
[90465034,"Grutschnig Katrin, BEd"]
[90465035,"Karpf-Koschutnig Stefan, BEd"]
[90465036,"Kurteu Christina, BEd"]
[90465037,"Leeb Oliver, BEd"]
[90465038,"Mörtl Eva, MA"]
[90465039,"Marktl Jutta, BEd"]
[90465040,"Mitterer Christine, BEd"]
[90465041,"Eder Daniela, BEd"]
[90465042,"Kanzian Franziska, BEd"]
[90465043,"Rheeder Maria, Mag."]
[90465044,"Rieder Simone"]
[90465045,"Riegler Rita"]
[90465046,"Roblek Roman, Mag. BEd"]
[90465047,"Slunka Martin"]
[90465048,"Spatzier Verena, BEd"]
[90465050,"Wiltsche Barbara"]
[90465051,"Wernig Christian"]
[90465053,"Krammer Bianca"]
[90465054,"Felver Stefanie, BEd"]
[90465055,"Kamnig Claudia"]
[90465056,"Einöder Andrea, BEd"]
[90465057,"Goltschnig Klaus, BEd"]
[90465058,"Napetschnig Doris"]
[90465059,"Aigner Martin, BEd"]
[90465060,"Eigner Carina"]
[90465061,"Kafka-Dareb Davina"]
[90465062,"Gräfischer Julia, BEd"]
[90465063,"Woger-Sorger Sandra, BEd"]
[90465064,"Kahr-Rieger Sandra, BEd"]
[90465065,"Krall Verena, BEd"]
[90465066,"Süßenbacher Peter, BEd"]
[90465067,"Huber Hannes, Ing. BEd"]
[90465068,"Duller Georg, Ing. BEd"]
[90465069,"Geier Astrid"]
[90465070,"Pichorner Jürgen, BEd"]
[90465071,"Ullreich Stefan, Mag. BEd"]
[90465072,"Koller Hannes"]
[90465073,"Jernej Stefan, Ing. MEd"]
[90465074,"Enzi Martin, BEd"]
[90465075,"Krapesch Roswitha, BEd"]
[90465076,"Feodorow Johann, Mag. BEd"]
[90465077,"Jantscher Diana, BEd"]
[90465078,"Assek Christina, BA BEd"]
[90465080,"Wallner Michaela"]
[90465081,"Oberlojer Miriam, BEd BEd"]
[90465082,"Ebenberger Claudia, BEd"]
[90465083,"Hotter Sigrid"]
[90465084,"Kogler Alexander, BEd"]
[90465085,"Meixner Caroline"]
[90465086,"Dunst Erika, BEd"]
[90465087,"Lobak Sigrid"]
[90465088,"Obergriessnig Jennifer, BEd"]
[90465089,"Steurer Peter, BEd"]
[90465090,"Unterhohenwarter Marlene, BEd"]
[90465091,"Brodnig Erik, BEd"]
[90465092,"Fleischhacker Verena, BA BEd"]
[90465093,"Jelen Christine"]
[90465094,"Kacianka Jana, Mag. BEd"]
[90465095,"Lipnik Ingrid, Ing. BEd"]
[90465096,"Marold Anja"]
[90465097,"Naschenweng Iris, BEd"]
[90465098,"Schorli Michaela"]
[90465099,"Schwarzenbacher Gabriele, BEd"]
[90465101,"Wurzer Anita"]
[90465102,"Volkmar Carola"]
[90465104,"Scharwitzl Marina"]
[90465105,"Repetschnig Mara, Mag."]
[90465106,"Ogertschnig Sandra, BEd"]
[90465107,"Napokoj Nicola, BEd"]
[90465108,"Lipautz Petra"]
[90465109,"Holzfeind Melanie, BEd"]
[90465110,"Grilc Tania, MSc"]
[90465111,"Piskernik Katrin"]
[90465112,"Daberer Elisabeth, BEd"]
[90465113,"Granitzer Claudia, BEd"]
[90465114,"Koppitsch Katrin, BEd"]
[90465115,"Buxbaumer Andreas, BEd"]
[90465116,"Kotomisky Birgit, Ing. BEd"]
[90465117,"Leikauf Stefan, BEd"]
[90465118,"Mehringer Anja, BEd"]
[90465119,"Quenz Barbara"]
[90465120,"Quendler Silvia, Dr."]
[90465121,"Rainer Gernot, BEd"]
[90465122,"Rogl Christina, BEd"]
[90465123,"Scharf Katrin"]
[90465124,"Schmölzer Maria"]
[90465125,"Schwaiger Petra, BEd BEd"]
[90465126,"Lanzmaier Karoline, BEd"]
[90465127,"Stadler Charlotte, BEd"]
[90465128,"Wachernig Sonia, BEd"]
[90465129,"Wiednig Barbara"]
[90465130,"Wutscher Manuela, BEd"]
[90465131,"Marklet Sandra, BEd"]
[90465132,"Salzmann Carina"]
[90465133,"Zebedin Anna-Maria, BEd"]
[90465134,"Altrichter Hemma, Mag. BEd"]
[90465135,"Breitegger Katrin"]
[90465136,"Burgstaller Katja, BEd"]
[90465137,"Hudson-Zaußnig Celina, BEd"]
[90465138,"Krapesch Evelyn"]
[90465139,"Lobnig Stefan, BEd"]
[90465140,"Bergner Marika"]
[90465141,"Klimbacher Heidrun, BEd"]
[90465142,"Wulz Sandra, BEd"]
[90465143,"Zuschlag Anna Katharina"]
[90465144,"Ressmann Elisabeth"]
[90465145,"Dreschl-Frieht Susanne"]
[90465146,"Unterweger Verena, BEd"]
[90465147,"Treffner Stefanie Jesica"]
[90465148,"Steindorfer Karin"]
[90465149,"Gebhard Dominique, Mag."]
[90465150,"Rabensteiner-Ogris Marco, BEd"]
[90465151,"Moser Martina, BEd"]
[90465152,"Moser Jaqueline, BEd"]
[90465153,"Graf-Pisjak Alexander, BEd"]
[90465154,"Ouschan Sara, BEd"]
[90465155,"Hölbling Cornelia"]
[90465156,"Waschnig Sandra Johanna, BEd"]
[90465157,"Kohlbacher Katharina, BEd"]
[90465158,"Gerngroß Barbara"]
[90465159,"Wöber Herbert"]
[90465160,"Druml Robert"]
[90465161,"Golger Birgit"]
[90465162,"Drußnitzer Stefanie, BEd"]
[90465163,"Lanner Barbara, BEd BEd"]
[90465164,"Luschnik Markus, BEd"]
[90465165,"Berg Christine, BEd"]
[90465166,"Zellnig Helmut"]
[90465167,"Kastinger Gabriele, BEd"]
[90465168,"Salchegger Gert"]
[90465169,"Widowitz Nina"]
[90465170,"Kohlweiß Ingo, M.Ed."]
[90465171,"Koller Elmar, BEd"]
[90465172,"Ferreira Da Costa Ana Isabel"]
[90465173,"Hölbling Nicole, Mag."]
[90465174,"Graf Manuel, BEd"]
[90465175,"Reiterer-Steinkellner Gertraud"]
[90465176,"Toff Jennifer, BEd"]
[90465177,"Striednig Patrick, BEd"]
[90465179,"Mörtl Daniela, BEd"]
[90465180,"Steinwender Barbara, BEd"]
[90465181,"Edlinger Sabine, BEd BEd"]
[90465182,"Leitner Nadine, BEd"]
[90465183,"Kampitsch Markus, BEd"]
[90465184,"Kruschitz Nicole, BEd"]
[90465185,"Romauch Marcus, BEd"]
[90465186,"Wernitznig Lisa, BEd"]
[90465187,"Sallinger Brigitte"]
[90465188,"Wallner Birgit, BEd"]
[90465189,"Kastner Silvia, BEd"]
[90465190,"Kofler Martina, BEd"]
[90465191,"Kampitsch Elisabeth"]
[90465192,"Rauter-Dovjak Marion, BEd"]
[90465193,"Schindler-Kölz Anna"]
[90465194,"Greiler Rene, Ing. BEd"]
[90465195,"Kogler Silvia, BEd"]
[90465196,"Unterberger Thomas, BEd"]
[90465197,"Krall Elisabeth, Mag."]
[90465198,"Peternuß Melanie, BEd"]
[90465199,"Halvax-Writzl Birgit, BEd"]
[90465200,"Amlacher Christoph, BEd"]
[90465201,"Szmolik Sonja, BEd"]
[90465202,"Wallner Sabine"]
[90465203,"Alisch Josua, BEd"]
[90465204,"Manhart Christina, Mag."]
[90465205,"Aufegger Andrea, MA"]
[90465206,"Bayer Florian, BEd BEd"]
[90465207,"Bernthaler Romana"]
[90465208,"Deutschmann Kathrin, BEd"]
[90465209,"Egger Christiane, BEd"]
[90465210,"Feinig Nadja, BEd"]
[90465211,"Filler Verena, BEd"]
[90465212,"Fitzko Daniel, BEd"]
[90465213,"Fradler Roman, BEd"]
[90465215,"Hirantner Birgit, BEd"]
[90465216,"Holzer Ines"]
[90465217,"Weber Magdalena, BEd"]
[90465218,"Jahn Martina, BEd"]
[90465219,"Joham Sonja"]
[90465220,"Karpf-Koschutnig Alexandra, BEd"]
[90465221,"Sanna Alexandra, BEd BEd"]
[90465222,"Krznar Vanessa, BEd"]
[90465223,"Laggner Christina, BEd BEd"]
[90465224,"Mayer Petra, BEd"]
[90465225,"Mickl-Kraxner Mateja, BEd"]
[90465226,"Münch Gregor"]
[90465227,"Namesnik Rene, Mag. BEd"]
[90465228,"Ouschan Stefan, BEd"]
[90465230,"Peteln-Jesch Irene, Ing."]
[90465231,"Pewal Carmen, BEd"]
[90465232,"Unterguggenberger Carina, BEd BEd"]
[90465233,"Ranzinger Manuela"]
[90465234,"Scheiber-Ronach Bianca, BEd"]
[90465235,"Busatlic Omer, MA"]
[90465236,"Schmid Nicole, BEd"]
[90465237,"Smrtnik Anja, MA BEd"]
[90465238,"Steiner Gerd, BEd"]
[90465239,"Stocker-Marsili Nicole"]
[90465240,"Trattler Kirsten"]
[90465241,"Tschernitz Christiane, BEd"]
[90465242,"Unterkreuter Eva Maria, BEd"]
[90465243,"Macnik Mirijam, BEd"]
[90465244,"Vallant Heidemarie, MA"]
[90465245,"Webersdorfer Marco, BEd"]
[90465247,"Weiß Waltraud"]
[90465248,"Wieser Martina, Mag. BEd"]
[90465249,"Zellnig-Moitzi Sonja"]
[90465250,"Wrolich Lidija, MA BEd"]
[90465251,"Gregorn Gabriel, BEd"]
[90465252,"Sturm-Hartmann Teresa, MA BEd"]
[90465253,"Lach Benjamin, BEd"]
[90465254,"Leeb Thomas, BEd"]
[90465255,"Priebernig Alina, BEd"]
[90465256,"Stefitz Andrea, BEd"]
[90465257,"Mandl Katja, BEd"]
[90465258,"Naschenweng Sabrina, BEd BEd MEd"]
[90465259,"Pedarnig Viktoria, BEd"]
[90465260,"Possegger Mark, Mag. BEd"]
[90465261,"Roblek Katharina, Mag. BEd"]
[90465262,"Travnik Jessica, BEd"]
[90465263,"Trupp Daniel, BEd"]
[90465264,"Wielscher Helene"]
[90465265,"Morak Andreas"]
[90465266,"Bretis Harald, DI MSc BEd"]
[90465267,"Fertschnig Katja"]
[90465269,"Auersperg Eva"]
[90465270,"Dörflinger Thomas, BEd"]
[90465271,"Sautter Sophie"]
[90465272,"Patterer Christina, BEd BEd MEd"]
[90465273,"Drescher Eduard, BEd BSc"]
[90465274,"Lackenbucher Verena, BEd"]
[90465275,"Kletz Franziska, BEd"]
[90465276,"Stadler Elisabeth, BEd BEd"]
[90465277,"Hinterberger Daniela"]
[90465278,"Moser Martin, BEd"]
[90465279,"Erber Susanne"]
[90465280,"Lazer Sara, BEd"]
[90465281,"Tiefenbacher Christian, BEd"]
[90465282,"Sturm Robert, BEd"]
[90465283,"Gallob Maria, Mag. BEd"]
[90465285,"Koch Sigrun, BEd"]
[90465286,"Smolak-Malliga Anja, MA MA BEd"]
[90465288,"Ames Manuela"]
[90465289,"Cuderman Janja, MA BEd"]
[90465290,"Urak Sara, BEd"]
[90465291,"Schellrat Claudia"]
[90465292,"Bärnthaler Daniela, BEd"]
[90465293,"Gadner Barbara"]
[90465294,"Rindler Anja"]
[90465295,"Gregoric Martina, BEd"]
[90465296,"Brkovic Sara, BEd"]
[90465297,"Kumer-Lopinsky Miriam, BEd"]
[90465298,"Roth Sandra, BEd"]
[90465299,"Petugger Simone, BEd"]
[90465300,"Kuchernig Daniela"]
[90465301,"Pipp Katarina, BEd"]
[90465302,"Stuppnig Klaus, BEd"]
[90465303,"Walter Mateja"]
[90465304,"Schlese Katharina"]
[90465305,"Nadrag Martina, Mag. BEd BEd"]
[90465306,"Waditzer Stefanie, BEd BEd"]
[90465307,"Adler Gabriel, BEd"]
[90465308,"Oberhauser Jürgen, Ing. BEd"]
[90465309,"Laure Sandra"]
[90465310,"Glatzl Heimo"]
[90465311,"Feichter Thomas, BEd"]
[90465312,"Buchmann Agnes"]
[90465313,"Hobel Christoph, BEd"]
[90465314,"Zojer Sandra"]
[90465315,"Burger Gerhard, BEd"]
[90465316,"Fugger Carmen, MBA BEd"]
[90465317,"Timmerer Christoph, Mag. Dr. BEd"]
[90465318,"Wernig Verena, BEd"]
[90465319,"Kanzian Manuel, BEd"]
[90465320,"Permanschek Julia, BEd"]
[90465321,"Peterjan Eva, BEd"]
[90465322,"Lippitz Christina, BEd"]
[90465323,"Kostner Sabrina, MMag. BEd"]
[90465324,"Göschl Sabrina, BEd BEd"]
[90465325,"Schlese Anita, BEd"]
[90465326,"Minibek Lisa, BEd"]
[90465327,"Ruttnig Christian, BEd"]
[90465328,"Marktl Anita, BEd"]
[90465329,"Madrutter Christoph, BEd"]
[90465330,"Millonig Teresa Johanna, MA BEd"]
[90465331,"Timmerer Katja"]
[90465332,"Luschnig Natalie, BEd BEd"]
[90465333,"Schaunig Thomas, BEd"]
[90465334,"Gschliesser Cornelia, MA BEd"]
[90465335,"Brückler Michaela, BEd"]
[90465336,"Fischer Daniela, BEd"]
[90465337,"Artac Helga, BEd"]
[90465338,"Leiter Sybille, BEd"]
[90465339,"Oberlojer Verena, BEd"]
[90465340,"Skrinar-Machnè Katrin, BEd"]
[90465341,"Krenn Kerstin, BEd"]
[90465342,"Rosenkranz Sarah, BEd"]
[90465343,"Kohlweiß Maria-Louise, BEd MEd"]
[90465344,"Kofler Lisa, BEd"]
[90465345,"Graßler Martina"]
[90465346,"Schröder Andreas"]
[90465347,"Gruber Christian"]
[90465348,"Bürgler Stephan, BEd"]
[90465349,"Kozelsky Arno, BEd"]
[90465350,"Dietrichstein Katrin, BEd"]
[90465351,"Lamprecht Norbert, BEd"]
[90465352,"Burkhardt Angelika, BEd"]
[90465353,"Feix Nina, BEd"]
[90465354,"Melcher Sigrid"]
[90465355,"Weinberger Rebecca Lisa, BEd"]
[90465356,"Köllich Isabella, BEd"]
[90465357,"Artl Rafaela"]
[90465358,"Kreuzer Bettina, Mag. BEd"]
[90465359,"Schimanz Lisa, BEd"]
[90465360,"Plomenig Denise, BEd"]
[90465361,"Jäger Tina, BEd"]
[90465362,"Ebner Denise"]
[90465363,"Sima Daniela Barbara, BEd"]
[90465364,"Stingl Nicole Nina, BEd"]
[90465365,"Steiner Christin-Denise, BEd"]
[90465366,"Zuschlag Hans"]
[90465367,"Mayr Stephanie, BEd"]
[90465368,"Mikula Andrea, MA BEd"]
[90465369,"Pichler Jürgen, BEd"]
[90465371,"Osebitz Angelika, Mag.(FH) BEd BEd"]
[90465372,"Fankhauser Daniel, BEd"]
[90465373,"Binter Johanna, BEd"]
[90465374,"Hallegger Michaela, BEd"]
[90465375,"Leitner Bianca, BEd BEd"]
[90465376,"Wildbahner Markus, BEd"]
[90465377,"Kampfer Sabine"]
[90465378,"Weger Elisabeth, BEd"]
[90465379,"Greiler Thomas"]
[90465380,"Reinbacher Florian, Ing. BEd"]
[90465381,"Müller Matthias, MMag. BEd"]
[90465382,"Lucchini Joana, BEd"]
[90465383,"Eder Vera, BEd"]
[90465384,"Bliem Stephanie, BEd BEd"]
[90465385,"Zwischenberger Sylvia, BEd"]
[90465386,"Valtiner Josephine, BEd"]
[90465387,"Kogler Nina"]
[90465388,"Dohr Peter"]
[90465389,"Lippusch Andrea, BEd"]
[90465391,"Steller Michael, BEd"]
[90465392,"Madrutter Martin, Mag."]
[90465393,"Veluwenkamp-Stranner Edith"]
[90465394,"O' Shea Monika, Mag."]
[90465395,"Zaami Asmaa"]
[90465396,"Malle Carmen, Ing."]
[90465397,"Pichler Irene, BEd BEd"]
[90465398,"Cech Josef, DI(FH) BEd"]
[90465399,"Preiml Claudia, BEd"]
[90465400,"Pesendorfer Julia, BEd"]
[90465401,"Ludwig-Feichtinger Patricia"]
[90465402,"Bachmaier-Strobl Katharina, Mag. BEd"]
[90465403,"Wernig Michaela"]
[90465404,"Kernaghan Susan"]
[90465405,"Ames Luke Alan"]
[90465406,"Navarre Jennifer, BA"]
[90465407,"Daveid Anja, BEd"]
[90465408,"Ismaeil Sabrin, BEd"]
[90465409,"Mustafic Amina"]
[90465410,"Stermetz Hans, BA MA"]
[90465411,"Oberhauser Sandra"]
[90465412,"Weiß Katharina, MA BEd"]
[90465413,"Wutscher Michaela, BEd"]
[90465414,"Adlbrecht Julia"]
[90465415,"Geyer Laura, BEd"]
[90465416,"Diex Philipp, BEd"]
[90465418,"Blümel Valentina, BEd"]
[90465420,"Rasinger Melissa, BA BEd"]
[90465421,"Dohr Melanie, BEd"]
[90465422,"Glanzer Yvonne"]
[90465423,"Esser Bernadette, BEd BSc"]
[90465424,"Glantschnig Daniela, BEd"]
[90465425,"Heber Verena, BEd"]
[90465426,"Gitschthaler Gert, BEd"]
[90465427,"Medwed Jennifer Sarah, BEd"]
[90465428,"Kravagna Sandro, BEd"]
[90465429,"Santer Simone, BEd"]
[90465430,"Gurschner Michael, BEd"]
[90465431,"Jeklic Marlene, BEd"]
[90465432,"Weinberger Jennifer, BEd"]
[90465433,"Grumer Viktoria, BEd"]
[90465434,"Wukoutz Andrea, BEd"]
[90465435,"Pollak Gernot, BEd"]
[90465436,"Wukoutz Margit, BEd"]
[90465437,"Sima Theresa, BEd"]
[90465439,"Gaugg Sarah, BEd"]
[90465440,"Haberl Christina, BSc BEd MSc"]
[90465441,"Taupe Hannah, BEd"]
[90465442,"Pleschutznig Lisa, BEd"]
[90465443,"Habich Martina, BEd"]
[90465444,"Steiner Andrea Manuela, BEd"]
[90465445,"Weber Claudia"]
[90465446,"Rauscher-Hermann Miriam, BEd"]
[90465447,"Lex Victoria Christina, BEd"]
[90465448,"Steinwender Magdalena, BEd"]
[90465449,"Skant Elisabeth Maria, BEd"]
[90465450,"Stanic Sandra, BEd"]
[90465451,"Stesl Manfred, BEd"]
[90465452,"Koren Katja, BEd"]
[90465453,"Pölzl David, BEd"]
[90465454,"Gartmayer Peter, BEd"]
[90465455,"Blasnik Andrea, BEd"]
[90465456,"Mitterfellner Sabrina, BEd"]
[90465457,"Gradischnig Thomas Johannes, Mag. BEd"]
[90465458,"Szente-Varga Sarah, BA BEd"]
[90465459,"Schweinberger Sabrina Maria, MA BEd"]
[90465460,"Santer Samantha, BEd"]
[90465461,"Michenthaler Pia, MA BEd"]
[90465462,"Bergmann Christina, MA BEd"]
[90465464,"Errath Kerstin Eva-Maria"]
[90465465,"Podertschnig Marcel, BEd"]
[90465466,"Wutte Katja, BEd"]
[90465467,"Britz Nicole, BEd"]
[90465468,"Puschitz-Nagele Martina, BEd"]
[90465469,"Rainer Sabrina, BEd"]
[90465470,"Müller Oskar, Mag. Dr. BEd"]
[90465471,"Kozelsky Jessica, BEd"]
[90465472,"Springer Elena, BEd"]
[90465473,"Ninaus Julia, BEd"]
[90465474,"Weratschnig Markus, BEd"]
[90465475,"Christandl Lena, BEd"]
[90465476,"Holzinger Elena Katharina, BEd"]
[90465477,"Amann Anna, BEd BEd"]
[90465478,"Ozim Christian, BEd"]
[90465479,"Wallner Patricia, BEd"]
[90465480,"Messner Rosemarie"]
[90465481,"Wastl Roman, BEd"]
[90465482,"Kienleitner Angelika"]
[90465483,"Fankhauser Alexander, BEd"]
[90465484,"Perc Marko, BEd"]
[90465485,"Lamprecht Sebastian Emanuel, BEd"]
[90465486,"Weber Jasmin Melanie, BEd"]
[90465487,"Platzner Christoph, BEd"]
[90465488,"Rumpold Christine"]
[90465489,"Bestandmann Julia, BEd"]
[90465490,"Brandner Marlene, MA BEd"]
[90465491,"Astei Nina, BEd"]
[90465492,"Baumgartner Marc, BEd"]
[90465493,"Medovic Rafaela, BEd"]
[90465494,"Schlömmer Heinz, BEd"]
[90465495,"Pototschnig Anna-Maria, BEd"]
[90465497,"Schaubach Julia, BA BEd"]
[90465498,"Niederer Kerstin, BEd"]
[90465499,"Madrian Carmen, BEd BEd"]
[90465500,"Strohmaier Elke, BEd"]
[90465501,"Baumgartner Silvia, Mag."]
[90465502,"Stelzl Katharina Elisabeth, BEd"]
[90465503,"Attelschek-Abraham Marion Ingrid"]
[90465504,"Lindhorst Florina, BEd"]
[90465505,"Golja Barbara"]
[90465506,"Dobernig Melanie, BEd"]
[90465507,"Martinschitz Tamara, BEd"]
[90465508,"Kropiunik Ilona, BEd"]
[90465509,"Reiter Michael, BEd"]
[90465510,"Steiner Eva Maria, BEd"]
[90465511,"Truskaller Kathrin, BEd"]
[90465512,"Oberreßl-Gasser Viktoria, MA BEd"]
[90465513,"Marchl Viktoria, BEd"]
[90465514,"Kowatsch Nina, BEd"]
[90465515,"Soos Michael, BEd"]
[90465516,"Steiner Carina, BEd"]
[90465517,"Wernig Christian Siegfried, BEd"]
[90465518,"Miklautz Dennis-Sven, BEd"]
[90465519,"Gruber Philipp, BEd"]
[90465520,"Machne Petra, BEd"]
[90465521,"Pirker Susanne, BEd"]
[90465522,"Hochegger Julia, BEd"]
[90465523,"Kronegger Christina, BEd"]
[90465524,"Tarkusch Stefanie, MA BEd"]
[90465525,"Harrer Stefan, Mag. Bakk. BEd"]
[90465526,"Schart Lisa, BEd MEd"]
[90465527,"Hölzl Christoph, Mag.(FH)"]
[90465529,"Steiner Maria, BEd"]
[90465530,"Müller Anna-Lena, BEd"]
[90465531,"Fian Edith, BEd"]
[90465532,"Scheidenberger Sandro, BEd"]
[90465533,"Soba Nina"]
[90465534,"Wind Andreas, Ing. BEd"]
[90465535,"Arbeiter Christian, BEd"]
[90465536,"Strebenitzer Martin, BEd"]
[90465537,"Kogler Ulrich, Mag."]
[90465538,"Kogler Sabrina, BEd"]
[90465539,"Isberg Bianca, BEd"]
[90465540,"Otti Jana, BEd"]
[90465541,"Warasch Simone, BEd"]
[90465542,"Faschauner Anna, BEd"]
[90465543,"Marcolin-Polemis Sophia, Mag. BEd"]
[90465544,"Pertl Sarah, BEd"]
[90465545,"Ranacher Sabrina, BEd"]
[90465546,"Schwarz-Herda Annett Susann"]
[90465547,"Pieler Katja Anna, BEd"]
[90465548,"Rainer Carina, BEd"]
[90465549,"Jank Franz, BEd"]
[90465550,"Mußnig Magdalena, BEd"]
[90465551,"Malle Katharina, BEd"]
[90465552,"Wurzer Dominika, BEd"]
[90465553,"Karner Eva, BEd"]
[90465555,"Lechner Martina, BEd"]
[90465556,"Rup Christina, BEd"]
[90465557,"Schwager Bianca, BEd"]
[90465558,"Vidounig Iris, BEd"]
[90465559,"Augustin Lisa Beatrice, BEd"]
[90465560,"Marktl Laura, BEd"]
[90465561,"Geier Miriam, BA BEd"]
[90465562,"Pick Dario, BEd"]
[90465563,"Hofer Lisa, BEd"]
[90465564,"Franzel Madeleine, BEd"]
[90465565,"Butunoiu Claudia, MA"]
[90465566,"Pachler Karoline, BEd"]
[90465567,"Knirsch Sibylle, BA"]
[90465569,"Bernthaler Ingrid, BEd"]
[90465570,"Dreier Sandra, BEd"]
[90465571,"Del Fabro Andrea, BEd"]
[90465572,"Wedenig Michael Nikolaus, BEd"]
[90465573,"Emberger Sabrina, BEd"]
[90465574,"Kampfer Christine, BEd"]
[90465575,"Pretscher Anna, BEd"]
[90465576,"De Wilde Laura Katharina, BEd"]
[90465577,"Hofer Melissa, BEd"]
[90465578,"Adelbauer Barbara, Mag. BEd"]
[90465579,"Gruber Carina, BEd"]
[90465580,"Sukalo Amela, BA MA"]
[90465581,"Wieser Alexandra, Mag. BEd"]
[90465582,"Hribar Dunja, Mag."]
[90465583,"Gurmann Daniela, BEd"]
[90465584,"Poschinger Christine, BEd"]
[90465585,"Subosits Anita, BEd"]
[90465586,"Lanschützer Susanne, BEd"]
[90465587,"Köchl Vanessa, BEd"]
[90465588,"Pribasnig Maria Anna, Dr. BEd BSc MSc"]
[90465589,"Gruber Jürgen, BEd"]
[90465590,"Fürpaß Eva, BEd"]
[90465591,"Müller Ines"]
[90465593,"Besic Adna, BEd"]
[90465594,"Daborer Marilena, BEd"]
[90465595,"Chinaglia Monica, Mag. BEd MEd"]
[90465596,"Devescovi Nereo, BEd"]
[90465597,"Egarter Nicole"]
[90465598,"Gallizia Elena, BEd"]
[90465599,"Garamvölgyi Eva Hajnalka, Mag."]
[90465600,"Gartler Sigrid, Mag."]
[90465601,"Wohlmuth Lisa Maria, BEd"]
[90465602,"Grossek Britta-Maria, BEd"]
[90465603,"Hamertinger Monika, BEd"]
[90465604,"Waldner Delia, BEd"]
[90465605,"Hohenwarter-Sodek Petra"]
[90465606,"Stuppnig Elena, MA BSc"]
[90465607,"Weithaler Bianca, BEd"]
[90465608,"Schwarzenbacher Reinhold"]
[90465609,"Kienberger Claudia, BEd"]
[90465610,"Szöke Theresa, BEd"]
[90465611,"Kleinbichler Melanie"]
[90465612,"Korunka Mathias, BEd"]
[90465613,"Podesser Andrea, BEd"]
[90465614,"Schwaiger Sabrina, BEd"]
[90465615,"Ramsbacher Lisa Maria, BEd"]
[90465616,"Drußnitzer Mario, BEd"]
[90465618,"Tesch Angela, BEd"]
[90465619,"Sima Valentina, BEd"]
[90465620,"Neuhuber Florian, BEd"]
[90465621,"Erd Natalie, BEd"]
[90465622,"Obitsch Mario, Mag. Bakk. MSc"]
[90465623,"Ostermeier Marco, BA BEd"]
[90465624,"Pichler Reto, BEd"]
[90465625,"Pippenbacher Christina Elisabeth, BEd"]
[90465626,"Stirling Elisabeth"]
[90465627,"Strauss Wolfgang, BEd"]
[90465628,"Strmljan Christina"]
[90465629,"Thallmann Tina, BEd"]
[90465630,"Trixner Corinna, BEd"]
[90465631,"Wucherer Lisa Maria, BEd"]
[90465632,"Wurmitzer Nikola"]
[90465633,"Zemasch Nadine, BEd"]
[90465634,"Waiguny Ramona, BEd"]
[90465635,"Moser Melanie, BEd"]
[90465636,"Noggler Nives, BEd"]
[90465637,"Schnögl Gerhard"]
[90465638,"Schuler Tatjana, BEd"]
[90465639,"Salzmann Alexander, BA BEd"]
[90465640,"Leitner Michele Elisabeth, Mag. Dr. BEd"]
[90465641,"Liebhauser Birgit Tiffany, BEd"]
[90465642,"Müller Janez, BEd"]
[90465643,"Telsnig Lukas, BEd"]
[90465644,"Freissegger Martina"]
[90465645,"Domänig Martin, BEd"]
[90465646,"Kampitsch Michaela, MA BEd"]
[90465647,"Meixner Verena"]
[90465648,"Rumpf Mario, BEd"]
[90465649,"Gregoritsch Julia, BA BEd"]
[90465650,"Hofstätter Katharina, BEd"]
[90465651,"Strauss Lena, BEd BEd"]
[90465652,"Rohrmeister Sylvia, BEd"]
[90465653,"Stanic Maja, Mag."]
[90465654,"Wolf Sandra, BEd"]
[90465655,"Pließnig Markus, BEd"]
[90465656,"Rosenkranz Katharina, BEd"]
[90465658,"Jernej Christine, Mag."]
[90465659,"Telesklav Petra, BEd"]
[90465660,"Baldessari Katharine"]
[90465661,"Dobernigg Heike"]
[90465663,"Haut Viktoria, BEd"]
[90465664,"Rabitsch Sabine"]
[90465665,"Igerc Tatjana, BA BEd"]
[90465666,"Pietschnig Lisa-Marie, BEd"]
[90465667,"Brunner Martina, BEd"]
[90465668,"Böhme Julia, BEd"]
[90465669,"Cencig Leon"]
[90465670,"Größing Alexandra, BEd"]
[90465671,"Auer Florian, BEd"]
[90465672,"Poßarnig Stefanie Andrea, BEd"]
[90465673,"Mawad Katrin, BEd"]
[90465674,"Schreiner Ines"]
[90465675,"Aiglsperger Ilse, Mag. BEd"]
[90465676,"Edlinger-Pope Nina, M.Ed."]
[90465678,"Willitsch Lisa-Katharina, BA MA"]
[90465679,"Stamm Bernd, BA"]
[90465680,"Jernej Julia, BEd"]
[90465681,"Egarter Anna, Mag."]
[90465682,"Kautz Christian, Mag."]
[90465683,"Striednig Linda, BEd"]
[90465685,"Weise Caroline"]
[90465687,"Jocic Vesna"]
[90465688,"Eilers Jana, BEd"]
[90465689,"Lora-Puschmann Angelique, BA"]
[90465690,"Graf Christina, BEd"]
[90465691,"Lanzinger Rolanda, Mag."]
[90465692,"Winkler Daniela"]
[90465693,"Zerza Kathrin Elisabeth"]
[90465694,"Moitzi Florian"]
[90465695,"Winter Stefan Horst"]
[90465696,"Goldner Rebecca, BEd"]
[90465697,"Goetzke Katherine Elizabeth, Dr."]
[90465698,"French Scott Clyde, BEd"]
[90465699,"Mramor Anna, BEd"]
[90465700,"Wilplinger Marlene"]
[90465701,"Penker Desiree"]
[90465702,"Rauter Michael"]
[90465703,"Higgins Megan Nicole, Mag. BA"]
[90465704,"Hudelist Christina, Mag."]
[90465706,"Wöss Christina, BEd"]
[90465707,"Fößl Hildegard, Mag."]
[90465708,"Brugger Victoria, BEd"]
[90465709,"Spitaler Sarah Luise, BEd"]
[90465710,"Gangl Petra"]
[90465711,"Steiner Viktoria, BEd"]
[90465712,"Friedrich Jacqueline, BEd"]
[90465713,"Schaflechner Alina, BEd"]
[90465714,"Wang Katarina, Mag."]
[90465715,"Lick Erich"]
[90465716,"Pirker Johanna-Christine, BEd"]
[90465717,"Fina Vera, MSc"]
[90465718,"Bartolot Werner"]
[90465719,"Breitegger Matthias"]
[90465720,"Ebner Marco Daniel, Ing. BEd"]
[90465721,"Eisner Markus, BEd"]
[90465722,"Frischer Fabienne"]
[90465723,"Baumgartner Verena"]
[90465724,"Holzer Caroline Evelyn, BEd"]
[90465725,"Seiß Johann, Ing. BEd"]
[90465726,"Matt Andrea, BEd"]
[90465727,"Messner Michael Rupert, Ing. BEd"]
[90465728,"Modritsch Albert, BEd"]
[90465729,"Müller Heinz"]
[90465730,"Pfandl Doris, Mag.(FH) BEd"]
[90465731,"Schaffer Alexandra, BEd"]
[90465732,"Sibetz Martina Maria"]
[90465733,"Smoley Robert"]
[90465734,"Unterweger Rene Jürgen, BEd"]
[90465736,"König Alexander, Ing. BEd BA MA"]
[90465737,"Rautz Christoph"]
[90465738,"Lamprecht Joachim"]
[90465739,"Aspmair Stefanie, MA"]
[90465740,"D'Ambrosio Nicola Iva, BA"]
[90465742,"Pope Oliver, BA MA"]
[90465743,"Rauchegger Kathrin Maria"]
[90465744,"Kowatsch Hannah, BEd BEd"]
[90465745,"Mndolwa Lilian Stephan"]
[90465747,"Wassertheurer Sylvia"]
[90465748,"Rauter Andreas, Mag."]
[90465749,"Warmuth Claudia, BEd"]
[90465750,"Borchert Dagmar"]
[90465751,"Herrnegger Lucas, Mag."]
[90465752,"Apschner Jan-Arne, Mag. BA"]
[90465753,"Gallob Christiane Elisabeth, BEd"]
[90465754,"Kleinbichler-Priess Andrea"]
[90465755,"Steiner Alexander, BEd"]
[90465756,"Muschet Cornelia, Mag."]
[90465757,"Kruschitz Marianne, BEd MEd"]
[90465758,"Meister Martina"]
[90465759,"Rabitsch Lukas, Mag."]
[90465760,"Köfer Stefanie, Mag."]
[90465761,"Gasser Birgit, Mag."]
[90465762,"Detomaso Simon, Mag."]
[90465763,"Dolzer Sara, Mag."]
[90465764,"Erlacher Anna-Maria, Mag."]
[90465765,"Reddy Claudio, Mag."]
[90465766,"Grabovac Suzana, Mag."]
[90465767,"Graf Rafael, Mag."]
[90465768,"Hübl Laura, Mag."]
[90465769,"Imre Natalie Carina, BEd"]
[90465770,"Maier Ramona, BEd"]
[90465771,"Gansger Tanja, BEd MEd"]
[90465772,"Niederwieser Nadja, Mag."]
[90465773,"Obereder Tamara, Mag."]
[90465774,"Peijnik-Steinwender Michaela, Mag."]
[90465775,"Perauer Miriam, BEd"]
[90465776,"Hyden Isabell, Mag."]
[90465777,"Regatschnig Carina, Mag."]
[90465778,"Deutsch Anna-Lena, BEd"]
[90465779,"Pipp Charlotte, Mag."]
[90465780,"Waldhauser Michael, Mag."]
[90465781,"Andritsch Julia, Mag."]
[90465782,"Sapetschnig Felicitas, Mag."]
[90465783,"Kroll Birgit, BEd"]
[90465784,"Koller Robert, Mag."]
[90465785,"Wernig Anja, Mag. BA"]
[90465786,"Lessiak-Tassotti Bettina, BEd BEd"]
[90465787,"Melcher Bernhard"]
[90465788,"Metzger Christopher, BEd"]
[90465789,"Santner Doris, Mag. BA"]
[90465790,"Seher Elena, MA BEd"]
[90465791,"Sternat Christoph, Mag."]
[90465793,"Brausam Anna, Mag."]
[90465795,"Rainer Susanne"]
[90465796,"Uitz Vanessa, Mag."]
[90465797,"Unterweger Lisa, BEd"]
[90465798,"Benova Jana, Mag."]
[90465799,"Ruehs Verena"]
[90465800,"Koschier Marion, Mag. Bakk. BEd"]
[90465801,"Petritz Ina-Carin, Mag."]
[90465802,"Mocic Davor, BEd"]
[90465803,"Mitterdorfer Anna-Maria, Mag."]
[90465804,"Strobl Patrizia, BEd"]
[90465805,"Paul Irina, Mag."]
[90465806,"Hafner Florian, Mag."]
[90465807,"Kienzl Lisa, BEd"]
[90465808,"Kuster Katja, Mag."]
[90465809,"Halilovic Nahla, BA"]
[90465810,"Lechner Christof"]
[90465811,"Leonhard Nina Katharina, BEd BEd"]
[90465812,"Lindl Monika"]
[90465813,"Mayerl Michael, Mag."]
[90465814,"Cuznar-Aschbacher Mojca"]
[90465815,"Perchtaler Roland, Mag."]
[90465816,"Schlack Nina, BEd"]
[90465817,"Schöffmann Bettina, Mag."]
[90465818,"Tischler Anna Magdalena, Mag."]
[90465819,"Poglitsch Susanne, BEd"]
[90465820,"Traussnig Maria, BEd"]
[90465821,"Lang Claudia, MA BA BEd"]
[90465822,"Raser Eduard, Mag."]
[90465823,"Koller Marco, Mag."]
[90465824,"Hennig Tamara, Mag."]
[90465825,"Leitner Antonia Ramona, MA BA BEd MEd"]
[90465826,"Selmanovic Aida, Mag."]
[90465829,"Oberauner-Schweiger Katharina, Mag."]
[90465830,"Eder Katharina Susanne, BEd"]
[90465831,"Igerc Christian Marijan, BEd"]
[90465832,"Knaus Stephan, BEd"]
[90465833,"Thaler Laura, BEd MEd"]
[90465834,"Kiegerl Johanna, BEd"]
[90465835,"Mubi Maximilian, Mag."]
[90465836,"Gurnea Zinaida"]
[90465837,"Retzer Laura"]
[90465838,"Rauter Birgit, M.Ed."]
[90465839,"Oberdorfer Manuel, Ing. BEd"]
[90465840,"Maier Philipp, Ing. BEd"]
[90465841,"Primoschitz Andrea, BEd"]
[90465842,"Axmann Georg Paul, BA BEd"]
[90465843,"Baumgartner Marlen, Mag."]
[90465845,"Blaschitz-Prutej Sarah, BEd"]
[90465846,"Cirri Alexander, BEd"]
[90465847,"Claus-Hartlieb Johanna, Mag."]
[90465848,"Rutter Denisa, Mag."]
[90465849,"Egger Charlien, BEd"]
[90465850,"Erdt Miriam, Mag."]
[90465851,"Schwenner Eva Maria, Mag."]
[90465852,"Franjic Irena, BEd"]
[90465854,"Gabriel Melissa, Mag."]
[90465855,"Gailberger Stefan, Mag."]
[90465856,"Gfrerer Alexandra, Mag."]
[90465857,"Hinteregger Lisa Maria, Mag."]
[90465858,"Hötzl Stephan, Mag."]
[90465860,"Karisch Theres Sabrina, BEd MEd"]
[90465861,"Karnel Anna, Mag."]
[90465862,"Klupper Melanie, Mag."]
[90465863,"Malesakovic Claudia, BEd MEd"]
[90465864,"Mayer Melanie, Mag."]
[90465865,"Robier Melanie, Mag."]
[90465866,"Mickl Anna-Carina, Mag."]
[90465867,"Oblak Bernadette, Mag."]
[90465868,"Ogradnig Martin Josef, Mag. BA"]
[90465869,"Pizzali Ennio, Mag."]
[90465870,"Pleschounig Sigibert, Mag."]
[90465871,"Pogatschnigg Richard, Mag. BA"]
[90465873,"Preiml Paulina, BEd MEd"]
[90465874,"Abdel Azim Mohamed Ramon, BEd"]
[90465876,"Schönauer Christiane, Mag."]
[90465878,"Steinberger Mark, BEd MEd"]
[90465879,"Steinwender Elisabeth, Mag."]
[90465880,"Stuck Eva-Maria, Mag."]
[90465881,"Töfferl Andrea, BEd MEd"]
[90465882,"Wieser Johanna, M.Ed."]
[90465883,"Biedermann Martina"]
[90465884,"Kiko Susanne"]
[90465885,"Llamas Michaela, BA MA"]
[90465886,"Puschitz-Drothler Anna-Maria, MMag. MSc"]
[90465887,"Scheriau Helfried"]
[90465888,"Trimborn Werner"]
[90465889,"Palos Amira, Mag."]
[90465890,"Benedikt Natalie, BEd"]
[90465891,"Küssenpfennig Ines, Mag. BEd"]
[90465893,"Lombrana Dominguez Abraham, MA"]
[90465894,"Pirker Johanna, Mag."]
[90465895,"Scheiflinger Christina, BEd BA MEd"]
[90465896,"Kröpfl Markus, Mag."]
[90465897,"Wautsche Chayenne, BEd"]
[90465898,"Oberhauser Helena, Mag."]
[90465899,"Preiml Marilena, BEd"]
[90465900,"Plank-Lederer Marina, MMag."]
[90465901,"Hiebinger Nicole, BEd"]
[90465904,"Weisseneder Kathrin, Mag. Bakk."]
[90465906,"Auprich Katja, BEd"]
[90465907,"Kuester Oliver, BEd"]
[90465908,"Oberraufner Marianne, Mag."]
[90465909,"Fürpaß Heimo, Mag."]
[90465910,"Sinnegger Anke, BEd"]
[90465911,"Höggerl-Pulvermacher Verena, BEd"]
[90465913,"Lippitsch Céline, BEd"]
[90465914,"Lackner Leonie, BEd"]
[90465915,"Krautzer Lena, BEd"]
[90465916,"Jeremias Kelli Suzanne, BA"]
[90465917,"Graf Verena Johanna, BEd"]
[90465919,"Ritzmaier Marko, BEd"]
[90465920,"Gröber Stefanie Christine, Mag. BEd MEd"]
[90465921,"Willroider Josef, Ing."]
[90465922,"Petschnigg Maritta, BEd"]
[90465923,"Unterlerchner Joseph Franz"]
[90465924,"Urbantschitsch Romina Anna, BEd"]
[90465925,"Lingitz Eva-Maria, Mag.(FH) MA BEd"]
[90465926,"Baumgartner Marlene Katharina, BEd MEd"]
[90465927,"Strieder Hannes, Mag."]
[90465928,"Krische Julia, BEd"]
[90465929,"Rinösl Corinna, Mag. BA"]
[90465930,"Dörflinger Stefanie, BEd"]
[90465931,"Klaus Charlotte, BEd"]
[90465932,"Travnik Tabea, MA"]
[90465933,"Achner Nadine, BEd MEd"]
[90465935,"Ebner Julia, BEd MEd"]
[90465936,"Goißer Doris, Mag."]
[90465937,"Rabitsch Marie-Therese, BEd"]
[90465938,"Lever Harald Josef"]
[90465939,"Kohlweiß Cornelia, Mag."]
[90465940,"Kresnik Viktoria, BEd MEd"]
[90465941,"Maierhofer Matthias, BEd"]
[90465942,"Safran Manuela, BEd"]
[90465943,"Haselmaier Bettina, Mag."]
[90465944,"Schwager Irena Maria, BEd MEd"]
[90465945,"Samonik Sarah Sabrina, Mag."]
[90465946,"Fera Carmen, BEd"]
[90465947,"Lessiak Denise Daniela, BEd MEd"]
[90465948,"Sandner Corinna, BEd"]
[90465949,"Hochmüller Christoph, Mag."]
[90465950,"Wexler Katja Maria, Mag."]
[90465951,"Reitz Georg, Mag."]
[90465952,"Bojdunyk Katharina, Mag."]
[90465953,"Bräuer Christina, BEd MEd"]
[90465954,"Aspernig Julia, BEd"]
[90465955,"Dorner Katharina, BEd"]
[90465956,"Wastian-Lindermuth Sophie Marie, BEd"]
[90465957,"Funk Julia Carolin, Mag."]
[90465958,"Waldhauser-Tschernitz Barbara"]
[90465959,"Rogl Martin, Mag."]
[90465961,"Oblasser Julia, Mag."]
[90465962,"Novak Florian, BEd"]
[90465963,"Regenfelder Nina, BEd MEd"]
[90465964,"Waditzer Nadine, BEd MEd"]
[90465965,"Plankensteiner Elisa, BEd"]
[90465966,"Wieland Lisa"]
[90465967,"Dalmatiner Tanja"]
[90465968,"Ladinig Laura, BEd MEd"]
[90465969,"Bugelnig Carina Maria Christin, BEd"]
[90465970,"Lienhart Andrea, BEd"]
[90465971,"Schnitzler Siegfried"]
[90465972,"Gruber-Brunner Verena, DI Bakk."]
[90465973,"Müller Alexander, Ing."]
[90465974,"Vielgut Marina, BA MA Bed"]
[90465975,"Struhar David, Mag."]
[90465976,"Kelih Florian, BEd"]
[90465977,"Grossegger Sabrina, BEd"]
[90465979,"Haberl Daniel, BEd"]
[90465980,"Leber Sabrina Jasmin, BEd MEd"]
[90465981,"Eder Katharina, Mag."]
[90465984,"Ivanovic Anna, Mag. BA"]
[90465985,"Neuwirth Robert, BEd MEd"]
[90465986,"Koch Magdalena Marie, BEd MEd"]
[90465987,"Angerer Karin, BEd"]
[90465988,"Maurer Christina, BEd MEd"]
[90465989,"Naschenweng Thomas, BEd"]
[90465990,"Wastl Manuela, BEd"]
[90465992,"Trunk Charlotte, MA BEd"]
[90465993,"Weidegger Denise Erna Johanna, BEd"]
[90465994,"Leitinger Anton, BEd"]
[90465995,"Kommetter Anna-Maria, BEd MEd"]
[90465996,"Peric Olivera, BEd MEd"]
[90465997,"Lang Sandra, BA BEd"]
[90465998,"Smid Lisa, Mag."]
[90465999,"Hebein Kai, BEd"]
[90466000,"Anwander Karin, Mag."]
[90466001,"Steller Elisabeth, BEd"]
[90466002,"Hofmeister Johannes, Mag."]
[90466004,"Mannsfeld Daniel, Mag."]
[90466005,"Guggenberger Gregor, Mag."]
[90466006,"Jammer Desiree, MEd"]
[90466007,"Künstl Gottfried, BA BEd"]
[90466008,"Holzer Nikolaus, BEd"]
[90466009,"Straßer Fabian"]
[90466010,"Mujagic Jasmina, Mag."]
[90466012,"Egger Julia, BEd"]
[90466013,"Bucher Christian"]
[90466014,"Kaiser Verena, Mag. MA MAS"]
[90466015,"Hacon Stéphane, Mag."]
[90466016,"Murke Christoph"]
[90466017,"Bayer Stefan, Mag."]
[90466018,"Kaiser Bernhard, Mag. Dr."]
[90466019,"Berger Jasmin, MMag.Dr."]
[90466020,"Ischep Niklas, BEd"]
[90466021,"Guger Lukas, BEd MEd"]
[90466022,"Bäck Hannes, BEd"]
[90466023,"Jakopitsch Michael Augustin, BEd"]
[90466024,"Trippl Thomas, BEd"]
[90466025,"Fasching Johanna, DI BEd"]
[90466026,"Wolte Julia, Mag. BEd"]
[90466027,"Marginter Mathias, DI BEd BSc"]
[90466028,"Poganitsch Martina, Ing. BEd"]
[90466029,"Rainer Kathrin, DI BEd BSc"]
[90466030,"Oberdorfer-Zechner Cindy, BEd"]
[90466031,"Ladinig Gerhild, M.Ed."]
[90466032,"Reibling Sebastian, BA MA"]
[90466033,"Baumann Christina, BEd MEd"]
[90466034,"Seidenader Sarah, Mag. BEd Bakk. MEd"]
[90466035,"Riegler Cornelia, Mag."]
[90466036,"Lippitz Stefanie, Mag."]
[90466037,"Karner Corinna, BEd MEd"]
[90466038,"Ogris Julia, BEd MEd"]
[90466039,"Urank Dorian, BEd"]
[90466040,"Grillitsch Sandra, BEd"]
[90466041,"Juritsch Corinna Maria Kristina, BEd MEd"]
[90466042,"Wrolich Katarina, BEd"]
[90466043,"Aschbacher Mathias Bastian, BEd"]
[90466044,"Canham Louise, Mag."]
[90466045,"Fielke Karen"]
[90466048,"Kulter Lisa Nadine, Mag."]
[90466049,"Pasaricek Andrea, BEd MEd"]
[90466050,"Fradler Hannes, Mag."]
[90466051,"Strasser Martin"]
[90466052,"Messner Johannes"]
[90466053,"Wolf Julia"]
[90466054,"Stippich Victoria, BEd MEd"]
[90466055,"Papst Marie-Christin, BEd"]
[90466056,"Dobner Franziska, BEd"]
[90466057,"Astl Angela, MA BEd"]
[90466058,"Enko Caroline, MA BEd"]
[90466059,"Trauntschnig Tamara, BEd"]
[90466062,"Kossila Johanna, MA"]
[90466063,"Poschinger Sophie, BEd MEd"]
[90466064,"Reimüller Margit, Mag. BEd"]
[90466065,"Hopfgartner Lydia, BEd"]
[90466066,"Patterer Nicole, BEd MEd"]
[90466067,"La Regina Elisa, Mag."]
[90466068,"Suttnig Julia, BEd BA MEd"]
[90466069,"Suschnig Jenny, Mag. BEd"]
[90466070,"Mölschl Claudia, BEd"]
[90466071,"Fasching Bettina, BEd"]
[90466072,"Rotter Hannah, BEd"]
[90466073,"Gartner Katharina, BEd"]
[90466075,"Rotschopf Sonja, M.Ed. BEd"]
[90466076,"Prix Katharina, BEd"]
[90466077,"Polluk Eva-Maria, BEd MEd"]
[90466078,"Rudalics-Klinzer Maria, BEd BEd"]
[90466079,"Fasching Marko, BEd MEd"]
[90466080,"Penninger-Fröhlich Lisa, BEd"]
[90466081,"Raneg-Müller Denise, MMag."]
[90466082,"Franz Julia, BEd"]
[90466083,"Strasser Theresa, BEd MEd"]
[90466084,"Brugger Larissa, BEd"]
[90466085,"Weitlaner Theresa, BEd"]
[90466086,"Martinz Marion, BEd"]
[90466087,"Lagger Franziska, BEd"]
[90466088,"Scheiflinger Katharina, Mag."]
[90466089,"Lampret-Pacher Teja, Mag."]
[90466090,"Gugl Rainer, Mag. Dr. BA"]
[90466091,"Sternat Anna-Maria, BEd"]
[90466092,"Maierhofer Nina, BEd"]
[90466093,"Kainz Manuela, Mag. BEd"]
[90466094,"Kranicki Krzysztof, Mag. Dr."]
[90466095,"Costanza Fabio, MA BEd"]
[90466096,"Gruber Sabrina, Mag.phil."]
[90466098,"Ortner Jasmin, BEd"]
[90466099,"Schönfelder Sebastian, BEd MEd"]
[90466100,"Fritzl Mariella"]
[90466101,"Bin Angelo, BEd"]
[90466102,"Kusek Alen"]
[90466103,"Penz Jessica Bianca, BEd"]
[90466104,"Bucovnik Nina Maria, BEd"]
[90466105,"Origel Marlene, BA BEd"]
[90466106,"Wilhelmer Nora, Mag."]
[90466107,"Van Der Vlugt Natalja, BEd"]
[90466108,"Regenfelder Raphael, Mag."]
[90466109,"Salcher Galina, MMag."]
[90466110,"Merva Tatjana, BEd"]
[90466111,"Ibounig Valerian, BEd"]
[90466112,"Wilhelmer Stefanie, BEd"]
[90466113,"Bacher Lea, BEd MEd"]
[90466114,"Gasteiger Katharina, BEd"]
[90466115,"Schmalz Richard, Mag."]
[90466116,"Petritz Anna-Sophie, BEd"]
[90466117,"Katzian Michaela"]
[90466118,"Dorfer Katharina, BEd"]
[90466119,"Krassnig Raphaela, BEd"]
[90466120,"Kainz Nicole, BEd"]
[90466121,"Schmidthuber Caroline"]
[90466122,"Dornegger Gerhild, BEd"]
[90466123,"Schlemitz Simone, BEd"]
[90466124,"Melcher Tanja, Mag."]
[90466125,"Silic Edina, BA"]
[90466127,"Pucher-Popodi Isabell, DI"]
[90466128,"Enzi Silvana Victoria, Mag. BA"]
[90466129,"Egger Nina, BA MA"]
[90466130,"Ferlitsch Julia, BEd"]
[90466131,"Staudacher Anna Florentina, Mag."]
[90466132,"Ehrngruber Elisabeth"]
[90466133,"Kraxner Julia, BEd"]
[90466134,"Egger Miriam Natalie, BA BA MA"]
[90466135,"Aichholzer Julia, Mag."]
[90466136,"Konrad Daniel, BEd"]
[90466137,"Thurner Hannah, BEd MEd"]
[90466138,"Oezgisi Murat"]
[90466139,"Wedenig Sonja, Mag."]
[90466140,"Wutti Elena, BEd"]
[90466141,"Gallizia Chiara, Mag."]
[90466142,"Hall Jennifer"]
[90466143,"Gartner Anja, BEd"]
[90466144,"Leimer Lisa, Mag. BEd"]
[90466145,"Kompajn-Scherde Tamina-Melanie, BEd"]
[90466146,"Wurzer Mariana, BEd MEd"]
[90466148,"Politschar Jana, BEd"]
[90466149,"Marktl Daniela"]
[90466150,"Patterer Christina, BEd"]
[90466151,"Urf Julia"]
[90466152,"Mylchuk Andriana, BEd"]
[90466153,"Vrdoljak Mario, Ing.Mag."]
[90466154,"Krall Christina, BEd MEd"]
[90466155,"Jost Maria, BEd MEd"]
[90466156,"Fresser Jennifer, Mag. BSc"]
[90466157,"Pekec Ida Maria, BEd"]
[90466158,"Obweger Linda, BEd"]
[90466159,"Gratzer Katrin Stefanie, BEd"]
[90466160,"Hochstrasser Julia, BEd"]
[90466161,"Posch Lukas, BEd"]
[90466162,"Wuggonig Verena, BEd"]
[90466163,"Rappold Melanie, BEd MEd"]
[90466164,"Huber Anja, BEd"]
[90466165,"Kopeinig Stephanie Nicole"]
[90466166,"Hall Sarah, BEd"]
[90466167,"Sorger Marlene, BEd"]
[90466168,"Maritschnig Lisa, BEd"]
[90466169,"Guggenberger Thomas, BEd"]
[90466170,"Lagger Michael"]
[90466171,"Scheiber Stefan, Mag."]
[90466172,"Theuermann Sarah Anna, BEd"]
[90466173,"Amann-Radoczai Simon, BEd"]
[90466174,"Langhans Manuel, BEd BA MEd"]
[90466175,"Wachter Katrin, MA"]
[90466178,"Boffelli Giulia, MEd"]
[90466179,"Trevisan Maddalena, Mag."]
[90466180,"Messner Michelle, BEd"]
[90466181,"Tripold Claudia, Mag. BEd"]
[90466183,"Netzer Petra, BEd"]
[90466184,"Collett Kathrin, Mag."]
[90466185,"Ljevar Martina, BA MA"]
[90466186,"Valtiner Raimund"]
[90466187,"Kreuzer Christoph, BEd"]
[90466188,"Halilovic Anisa"]
[90466189,"Bürger Kathrin, BEd"]
[90466190,"Fritz Michael, DI(FH) MSc Bakk."]
[90466191,"Egger Janine Melanie, Mag."]
[90466192,"Liebetegger Viktoria, BEd BEd MEd"]
[90466193,"Botthof-Weißmann Barbara, DI"]
[90466196,"Taumberger Karin"]
[90466197,"Valladares-Melgar Hemma"]
[90466198,"Greilberger-Stocker Christa"]
[90466199,"Pöllinger Claudia"]
[90466201,"Stanz Agnes"]
[90466202,"Kamp Andrea"]
[90466203,"Martin Petra"]
[90466204,"Wieser Andrea"]
[90466205,"Stähle Angelika, Mag.(FH) BEd"]
[90466206,"Mohamed Al Amin Amir, Bakk."]
[90466207,"Prilasnig Daniela, Mag."]
[90466208,"Amenitsch Corinna"]
[90466210,"Uckermann Barbara"]
[90466211,"Zöhrer Isabella, BEd"]
[90466212,"Rieger-Lackner Martina"]
[90466213,"Ailec-Pirker Gabriela, BEd"]
[90466214,"Ouschan-Zidej Monika, BEd"]
[90466215,"Messner Tanja"]
[90466216,"Kazianka Alexandra"]
[90466217,"Oberlojer Rosemarie"]
[90466218,"Harrich Karin"]
[90466219,"Wassertheurer Christine"]
[90466220,"Sabotnik Elvira"]
[90466221,"Anthofer Daniela"]
[90466222,"Lekas Gabriele, BEd"]
[90466223,"Dullnig Elisabeth, BEd MEd"]
[90466224,"Schatz Marion, BEd"]
[90466225,"Miklin Heidemarie, BEd"]
[90466226,"Sittlinger Friedrich"]
[90466227,"Sickl Klaudia"]
[90466228,"De Zordo Nikola"]
[90466229,"Pirker Sonja"]
[90466230,"Irrenfried-Schicker Birgit"]
[90466231,"Biedermann Sibylle, BEd"]
[90466232,"Raupl Birgit, BEd"]
[90466233,"Heber-Romauch Susanne"]
[90466234,"Gaber Marianne, Ing."]
[90466235,"Knapp Martina"]
[90466236,"Thaler Margit"]
[90466237,"Eggeler Thomas"]
[90466238,"Leifhelm Eva"]
[90466239,"Smid Diana"]
[90466240,"Gaggl Karin"]
[90466241,"Bacher Christina"]
[90466242,"Pirker Manuela"]
[90466243,"Ramsbacher Manuela"]
[90466244,"Uznik Mirjam, BEd"]
[90466245,"Zammernig Elfriede, BEd"]
[90466246,"Wieser Barbara, BEd"]
[90466247,"Egger Silvia"]
[90466248,"Telsnig-Leitgeb Sonja"]
[90466249,"Brandstätter Heidemarie, BEd"]
[90466250,"Stanta Elisabeth"]
[90466251,"Hohenberger Bettina, BEd"]
[90466252,"Fraiß Claudia, BEd"]
[90466253,"Jury-Oleschko Cornelia"]
[90466254,"Aspernig Birgit, Mag."]
[90466255,"Zeiler Doris"]
[90466256,"Hanser Michaela"]
[90466257,"Maringer Birgit"]
[90466258,"Lippitsch Ulrich"]
[90466259,"Regittnig Katja"]
[90466260,"Friedrich Sabine, MMag.Dr."]
[90466261,"Thurner-Fixl Anabel"]
[90466262,"Rehsmann Vera"]
[90466263,"Pertl Gabriele"]
[90466264,"Seebacher Sieglinde"]
[90466265,"Zimmermann Heidrun, BEd"]
[90466266,"Reppnig Daniela"]
[90466267,"Weiß Manuela"]
[90466268,"Dohr Birgit"]
[90466269,"Flatschacher Claudia"]
[90466270,"Holzer Birgit"]
[90466271,"Felsberger Marlies"]
[90466272,"Rangetiner Manuela, Mag. BEd"]
[90466273,"Egger Hans"]
[90466274,"Riepl Birgit"]
[90466275,"Albrecht Barbara, BEd"]
[90466276,"Stauder Petra, Ing."]
[90466278,"Schwarz Eva-Maria"]
[90466279,"Ameisbichler Eva"]
[90466280,"Lobner-Keuschnig Dagmar, Mag."]
[90466281,"D'Angelo Sabine"]
[90466282,"Dorfer Birgit"]
[90466283,"Salcher Martina"]
[90466284,"Knezaurek Bernhard, BEd"]
[90466285,"Steinacher Silke, Mag. Dr. BEd"]
[90466287,"Kienzl Gerda"]
[90466288,"Ebner Michael, BA"]
[90466289,"Ressmann Antonia"]
[90466290,"Pirker Klaudia, Ing."]
[90466291,"Stauder Maria"]
[90466292,"Wrolich-Mosser Mirjam"]
[90466293,"Sticker Breda"]
[90466294,"Jabornig Andrea"]
[90466295,"Elwischger Eva, BEd"]
[90466296,"Michel Ute"]
[90466297,"Nachbar Tanja, BEd"]
[90466298,"Herndl Johanna, Mag."]
[90466299,"Mitsche Franziska, BEd"]
[90466300,"Kuchling Ingrid, MA BEd"]
[90466301,"Roth-Steinmetz Alice"]
[90466302,"Diemling Sabine"]
[90466303,"Scharwitzl Roman"]
[90466304,"Schuller Claudia"]
[90466305,"Perschak Sandra"]
[90466306,"Kriegl Gerlinde"]
[90466307,"Zehndorfer Anna, Mag."]
[90466308,"Reinhart Daniela"]
[90466309,"Blassnegger Maria"]
[90466310,"Mack Susanne, BEd"]
[90466311,"Reininger Karin"]
[90466312,"Knapp-Unterweger Jutta"]
[90466313,"Pflügl-Trupp Iris"]
[90466314,"Penker Ines, BEd"]
[90466315,"Jörg Edith"]
[90466316,"Salkanovic Jelena"]
[90466317,"Kauer Julia, MA BEd"]
[90466318,"Kosutnik Regina"]
[90466319,"Zeller Elisabeth, BEd"]
[90466320,"Pirker Eva, BEd"]
[90466321,"Kugler Verena"]
[90466322,"Buchegger Ilse, BEd"]
[90466323,"Steinwender Barbara, BEd"]
[90466324,"Plozner Sarah"]
[90466325,"Telsnig Frank, Mag. BEd"]
[90466326,"Krammer Armin"]
[90466327,"Raupl-Glanzer Sabine, BEd"]
[90466328,"Kollmitzer Verena"]
[90466329,"Karner Vera, BEd"]
[90466330,"Zlamy Rüdiger"]
[90466331,"Stelzl Wolfgang"]
[90466332,"Trutschnig Roland, Ing. BEd"]
[90466333,"Blajs-Rainer Elke"]
[90466334,"Eder Michael"]
[90466335,"Triebnig Josef-Jörg"]
[90466336,"Hriebernik Isabella, BEd"]
[90466337,"Petutschnig Irmgard, BEd"]
[90466338,"Berger Clarissa, MMag."]
[90466339,"Lesjak-Zdovc Michaela, BEd"]
[90466340,"Mautz Evelin"]
[90466341,"Tialler Eva, BEd"]
[90466343,"Petritz Christina"]
[90466344,"Rauter-Werl Susanne"]
[90466345,"Köfer Evelyn, Mag."]
[90466346,"Aradini Feride"]
[90466347,"Markt Sabine"]
[90466348,"Lackner Alexandra"]
[90466349,"Gschwandtner Klaudia"]
[90466350,"Slunka Michaela"]
[90466351,"Steinwender Maria"]
[90466352,"Schmölzer Ingrid"]
[90466353,"Brigola Peter, Ing."]
[90466354,"Natmeßnig Hergund, Mag."]
[90466355,"Kramer Anita"]
[90466356,"Kordesch Michaela"]
[90466357,"Wucherer-Hug Isabell, BEd"]
[90466358,"Dörflinger Erika, Mag."]
[90466359,"Kainz Bernhard"]
[90466360,"Pacher Sabine, Mag."]
[90466361,"Klopf Ursula"]
[90466362,"Koch Christine"]
[90466363,"Wohlmuther Irmgard, BEd"]
[90466365,"Weitensfelder Josef"]
[90466366,"Wernle Ina"]
[90466367,"Waldl Peter"]
[90466368,"Kraule Hannelore"]
[90466369,"Lamprecht Sylvia"]
[90466370,"Orasche-Cuche Silvana"]
[90466371,"Greiner Sabine, Mag."]
[90466372,"Baumgartner Alexandra"]
[90466373,"Urbanz Jasmine"]
[90466374,"Selecov Elisabeth, BEd"]
[90466375,"Jäger Cornelia"]
[90466376,"Ogris Eva"]
[90466377,"Eberhard-Londer Verena, BEd"]
[90466378,"Moser-Kienberger Elfriede, BEd"]
[90466379,"Kulle-Hudelist Michaela"]
[90466380,"Petritsch Daniela"]
[90466381,"Branz-Schorn Alexandra, BEd"]
[90466382,"Jahn Marianne, BEd"]
[90466383,"Kusej Claudia, BEd"]
[90466384,"Reithofer Martina"]
[90466385,"Gomernik Brigitte, BA"]
[90466386,"Blaschitz Petra"]
[90466387,"Fercher Klaudia"]
[90466388,"Temel Claudia"]
[90466389,"Nusko-Grün Ruth"]
[90466390,"Petzmann Petra, BEd"]
[90466391,"Grieser Eva-Maria, BEd"]
[90466392,"Modre Carmen, Mag."]
[90466393,"Travnik Lukas"]
[90466394,"Schaubach-Schumi Martina, BEd"]
[90466395,"Hankusic Mediha"]
[90466396,"Gsodam Klaus, BEd"]
[90466397,"Laussegger Andreas"]
[90466398,"Demoser Herbert, BEd"]
[90466399,"Schall Verena"]
[90466400,"Spatny Anton, BEd"]
[90466401,"Assek Nadja"]
[90466402,"Kampusch Sonja, BEd"]
[90466403,"Unterholzer Daniela"]
[90466404,"Zellacher Gerhild"]
[90466405,"Welik Erwin"]
[90466407,"Hohenwarter Karin"]
[90466408,"Polesnig Sophie, BEd"]
[90466409,"Gritzner Andrea, BEd"]
[90466410,"Sarny Birgit, BEd"]
[90466411,"Huber Gabriele"]
[90466412,"Zwanziger Karin"]
[90466413,"Lesiak Christine, BEd"]
[90466414,"Feichtinger Eva-Maria, Mag."]
[90466415,"Hochwartner Brucha"]
[90466416,"Policar Doris"]
[90466417,"Stubinger Verena, BEd"]
[90466418,"Isop Patricia"]
[90466419,"Körbler-Scherer Claudia, BEd"]
[90466420,"Mikula-Amplatz Alexandra, BEd"]
[90466421,"Marold Jasmin"]
[90466422,"Tritthart Manuela"]
[90466423,"Schlintl Gerlinde, BEd"]
[90466424,"Karner Heike, BEd"]
[90466425,"Deiser Desiree, BEd"]
[90466426,"Heiser Daniela"]
[90466427,"Tischler Maria, Mag."]
[90466428,"Ottowitz Josef"]
[90466429,"Langegger Hans Jürgen"]
[90466430,"Reiter Kathrin"]
[90466431,"Plattner Christine"]
[90466432,"Kall Christine, BEd"]
[90466433,"Molitschnig Sabrina, BEd BA MA"]
[90466434,"Mossegger Eveline, Mag."]
[90466435,"Edlinger Petra, BEd"]
[90466436,"Gerstner Siegrun"]
[90466437,"Prisslan Beate"]
[90466438,"Zobernig Verena, Mag."]
[90466440,"Hansche Michael, BEd"]
[90466441,"Hofmann Verena"]
[90466442,"Glas-Esterl Stefanie"]
[90466443,"Egger Franz"]
[90466444,"Brandner Angelika"]
[90466445,"Beier Bernhard, Mag."]
[90466446,"Preschern Ulrike, Ing."]
[90466447,"Einspieler Janja"]
[90466448,"Gabalier Anna Maria, BA MA"]
[90466449,"Sauer Simone, BEd"]
[90466450,"Pöcher Chlothilde, BEd"]
[90466451,"Paulitsch Anita, Mag."]
[90466452,"Taschek Patrizia, Mag."]
[90466453,"Urleb Mark, BEd"]
[90466454,"Kandemir Feyyaz"]
[90466455,"Rasras Denana"]
[90466456,"Trap Andrea"]
[90466457,"Lagger Heidrun"]
[90466458,"Ortner Sabine, Mag. BEd"]
[90466459,"Volleritsch Lydia"]
[90466460,"Maier Karl"]
[90466461,"Knauder Tanja"]
[90466462,"Poppernitsch Robert, BEd"]
[90466463,"Ertler Karin, Ing."]
[90466464,"Walder Claudia"]
[90466466,"Kap Simon, BEd"]
[90466467,"Gratl Birgit"]
[90466468,"Rekelj Bernhard"]
[90466469,"Kerschhakl Roman"]
[90466470,"Schemmel Sandra, BEd"]
[90466471,"Tritthart Wolfgang"]
[90466472,"Stückler Rainer"]
[90466473,"Labernig Sandra"]
[90466474,"Winkler Brigitte, BEd"]
[90466475,"Jerne Sabine"]
[90466476,"Maier Elisabeth"]
[90466477,"Feichtinger Thomas"]
[90466478,"Feldkircher Natascha, BEd"]
[90466479,"Gratzer Martina"]
[90466480,"Zwander Heike, BEd"]
[90466481,"Fellner-Mehringer Tanja, BEd"]
[90466482,"Fleischhacker Markus, BEd"]
[90466483,"Hirsnik Verena, BEd"]
[90466484,"Begusch-Oberdünhofen Barbara"]
[90466485,"Havlicek Heidrun, BEd"]
[90466486,"Oberscheider Sandra"]
[90466488,"Srienc Ines Walburga"]
[90466489,"Zavodnik Michaela, BEd"]
[90466490,"Otti Christina, MA BEd"]
[90466491,"Kleinsasser Gabriele, MA BA BEd"]
[90466492,"Otti Claudia"]
[90466493,"Hafner Larissa, BEd"]
[90466494,"Rassl Karin, BEd"]
[90466495,"Morgenstern Simone, Mag. Bakk."]
[90466496,"Rabensteiner Eva-Maria, BEd"]
[90466497,"Rassl Benjamin, BEd"]
[90466498,"Jerlich Christina, BEd"]
[90466499,"Frießnegger Tamara, BEd"]
[90466500,"Schildberger Sabine"]
[90466501,"Lerchenberger Verena, BEd"]
[90466502,"Glantschnig Eva, BEd MEd"]
[90466503,"Raunig Petra"]
[90466504,"Janach Elke"]
[90466505,"Oberlerchner Kathrin, BEd"]
[90466506,"Schleschitz Christina, BEd BEd"]
[90466507,"Kolbitsch Daniela, Ing."]
[90466508,"Glader Victoria, BEd"]
[90466509,"Travnik Heidemarie, BEd"]
[90466511,"Schnepf Dagmar"]
[90466512,"Strucl Natasa, BEd"]
[90466513,"Wohlgemuth Barbara, BEd"]
[90466514,"Gneist Susanne"]
[90466515,"Schmid Daniela"]
[90466516,"Zmölnig Manuela"]
[90466517,"Gobeljic Adnan"]
[90466518,"Stuhlpfarrer Doris, BEd"]
[90466519,"Oraze Anja, BEd BEd"]
[90466520,"Petscharnig Michaela, BEd"]
[90466521,"Palle Conny, MA BEd"]
[90466523,"Grentner Eva, BEd"]
[90466524,"Bertl-Degenhardt Birgit"]
[90466525,"Kassl-Drobesch Christine"]
[90466526,"Kitz Iris"]
[90466527,"Koroschetz Angelika, BEd"]
[90466528,"Stinig Anita"]
[90466529,"Krause Marina, BEd"]
[90466530,"Schaller Anja, BEd BEd"]
[90466531,"Petschnig Sabrina"]
[90466532,"Prix Christina"]
[90466533,"Matti Kate, BA"]
[90466534,"Steiner Petra, BEd"]
[90466535,"Moser Renate, BEd"]
[90466536,"See-Plesiutschnig Melanie"]
[90466537,"Andrä Katharina, BEd"]
[90466538,"Zlattinger Marlene"]
[90466539,"Ottmann Johann, BEd"]
[90466540,"Meissner Bettina, Mag.(FH)"]
[90466541,"Pertl Hans-Peter, BEd"]
[90466542,"Wrulich Christian, BEd"]
[90466543,"Kreutz Tomaz, BEd"]
[90466544,"Stuck Martin, BEd"]
[90466545,"Tributsch Christiane, BEd"]
[90466546,"Sturm-Hartmann Gabriel, MSc BEd"]
[90466547,"Kargl Kathrin"]
[90466548,"Wuggenig-Holzfeind Viktoria, BEd BEd"]
[90466549,"Huditz Engelbert, Mag. BEd"]
[90466550,"Höving Barbara"]
[90466551,"Reichmann Manuela, MA BEd"]
[90466552,"Payer-Wolfger Stefanie, BEd BEd"]
[90466553,"Pertl-Radic Cornelia"]
[90466554,"Salcher Leo"]
[90466555,"Pasterk Sara, BEd"]
[90466556,"Kolar Gerfried, BEd"]
[90466557,"Bissinger Andrea, BEd"]
[90466558,"Grasslober Eva-Maria, BEd"]
[90466559,"Hehn Corinna, BEd"]
[90466560,"Kuschnig Silke"]
[90466561,"Marjanovic Klaudija, BEd"]
[90466562,"Kabas Birgit, Mag. BEd"]
[90466563,"Jantschgi Petra, BEd"]
[90466564,"Luschnig Barbara, BEd BEd"]
[90466566,"Ivad Iris, BEd BEd"]
[90466567,"Kordesch Verena, BEd"]
[90466568,"Weißenbacher Marina, BEd"]
[90466569,"Cerpes Andrea, BEd"]
[90466570,"Zwanzger Marlene, Mag."]
[90466571,"Rebula Manca"]
[90466572,"Lippusch Martina, BEd BEd"]
[90466573,"Nössler Andrea, Bed MA MEd"]
[90466574,"Schumacher Carolina, BEd"]
[90466575,"Krainer Alexandra, BEd BEd"]
[90466576,"Sebernig Monika, BEd"]
[90466577,"Schultermandl-Dohr Karin, BEd"]
[90466578,"Kogler Elisa, BEd"]
[90466579,"Vallant Julia, BEd"]
[90466580,"Brandstätter Michaela, BEd"]
[90466581,"Schaubach Martina, BEd BEd"]
[90466582,"Suppan Christina, BEd BEd"]
[90466583,"Woschitz Mario, BEd"]
[90466584,"Freytag-Reichel Berenike"]
[90466585,"Mohl Barbara"]
[90466586,"Vallant Eva Maria, BEd BEd"]
[90466587,"Brunner Daniela, BEd BEd"]
[90466588,"Gschwind Katja, Mag. BEd"]
[90466589,"Pucher Kerstin, BEd"]
[90466590,"Possegger Maria-Luise, BEd"]
[90466591,"Glas Judith, BEd"]
[90466592,"Biebl Barbara, BEd"]
[90466593,"Rießer Johannes, BEd"]
[90466594,"Gruber Martina, BEd"]
[90466595,"Sima Janko, BEd"]
[90466596,"Brunner Hemma, BEd"]
[90466597,"Maier Martina, MMag. BEd"]
[90466598,"Angerer Andrea, MA"]
[90466599,"Kotschar Patrik, BEd"]
[90466600,"Kirchmeir Andrea, Mag. BEd"]
[90466601,"Buchner Judith, BEd BEd"]
[90466602,"Stauder Fabienne, BEd"]
[90466603,"Apold Ingrid, Mag. BEd"]
[90466604,"Gorgasser Martin, BEd"]
[90466605,"Gruber Nicole"]
[90466606,"Jarz Doris"]
[90466607,"Klemmer Marco, BEd"]
[90466608,"Bellina Christina, BEd"]
[90466609,"Lederer Sabrina, BEd"]
[90466610,"Liebenwein Claudia"]
[90466611,"Oberlojer Beate, BEd"]
[90466612,"Oswaldi Silke, BEd BEd"]
[90466613,"Mayer Sarah, BEd"]
[90466614,"Robitschko Michaela"]
[90466615,"Gruber Andrea, BEd"]
[90466616,"Steinwender Peter, BEd"]
[90466617,"Güttersberger Julia, BEd"]
[90466618,"Unkart Alina, MA"]
[90466619,"Waltritsch Andrea, BEd"]
[90466621,"Keuschnig Nadja, BEd"]
[90466622,"Müller Lisa, BEd BEd"]
[90466623,"Uznik Silke, BEd"]
[90466624,"Illgoutz Nicole, Mag. BEd"]
[90466625,"Wedenig Andrea, BEd BEd MEd"]
[90466626,"Reppe Eva, BEd BEd"]
[90466628,"Berger Jessica, BEd BEd"]
[90466629,"Kitz Kathrin, BEd BEd"]
[90466630,"Koller Julia, BEd"]
[90466631,"Brunner Nadine, BEd"]
[90466632,"Omelko Karoline, BEd BEd"]
[90466633,"Mairitsch Larissa, BEd"]
[90466634,"Grilc Carina, BEd BEd"]
[90466635,"Grieser Karin, BEd"]
[90466636,"Blajs Bianca, BEd"]
[90466637,"Huber Silvia"]
[90466638,"Stocker Isabell, BEd BEd"]
[90466639,"Scheriau Sandra, BEd"]
[90466640,"Sommerhuber Dieter, Ing."]
[90466641,"Lecher Helga, Mag. BEd"]
[90466642,"Biderbost Annette, BEd"]
[90466643,"Habernig Anja"]
[90466644,"Gratzer Johannes, BEd"]
[90466645,"Golob Dagmar"]
[90466646,"Steiner Kate, BEd"]
[90466647,"Plassnig Denise, BEd BEd"]
[90466648,"Schaffer Sandra, BEd BEd"]
[90466649,"Weiler Clemens, BEd"]
[90466650,"Moll Julia, BEd"]
[90466651,"Keuschnig Christof, BEd"]
[90466652,"Kucher Christopher, BEd"]
[90466653,"Urank Rafael, BEd"]
[90466654,"Greßl Martina, MA BEd"]
[90466655,"Tiefenbacher Marissa, MA BEd"]
[90466656,"Furlan Monika, BEd"]
[90466657,"Drußnitzer Philip, BEd"]
[90466658,"Furjan Natalja, BEd"]
[90466659,"Katnik Sonja, BEd BSc"]
[90466660,"Glabischnig-Maroschek Susanne, BEd BEd"]
[90466661,"Trattnig Nina, BEd"]
[90466662,"Nisic Zijada, BEd"]
[90466663,"Weiß Silke, BEd"]
[90466664,"Wutte Jennifer, BEd"]
[90466665,"Schaubach Christina, BEd"]
[90466666,"Pichler Karin, BEd"]
[90466667,"Ortner Elisabeth, BEd"]
[90466668,"Rabitsch Lisa Stefanie, BEd MEd"]
[90466669,"Pavic Martina, BEd"]
[90466670,"Grilc Kathrin, BEd"]
[90466671,"Krobath Nadine, BEd"]
[90466672,"Hochenwarter Christina, BEd"]
[90466673,"Kobler Martin Stefan, Mag. BEd"]
[90466674,"Pitschek Amber, BEd"]
[90466675,"Ortner Ingrid Maria, Mag. BEd"]
[90466677,"Knezevic Pia Marie, MA BEd"]
[90466678,"Perdacher Verena Anna, BEd"]
[90466679,"Moser Lisa Alina, MA BEd"]
[90466680,"Strasser-Strmenik Julia Katharina, BEd"]
[90466681,"Brkic Anes"]
[90466682,"Leeb Elisabeth, MA BEd"]
[90466685,"Trutschnig Christina, BEd"]
[90466686,"Mörtl Ute, Mag. BEd"]
[90466687,"Tschabuschnig Gert, BEd"]
[90466689,"Mak Tanja, BEd"]
[90466690,"Juritsch Melanie, BEd"]
[90466691,"Fercher Alexandra, BEd"]
[90466692,"Adlaßnig Andrea, Mag. BEd"]
[90466693,"Hofer Anna Katharina, BEd"]
[90466694,"Wiedenig Kristina, BEd"]
[90466695,"Duric Danijela"]
[90466696,"Gizowski Christina, BEd"]
[90466697,"Aigner Anna, BEd"]
[90466698,"Waltl Helmut, Mag. BEd"]
[90466699,"Schwarz Margit, BEd"]
[90466700,"Naeve Ariane"]
[90466701,"Greiner Anja, BEd"]
[90466702,"Weratschnig Sarah Anna, BEd"]
[90466703,"Praster Alexandra, BEd"]
[90466704,"Supantschitsch Bernadette, BEd"]
[90466706,"Wladasch Angelika, Mag."]
[90466707,"Kuttnig Birgit Maria, BEd"]
[90466708,"Jabornig Victoria, BEd"]
[90466709,"Kogler Barbara, MA BEd"]
[90466710,"Wohlmuth Tanja, MA BEd"]
[90466711,"Mack Annalena, BEd"]
[90466712,"Bachler Eva-Maria, BEd"]
[90466713,"Meyer Christina, BEd"]
[90466714,"Robinig Bernhard, BEd"]
[90466715,"Neuner Ulrike, BEd"]
[90466716,"Pertl Dominik, Mag."]
[90466717,"Oberländer Daniel, Mag."]
[90466719,"Hanin Vanessa, BEd"]
[90466720,"Steger Christina, BEd"]
[90466722,"Klingbacher Michaela, Mag."]
[90466723,"Blantar Jasmin, BEd"]
[90466725,"Srienz Christian, BEd"]
[90466726,"Raab Laura, BEd"]
[90466727,"Schöffmann-Suan Rosemarie, BEd"]
[90466728,"Brandner Lisa, BEd"]
[90466729,"Mischkounig Esther"]
[90466730,"Wassertheurer Monika, Mag."]
[90466731,"Wernig Lukas, Mag."]
[90466732,"Kadisch Jennifer, Mag."]
[90466733,"Pichler Nicole, BEd"]
[90466734,"Axmann Elisabeth, BA"]
[90466735,"Lippe Silke, BEd"]
[90466736,"Allmann Katrin Julia, Mag."]
[90466737,"Grascher Yvonne, Mag."]
[90466738,"Adam Christine, Mag. BA"]
[90466740,"Skreinig Bettina, Bakk."]
[90466741,"Mandler Marcel, Mag."]
[90466742,"Pobatschnig-Benko Raphaela, Mag."]
[90466744,"Pinter Christian, BEd"]
[90466745,"Latschen Victoria, Mag."]
[90466746,"Suntinger Julia Elisabeth, BEd"]
[90466747,"Schmid Nadja Maria, BEd MEd"]
[90466748,"Bindeus Miriam, Mag."]
[90466749,"Buchleitner Bettina, BEd"]
[90466750,"Feinig Mario, Mag."]
[90466751,"Aschgan-Tesic Claudia Angela, BEd"]
[90466752,"Audino Maria Chiara, BEd MEd"]
[90466753,"Mistelbauer Tereza, BEd MEd"]
[90466754,"Hofer Bettina, BEd MEd"]
[90466755,"Zwischenberger Anja, BEd"]
[90466756,"Blasge Katharina, BEd MEd"]
[90466757,"Mrawczynski Marcin"]
[90466758,"Häusl Vad Sona, Mag."]
[90466760,"Zraunig Armin, DI(FH)"]
[90466761,"Arti Milan, DI MSc MEd"]
[90466763,"Wauch Susanna, BEd MEd"]
[90466764,"Blaikner Sylvia, BEd"]
[90466765,"Lamprecht Petra, MA MA MEd"]
[90466766,"Rudolf Christina, BEd MEd"]
[90466767,"Sadnikar Irina, BEd"]
[90466768,"Hobel Ines Christina, BEd MEd"]
[90466769,"Markitz Simona, BEd"]
[90466770,"Medlin Simone, Mag."]
[90466771,"Knabl Barbara, Mag. BEd"]
[90466772,"Köberl Ursula, Mag. BEd"]
[90466773,"Solnier Marina, BEd"]
[90466774,"Tiffner Julia, BEd"]
[90466775,"Fröhlich-Steiner Nadine, MA BEd"]
[90466776,"Neuhold Rafaela, BEd"]
[90466777,"Mosser Teresa, Mag. BEd"]
[90466778,"Dolzer Jennifer, M.Ed."]
[90466779,"Klammer Sarah, BEd MEd"]
[90466780,"Ogradnig Thomas, BEd MEd"]
[90466781,"Stermann Chiara, BEd MEd"]
[90466782,"Wiedenig Victoria, BEd"]
[90466783,"Schüler Katharina, BEd"]
[90466784,"Wank Christina, BA BA BEd MA"]
[90466785,"Appe Alina, BEd MEd"]
[90466786,"Seebacher Raphaela, Mag."]
[90466787,"Stromberger Christine Maria, BEd MEd"]
[90466788,"Goldberger Eva"]
[90466789,"Gutschi Barbara"]
[90466790,"Petutschnig Margit, BEd"]
[90466791,"Grilz Helga"]
[90466792,"Baumann Claudia"]
[90466793,"Stürzl Ulrike"]
[90466794,"Fekonja Sandra"]
[90466795,"Kronig Martina"]
[90466796,"Scheurer Michaela"]
[90466797,"Kraxner Michaela"]
[90466798,"Radl Sonja"]
[90466799,"Mlecnik-Acquaviva Birgit"]
[90466800,"Moßbauer Birgit"]
[90466801,"Homer Kornelia"]
[90466802,"Ivad Natascha, BEd"]
[90466803,"Tripolt Gerlinde"]
[90466804,"Angermann Eva"]
[90466805,"Nusko Michael"]
[90466806,"Bergmann Karola"]
[90466807,"Tischler Judith"]
[90466808,"Olip Lucija"]
[90466809,"Holdernig Kerstin, BEd"]
[90466810,"Mlinar Christina, BEd"]
[90466811,"Scheider Dieter, Dr."]
[90466812,"Laßnig-Diessner Helga"]
[90466813,"Lutnik Olga, BEd"]
[90466814,"Lesjak Ines, BEd"]
[90466815,"Mak Vesna, BEd"]
[90466816,"Egger Alexandra"]
[90466817,"Stramitzer-Steiner Susanne"]
[90466818,"Auer-Langmann Martina, Mag."]
[90466819,"Dabringer Regina, BEd"]
[90466820,"Gietler Karl, Mag. Dr."]
[90466821,"Krall Julia"]
[90466822,"Kargl Sonja"]
[90466823,"Penker Petra, BEd"]
[90466824,"Murray Daniela"]
[90466825,"Wolte Sabine"]
[90466826,"Steiner Gudrun"]
[90466827,"Loser Alexandra"]
[90466828,"Albel Elisabeth, BEd"]
[90466829,"Grilc Cornelia"]
[90466830,"Schaller Karin, BEd BEd MA"]
[90466831,"Stürzenbecher-Lebitsch Christiane"]
[90466832,"Feindt Eva"]
[90466833,"Strobl Barbara"]
[90466834,"Dohr Hubert, BEd"]
[90466835,"Streit Claudia, BEd"]
[90466836,"Kolig Mirjam, Mag."]
[90466837,"Telsnig Martina"]
[90466838,"Wernisch Daniela, Mag. BEd"]
[90466840,"Kofler-Heyrowsky Susanne"]
[90466841,"Murnig Sabine"]
[90466842,"Olip Milena"]
[90466843,"Doujak Katharina"]
[90466844,"Moser Simone"]
[90466845,"Heyden-Küffe Alexandra"]
[90466846,"Koch Johanna"]
[90466847,"Wulz Katja, BEd"]
[90466848,"Ambrus Alexandra, Mag."]
[90466849,"Jamnig Daniel"]
[90466850,"Salzmann Gertraud"]
[90466851,"Moser Sandra"]
[90466852,"Kainz Sabine, BEd"]
[90466853,"Strauß Manuela"]
[90466854,"Albaner Carinna"]
[90466855,"Fatzi Monika"]
[90466856,"Schreibmajer Günther"]
[90466857,"Kienzl Martina, Mag."]
[90466858,"Kienberger Astrid"]
[90466859,"Strak Joana, BEd"]
[90466860,"Traußnig Sonja"]
[90466861,"Arneitz Birgit"]
[90466862,"Marx Ines, BEd"]
[90466863,"Träger Uwe, Mag."]
[90466864,"Pajic Vladan, BEd"]
[90466865,"Klatzer Birgit"]
[90466866,"Siencnik Larissa"]
[90466867,"Obersteiner Gerit"]
[90466868,"Waschnig Sandra, BEd"]
[90466869,"Rappitsch Romana, BEd"]
[90466870,"Kogler Claudia"]
[90466871,"Stuck Natascha, BEd"]
[90466872,"Pernusch Alexandra"]
[90466873,"Lackner Andrea, BEd"]
[90466874,"Huber Bernd"]
[90466875,"Gregori Magdalena, Mag. MA BA BEd"]
[90466876,"Primosch Daniela"]
[90466877,"Poppernitsch Katharina, BEd"]
[90466878,"Opetnik Carmen"]
[90466879,"Ramsbacher-Ranner Monika, BEd"]
[90466880,"Oberrauner Sabine, BEd"]
[90466881,"Sommeregger Cornelia, BEd"]
[90466882,"Predota Elisabeth, BEd"]
[90466883,"Candolini Christina, BEd"]
[90466884,"Gräfitsch Christoph, BEd"]
[90466885,"Rassi Nadja"]
[90466886,"Niedermühlbichler Tanja"]
[90466887,"Mutzel Veronika"]
[90466888,"Lagger Monika"]
[90466889,"Spath Barbara, BEd"]
[90466890,"Oraze-Vavti Tatjana, BEd"]
[90466891,"Kraigher Doris"]
[90466892,"Trimborn Renate, Mag. BEd"]
[90466893,"Leitner Barbara, Mag.Pharm."]
[90466894,"Wutte Karl"]
[90466895,"Sorko Christina"]
[90466896,"Fellner Sandra, BEd"]
[90466897,"Karl Corinna, BEd"]
[90466898,"Zankl Milena, Mag.(FH) BEd BEd"]
[90466899,"Köfler Sonja, BEd"]
[90466900,"Sommeregger Heide, BEd"]
[90466901,"Kreutz-Mandl Maria, BEd"]
[90466902,"Prettner Andrea, BEd"]
[90466903,"Olip Petra"]
[90466904,"Müller Harald, BEd"]
[90466905,"Pototschnig Doris"]
[90466906,"Schranzer Eva"]
[90466907,"Hainzl Andrea, BEd"]
[90466908,"Hoffmann Bettina, BEd"]
[90466909,"Schweiger Elke"]
[90466910,"Ressi Andreas, Mag.(FH) BEd"]
[90466911,"Schuschu Nicole, BEd"]
[90466912,"Ipati Lilia"]
[90466913,"Kogler Sarah, BEd"]
[90466914,"Pirmann Lisa, BEd BEd MEd"]
[90466915,"Bach Alexander, DDr. BEd"]
[90466916,"Malle Lisa, BEd"]
[90466917,"Mölcnik Bernadette, BEd BEd"]
[90466918,"Foith Katrin, BEd"]
[90466919,"Rassi Sandra"]
[90466920,"Friesacher Evelyn"]
[90466921,"Huber Alexandra"]
[90466922,"Knauder Thomas, BEd"]
[90466923,"Mayer-Sommeregger Miriam, BEd"]
[90466924,"Tatschl Nicole, BEd"]
[90466925,"Barrazutti Simone, BEd"]
[90466926,"Wohinz Melita, BEd"]
[90466927,"Ulrich Lisa, BEd BEd"]
[90466928,"Probst Heribert, BEd"]
[90466929,"Roppatsch Marion, Mag. BEd"]
[90466930,"Sadjak Nadja, BEd"]
[90466931,"Pötscher Carmen, BEd"]
[90466932,"Stark Madeleine, MA BEd"]
[90466933,"Drießler Petra, Ing."]
[90466934,"Müller Miro, BEd"]
[90466935,"Bozanovic Michael"]
[90466936,"Herr Melanie, BEd"]
[90466937,"Fugger Melissa, BEd"]
[90466938,"Rutar Elena, BEd"]
[90466939,"Boschitz Denise, BEd"]
[90466940,"Babic Valentina, BEd"]
[90466941,"Pengic Edita, BEd"]
[90466943,"Krapesch Franziska, BEd"]
[90466944,"Pascher Sandra, BEd"]
[90466945,"Zimmerl Katharina, Mag. BEd"]
[90466946,"Mehmedovic Fatima"]
[90466947,"Buxbaumer Klaudia, Mag."]
[90466950,"Lederer Laura, BEd"]
[90466952,"Ebner Isabell"]
[90466953,"Meißnitzer Corinna, BEd"]
[90466954,"Vallant Sabrina, BEd MEd"]
[90466955,"Stocker Tamara, BEd"]
[90466956,"Geyer Caroline"]
[90466957,"Rumbold Sabine"]
[90466958,"Thalbauer Gernot"]
[90466959,"Sternik Susanne"]
[90466960,"Tscheru Susanne"]
[90466961,"Loibnegger Angelika, BEd"]
[90466962,"Maurel Rita"]
[90466963,"Kadiunik Waltraud"]
[90466964,"Gobald-Trey Marianne"]
[90466965,"Martin Petra, BEd"]
[90466966,"Wallner Birgit"]
[90466967,"Illaunig Elisabeth"]
[90466968,"Prochazka Christine, Mag. MA BEd"]
[90466969,"Dugulin Silvana"]
[90466970,"Rössler Claudia"]
[90466971,"Zupanc Kathrin, BEd"]
[90466972,"Wiltsche Vincent, MA BEd"]
[90466973,"Schneeberger Rivana"]
[90466974,"Wuzella Brigitta"]
[90466976,"Oraze-Kert Maria, BEd"]
[90466977,"Seiß Ingo"]
[90466978,"Tomasch Claudia"]
[90466979,"Kienberger Christian"]
[90466980,"Prodinger Cornelia, BEd"]
[90466981,"Koch Daniel, BEd"]
[90466982,"Nachbar Vladimir, BEd"]
[90466983,"Hopfgartner Christine, BEd"]
[90466984,"Kues Anita"]
[90466986,"Pucher Andrea, MA BEd"]
[90466987,"Woschitz Katharina, BEd"]
[90466988,"Glanzer Iris, BEd"]
[90466989,"Asprian Stefan, BEd"]
[90466992,"Jordan Luzia"]
[90466993,"Münzer Angela, BEd"]
[90466994,"Schiller Claudia"]
[90466995,"Paintner Daniela"]
[90466996,"Holzer Maria"]
[90466997,"Kopp-Jörke Susanne"]
[90466998,"Krainer Kerstin, BEd"]
[90466999,"Steiner-Köferle Bettina, Mag. BEd"]
[90467003,"Oschwaut Josef, BEd"]
[90467004,"Gandorfer Sabina, BEd"]
[90467005,"Kogler Sylvia, BEd"]
[90467006,"Figoutz Karin, BEd"]
[90467007,"Figo Sabine"]
[90467008,"Lewe-Schmiedmeier Sabine, BEd"]
[90467009,"Pingist Patrizia, Ing. BEd"]
[90467012,"Felsberger Ines"]
[90467013,"Winkler-Lube Alexandra, MA BEd"]
[90467016,"Pipp Evelyn"]
[90467017,"Stiegler Christine"]
[90467018,"Graner-Hoi Marion"]
[90467019,"Magliulo Tanja, BEd"]
[90472167,"Stocker Corinna, BEd"]
[90472172,"Krassnitzer Lisa, Mag."]
[90472304,"Kasmanhuber Elena, BEd"]
[90472353,"Draxl Laura, BEd"]
[90472371,"Jammer Christopher, BEd"]
[90472390,"Ponikiewska Christian, BEd"]
[90472391,"Slugovc-Sternad Marcella, Mag."]
[90472400,"Nikolla Bernard, Mag."]
[90472500,"Thullmann Thomas, Mag."]
[90472535,"Stückler Stefanie, Mag."]
[90472540,"Sagmeister Nicole"]
[90472586,"Kosjek Angelika, MEd BSc BEd"]
[90472587,"Scheiflinger Bernadette, BEd"]
[90472656,"Sliskovic Kristina"]
[90472665,"Orsario Katharina, Mag."]
[90472679,"Pejic Ante, BEd"]
[90472783,"Rosenzopf Silke, Mag."]
[90472825,"Thonhauser Jasmin, BEd"]
[90472835,"Groß Christoph"]
[90472866,"Pirker Anna, BEd"]
[90472869,"Bürger Anna, BEd"]
[90473049,"Mitsche Daniela, Mag."]
[90473057,"Egger Anja, BEd"]
[90473097,"Wolfger Theresa, BEd"]
[90473106,"Herzeg Eva, Mag.phil. BEd"]
[90473243,"Wank Julia, Mag."]
[90473396,"Kofler Martina, BEd"]
[90473810,"Hudl Margarita"]
[90473900,"Schuster Iris, BEd"]
[90473980,"Prenn Karoline, BEd"]
[90474004,"Guggenberger Julia, BSc"]
[90474230,"Krassnig Corinna, Mag."]
[90474488,"Pucher Magdalena"]
[90474734,"Winkler Kristina, BEd"]
[90475650,"Friedl Julia, BEd"]
[90475748,"Genser Andrea, Mag.phil."]
[90475763,"Ladinig-Schniederitsch Elisabeth, BEd"]
[90475786,"Ranacher Franziska, BEd"]
[90475810,"Hofstätter Lisa"]
[90475833,"Rutter Ursula, BEd"]
[90475936,"Hinteregger Laura, BEd MEd"]
[90475979,"Brugger Arian, BEd"]
[90475984,"Moser Martin, BEd"]
[90476039,"Pirolt Theresa, BEd"]
[90476114,"Ibounig Felizian, BA"]
[90476222,"Stich Regina, Mag.phil."]
[90476415,"Morlock Nadine, Mag. BEd"]
[90476444,"Ebner Xenia"]
[90476493,"Zagar Dunja, Mag."]
[90476502,"Possautz Pascale, BEd"]
[90476564,"Schwab Elisabeth, MA"]
[90477171,"Sandgruber Isabella, MSc BEd"]
[90477227,"Lubi Verena Maria, BEd"]
[90477249,"Greibl Kathrin, Mag. Dr."]
[90477275,"Fischbacher Simone, Mag."]
[90477368,"Feodorow Nina, BEd"]
[90477713,"Jamnig Tiffany"]
[90478147,"Stangl Andrea, BEd"]
[90478353,"Sereinig Jacqueline, Mag.phil."]
[90478489,"Zuschin Stefanie, BEd"]
[90478533,"Thonhauser Amos, Mag."]
[90478640,"Zöhrer Denise, BEd"]
[90478697,"Thaler Robert, Mag. MSc"]
[90478762,"Ebner Daniel"]
[90478802,"Eder Alexander, Ing. MAS"]
[90479082,"Rohr Marko, Mag."]
[90479098,"Petschar Nadine, Mag."]
[90479151,"Traschitzger Daniela, Bakk. BEd"]
[90479450,"Urschitz Julia"]
[90479465,"Butler Brad"]
[90479588,"Wieltschnig Janno, BEd"]
[90480728,"Artunjak Christof, BEd"]
[90480934,"Polesnig Nadine"]
[90481389,"Oberlojer Sarah, BEd MEd"]
[90481815,"Koprivc Prepeluh Anica, Dr."]
[90482004,"Pisani Sonia"]
[90482258,"Schulz Thomas"]
[90482464,"Lamprecht Daniel"]
[90482474,"Truppe Sebastian"]
[90482528,"Korath Denise, BEd"]
[90482673,"Novak Tanja"]
[90482687,"Jurkowitsch Hannes, Ing. MAS"]
[90483300,"Schöninger Lisa, BA BEd"]
[90483335,"Moser Tamara, Bakk.phil. MA"]
[90483350,"Schlitzer Philipp"]
[90483360,"Tödtmann Simon"]
[90483362,"Taferner Vanessa, BEd"]
[90483377,"Pirker Stefanie, BEd"]
[90483519,"Verderber Anita, Mag. BEd"]
[90483746,"Löscher Iryna"]
[90486240,"Formann Julia, BEd"]
[90489620,"Marcher Gabriele, MA BEd"]
[90490947,"Kotz Rebekka, BEd"]
[90490958,"Gruber Carmen"]
[90490993,"Hohenwarter Pia"]
[90490995,"Umfahrer Verena, BEd"]
[90491007,"Kerschbaumer Riem, Mag."]
[90491012,"Stattmann Anja"]
[90491015,"Posch Theresia"]
[90491019,"Krasniqi Donesa"]
[90491030,"Lampersberger Angelika"]
[90491151,"Knappinger Sandra"]
[90491157,"Süssenbacher Julia"]
[90491162,"Zechner Eva Maria"]
[90491178,"Fleischhacker Janina"]
[90491223,"Schmucker Marc"]
[90491235,"Großegger Fiona"]
[90491400,"Plankenauer Anna"]
[90491427,"Graf Hannah"]
[90492038,"Falkner Claudia"]
[90493430,"Benczak Sibylle, BEd.Univ"]
[90494106,"Dobnig Christopher"]
[90494233,"Novak Philipp"]
[90494415,"Fellner Barbara, Dipl-Wi-Ing(FH)"]
[90494443,"Schützenhofer Verena Marlene, Mag."]
[90494472,"Steiner Sabine, Mag."]
[90494483,"Hafner Matthias, BA BEd"]
[90494566,"Fradler Kerstin, DI BEd"]
[90494614,"Lackner-Unterluggauer Raphaela, MA BEd"]
[90494624,"Wernisch Marcel, BSc"]
[90494631,"Writz Julia, BEd"]
[90494638,"Striessnig Claudia, BEd BSc"]
[90494640,"Weiß Martin, Ing."]
[90494648,"Gebeneter Florian"]
[90494653,"Mraz Victoria, BEd MEd"]
[90494656,"Obmann Elisabeth, BEd"]
[90494658,"Rainer Corina, BEd"]
[90494661,"Stieber Lukas, Ing."]
[90494666,"Kuchling Julia, BEd"]
[90494710,"Schneider Anja"]
[90494796,"Tschreschnig Simone, Dipl.-Soz.Päd. BEd"]
[90494810,"Christl Denise, MA BEd"]
[90494814,"Obernosterer Elisabeth, BSc"]
[90494823,"Pajic Tijana, Bakk.phil."]
[90494829,"Frank Michelle, BEd"]
[90494837,"Koch Robert, BEd MEd"]
[90494843,"Kreuter Lisa, Mag."]
[90494850,"Schusser Verena, Mag. BA"]
[90494852,"Motschnig Anja, BEd"]
[90494867,"Pöcheim Markus"]
[90494869,"Sumper Marie, Mag."]
[90494887,"Nußbaumer Anna, BEd"]
[90494892,"Palko Jasmina"]
[90494896,"Stossier Lisa Katahrina, BEd"]
[90494905,"Scheiber Julia, BEd"]
[90494911,"Urak Katja"]
[90494913,"Hauer Konstantin, BEd"]
[90494917,"Urank Katarina, BEd"]
[90494924,"Fischer Daniel, BEd"]
[90494927,"Pitschko Magdalena, BEd"]
[90494931,"Frieser Merit, Mag."]
[90494934,"Sekaucnik Zan"]
[90494954,"Stark Stefan, Mag."]
[90494957,"Wascher Dominik, BEd BSc"]
[90494961,"Puppitz Silke, BEd"]
[90494962,"Glanzer Sophie, BEd MEd"]
[90494963,"Moser Sarah, BEd"]
[90494970,"Puhar Patricia, Ing. BA BEd"]
[90494976,"Freidl Victoria, BEd MEd"]
[90494980,"Piroutz Stefanie, BEd MEd"]
[90494983,"Pachernig Christoph, BEd MEd"]
[90494984,"Pfohl Corinna, BEd"]
[90494989,"Alic Lejla"]
[90494993,"Auer Mario, BEd"]
[90495002,"Treiber Anna, BEd"]
[90495009,"Dullnig Tamina, BEd"]
[90495010,"Gfrerer Carolin, BEd"]
[90495021,"Begusch Michael, BEd"]
[90495028,"Messner Petra, MA"]
[90495033,"Kahle Sabine"]
[90495043,"Gröber Maria, Dipl.-Päd."]
[90495061,"Nagele Hannah, BEd"]
[90495091,"Rella Nina, BEd"]
[90495104,"Arzberger Natalie, Mag. BEd"]
[90495117,"Vidounig Daniela, BEd"]
[90495119,"Maierhofer Patrik, BEd"]
[90495122,"Lampel Katrin, BEd BA MA"]
[90495126,"Amann-Radoczai Simon, BEd MEd"]
[90495128,"Kirisits Alexander, BEd"]
[90495131,"Dohr Daniela Elisabeth, BEd"]
[90495134,"Sumnik Natascha, BEd"]
[90495139,"Röttl Katharina, BEd"]
[90495142,"Osmalz Marcellus, BEd"]
[90495145,"Eder Anna, BEd"]
[90495149,"Oitzinger Moritz Florian, BEd"]
[90495150,"Brkovic Katarina, BEd"]
[90495151,"Moser Sophie, BEd MEd"]
[90495157,"Burzic Anita, BEd"]
[90495163,"Teuffenbach Pia, BEd"]
[90495171,"Morina Lena, BEd"]
[90495173,"Grimschitz Michelle Nathalie"]
[90495184,"Kröpfl Katharina, BEd"]
[90495198,"Koppitsch Victoria, BEd"]
[90495199,"Jug Anja-Maria, BEd"]
[90495218,"Berger Sarah, BEd"]
[90495232,"Poglitsch Magdalena, BEd"]
[90495243,"Dobernig Julia, BA"]
[90495255,"Ogris Stefan, BEd"]
[90495270,"Pestotnik Robic Aljaz, Mag."]
[90495284,"Olsacher Max"]
[90495285,"Kurnik Heike, BEd"]
[90495293,"Hafner Michael, BEd"]
[90495312,"Fantoni Elena, BEd"]
[90495324,"Telesklav Chiara, BEd"]
[90495330,"Spitaler Elisa, BEd"]
[90495333,"Rabensteiner Anna-Maria, BEd"]
[90495358,"Wudia Axel, BEd"]
[90495360,"Fülöp Anna, BEd MEd"]
[90495374,"Nuart Anna-Maria, BEd"]
[90495379,"Presslauer Christine, Mag."]
[90495380,"Modic Daniel, Mag."]
[90495391,"Moser Sandra, Mag."]
[90495400,"Spitaler Stephan, BEd"]
[90495416,"Heiß Anna-Lena, BEd"]
[90495447,"Wastian Maximilian, BEd"]
[90495484,"Gritzner Janine, BEd"]
[90495487,"Taschwer Monika"]
[90495490,"Waditzer Anna"]
[90495501,"Mikei Paulina Marie, BEd"]
[90495546,"Mihajlovic Mario, BEd"]
[90495552,"Kerschbaumer Stefanie"]
[90495569,"Jessenitschnig Michaela, BEd"]
[90495576,"Janesch Paul, BEd MEd"]
[90495592,"Seitlinger Christoph, BEd"]
[90495598,"Dorfer Daniel, BEd"]
[90495607,"Zanardi Christine, MMag."]
[90495615,"Waldner Anna, BEd"]
[90495642,"Mataln Nikita, BEd"]
[90495645,"Regenfelder Saskia, BEd"]
[90495648,"Vorauer Florian, Mag. BSc"]
[90495651,"Simonis Lisa, Mag."]
[90495652,"Schmolli Julia, BEd"]
[90495689,"Benet Celestina, Mag."]
[90495723,"Holyfield Johanna Magdalena"]
[90495748,"Marchione Chiara, BEd"]
[90495758,"Zaiser Lisa, BEd"]
[90495762,"Hohenwarter Daniel, BEd"]
[90495772,"Gärtner Lena, BEd"]
[90495790,"Wilfing Antonia, BEd MEd"]
[90495800,"Biber Verena, BEd"]
[90495801,"van Erkelens Jelle, BEd"]
[90495825,"Kollmann Lisa, BEd"]
[90495832,"Dobert Laura, BEd"]
[90495861,"Höfferer Marlene, BA"]
[90495890,"Walluschnig Nadine, BEd"]
[90495891,"Hohenberger Alina, BEd MEd"]
[90495901,"Buchholzer Hannah Stefanie, BEd"]
[90495922,"Petschar Martina, BEd"]
[90495952,"Röthel Valentin, BEd"]
[90495960,"Striek Bettina, Mag."]
[90495970,"Starlinger Nicole, Mag."]
[90495981,"Trannacher Fabian"]
[90495998,"Oberzaucher Daniel, BEd"]
[90496010,"Zent Erica"]
[90496019,"Pozzo Lara"]
[90496024,"Infeld Marion, BEd"]
[90496025,"O'Hara Erin"]
[90496033,"Reithofer-Plautz Kerstin, Mag."]
[90496121,"van Erkelens Eva-Maria, BEd"]
[90496131,"Wakonig Katharina Gerda, Mag.phil."]
[90496181,"Umnig Tamara, Mag."]
[90496183,"Bliem Sophie"]
[90496210,"Erlach Petra"]
[90496279,"Gasser Eva, BEd MEd"]
[90496287,"Peball Manuel"]
[90496289,"Verebes Lucia, Mag.phil."]
[90496296,"Pristovnik Rainer"]
[90496314,"Schlaffer Katrin, BEd"]
[90496318,"Moik Lisa, BEd"]
[90496336,"Pessernig Sabrina, BEd"]
[90496339,"Jäger Gloria, BEd"]
[90496352,"Warnke-Stockmann Jessica, Dipl.-Theol."]
[90496370,"Zankl Vanessa, BEd"]
[90496371,"Schwarzmeier Tanja, Dipl.-Bw. M.A."]
[90496378,"Bigi Veronica"]
[90496380,"Dimitropoulou Danai"]
[90496384,"Cerecero Lindsey"]
[90496387,"Waddicor Adrian"]
[90496432,"Moser Alexandra"]
[90496450,"Gugl Barbara, Mag."]
[90496458,"Irrenfried Marco, BEd"]
[90496476,"Jursic Anna, BEd"]
[90496482,"Hay Andrew"]
[90496511,"Zinkanel Angelika, BEd"]
[90496520,"Salcher Nikola"]
[90496524,"Käfer Jadranka, Mag."]
[90496525,"Schadenbauer Sara"]
[90496526,"Humer Michelle"]
[90496534,"Sommeregger Elissa, Mag.phil. BEd BEd ME"]
[90496593,"Ninaus Sahra, BEd"]
[90496632,"Ackerer Stefan Andreas, Dipl.-Päd."]
[90496719,"Grabowski Bernard, Mag."]
[90496744,"Putz Stefan, Mag."]
[90496771,"Kari Doris, BEd"]
[90496832,"Lechner Florian, BEd"]
[90496844,"Payen Stephanie, BEd"]
[90496879,"Proietti Susanne, Mag."]
[90496901,"Diwold Maria"]
[90496903,"Wege Sven, Mag."]
[90496944,"Lutz Irene Maria"]
[90496948,"Warmuth Martin, BEd"]
[90496953,"Bucheli Amos, BEd"]
[90496975,"Fina Andrea"]
[90496999,"Rotariu Lydia, Mag."]
[90497148,"Trampusch Marco, Mag.phil."]
[90497151,"Mainhard Romana, BEd MEd"]
[90497182,"Ross Martha"]
[90497184,"Frank Natalie, BEd"]
[90497189,"Weaver Colin"]
[90497231,"Podesser-Puhl Veronika"]
[90497242,"Spiegl Rita Laura, BEd"]
[90497254,"Hübner Bernhard, BEd"]
[90497381,"Krampl Franz, BEd"]
[90497394,"Renner Julia, Mag."]
[90497397,"Geyer Daniela, BEd MEd"]
[90497402,"Hobeck Natalie"]
[90497403,"Kuess Stefan, Mag. Bakk. BEd"]
[90497409,"Glavanovitz Sigrid, BEd MEd"]
[90497411,"Acres Susanne"]
[90497416,"Zitzenbacher Christina, Mag."]
[90497422,"Katsoulias Verena, Mag."]
[90497456,"Lagger Lisa, Mag."]
[90497473,"Pernusch Nicole, BEd BSc"]
[90497491,"Braun Manuela"]
[90497515,"Ehrlich Victoria, BEd"]
[90497538,"Plieschnegger Gerlinde"]
[90497674,"Elsbacher Raphael"]
[90497741,"Sadnik Alfred"]
[90497743,"Sommer Marco, Mag. BEd MSc MSc"]
[90497771,"Dietrichsteiner Daniel Matthias, BSc"]
[90497785,"Weichselbraun Vanessa, BEd"]
[90498142,"Popotnig Jennifer, BEd"]
[90498175,"Ronacher Hildegard, Mag."]
[90498180,"Pirker Katja, BEd"]
[90498186,"Umfogl Tamara, Mag."]
[90498276,"Giuri Petra"]
[90498314,"Koc Hilal, Mag.phil."]
[90498318,"Anthofer Lena, BEd"]
[90498319,"Sedlmaier Alexandra, BEd MEd"]
[90498340,"Wirnsberger Leonie, BEd"]
[90498506,"Catic Amela, Mag."]
[90498836,"Seidl Patrizia, BA"]
[90509216,"Galli Sarah, BEd"]
[90509254,"Namesnik Nicole, Mag."]
[90509375,"Notsch Silke, MMag."]
[90509413,"Patterer Maria"]
[90509447,"Bartzou Maria, Mag."]
[90509451,"Rud Dominika"]
[90509510,"Fuchs Jasmine, BEd"]
[90509610,"Joham Sophia-Maria, BEd"]
[90509611,"Schmid Larissa, BEd"]
[90509623,"Cheung Constance Pui-See"]
[90509719,"Fleischhacker Kerstin"]
[90509791,"Jernej Markus, BEd"]
[90509816,"Nel Marisa"]
[90509989,"Ganeider Nadine, Mag."]
[90510031,"Safran Stefanie, Mag."]
[90542417,"Flecker Magdalena"]
[90542533,"Matschnig Caroline, BEd"]
[90542632,"Mistelbauer Rafael"]
[90542655,"Strafner-Messner Andrea Margarete"]
[90542724,"Esterle Sabine, BEd MEd"]
[90542732,"Puschitz Anna Lena"]
[90542833,"Petschenig Anna Katrin, BEd"]
[90542834,"Kuttnig Andreas, BEd"]
[90542835,"Krall Katharina, BSc"]
[90542908,"Bacher Eva-Maria, BEd"]
[90543028,"Stanic Danijela"]
[90543117,"Mikic Tatjana, Mag."]
[90543211,"Hiltner Jörg"]
[90543295,"Peternel Thomas, Mag."]
[90543299,"Tschernitz Sarah, BA"]
[90543301,"Senekowitsch Hannah-Maria, BEd"]
[90543351,"Gallo Stefanie, BEd"]
[90543441,"Hasanbegovic Edina, BA"]
[90543450,"Olip Danijel, BEd"]
[90543454,"Kelih Martina, BEd"]
[90543501,"Hauer Daniela, BEd"]
[90543687,"Hibic Mehrudin"]
[90543692,"Simonitti Veronika, BEd"]
[90543706,"Hatzel-Neumaier Sarah, BEd"]
[90543717,"Brandstätter Maria, BEd"]
[90543730,"El Serag Islam, BEd"]
[90543784,"Haßler Andrea, BEd"]
[90543798,"Kaufmann Mechtildis, BEd"]
[90544286,"Sauer Elisa, BEd"]
[90544502,"Spendier Sandro"]
[90544713,"Bilgeri Alina, BEd"]
[90544908,"Grill Stephanie, BA MA"]
[90545191,"Schwarzenbacher Christina, BEd"]
[90545211,"Treffer Martin, BEd"]
[90545233,"Pacher Kevin, BEd"]
[90545266,"Hermann Eva-Maria"]
[90545267,"Bryl Mariusz, Mag."]
[90545578,"Himmelsbach Vanessa, BEd"]
[90545599,"Schmidt Barbara, Dr BA MEd"]
[90545672,"Leuthold Margit, Mag. Dr."]
[90545940,"Steinkellner Laura, BEd"]
[90546424,"Orter Lydia, BEd BEd"]
[90546473,"Lanner Dagmar, Mag."]
[90547321,"Kuss Carmen, BA"]
[90547325,"Dobnig Stefanie, BEd"]
[90547328,"Fasching Bettina, BEd MEd"]
[90547337,"Premig Julia, BEd"]
[90547351,"Paul Tamara, MA"]
[90547410,"Goltnik Daniela"]
[90547418,"Ernst Julia"]
[90547423,"Prodinger-Wagner Daniela, Mag."]
[90547429,"Arnold Lisa Franziska, BEd"]
[90547437,"Gölles Laura, BEd"]
[90547510,"Schachner Anna, BEd"]
[90547531,"Lerchbacher Michaela, BEd"]
[90547634,"Knapp Doris"]
[90547878,"Tomitz Julia, BEd"]
[90547964,"Baumgartner Stefanie, BEd"]
[90548226,"Wallner Nadja, BEd"]
[90548340,"Wakonig Stefanie, MA BEd"]
[90548657,"Kropfitsch Daniel, Mag."]
[90548845,"Sneditz Silke, Mag."]
[90549117,"Klogger Michaela Elisabeth, MMag."]
[90549183,"Ronijak Rosa, BEd"]
[90549296,"Graziani Natalie"]
[90549302,"Dobert Patrick"]
[90549322,"Illing Laurin, BEd"]
[90549620,"Gärtner Julia, BEd"]
[90549902,"Kraxner Manuel"]
[90549946,"Krajisnik Dalibor"]
[90552500,"Haschej Simone"]
[90552537,"Singer Verena, BEd"]
[90552605,"Jahn Verena Maria, BEd"]
[90552614,"Treul Lisa, BEd"]
[90552617,"Leibetseder Anna, Mag."]
[90552910,"Janko Tina"]
[90553314,"Niederbichler Kathrin, Mag. BSc"]
[90553405,"Gaber Sabrina"]
[90553495,"Seme-Bonizzi Marija"]
[90553632,"Marko Alexandra, BEd"]
[90553655,"Kanzian Hemma, Mag."]
[90553663,"Sekulic Natasa"]
[90553671,"Pfleger Sandra"]
[90553749,"Laßnig Denise, BEd"]
[90554306,"Kovacevic Teodora"]
[90555098,"Hofer Sabrina, BEd"]
[90555148,"Wrann Julia, BEd"]
[90556610,"Grojer Stefanie, Mag."]
[90556802,"Suppick Anna, MA BEd"]
[90556981,"Ziegler Marion, BEd"]
[90557150,"Laßnig Martina"]
[90557279,"Schöffmann Thomas, BEd"]
[90557691,"Joseph Jinu"]
[90558249,"Umschaden Martina"]
[90558307,"De Zordo Bianca, BEd"]
[90558510,"Hay Kimberly"]
[90558983,"Priemayr Lukas"]
[90559051,"Ebner Sabrina"]
[90559305,"Ramsbacher Natalie"]
[90559345,"Buggelsheim Saskia, BEd"]
[90560516,"Isola Christina Marie, BEd"]
[90562785,"Schoffnegger Elisabeth, BEd"]
[90565539,"Wölbitsch Theresia, BEd"]
[90565690,"Borstner Judith, BEd"]
[90565706,"Zellinger Isabelle"]
[90565726,"Skriboth Laura"]
[90565757,"Vogl Dea Alena"]
[90565758,"Felle Johanna"]
[90565759,"Würger Elena"]
[90565760,"Angermann Sophie"]
[90565761,"Strutz Katharina, BEd"]
[90565762,"Curti Marianna, BEd"]
[90565763,"Vrtaric Melitta"]
[90565765,"Buggelsheim Sandra"]
[90565766,"Friedrich Daniel"]
[90565768,"Burkhardt Amy"]
[90565769,"Hofmeister Stefanie"]
[90565770,"Huber Julian"]
[90565772,"Pacheiner Sophia"]
[90565773,"Angermann Lisa"]
[90565775,"Sicher Alia"]
[90565776,"Pignet Stefanie"]
[90565777,"Kriegl Christoph"]
[90565778,"Pepper Raphaela"]
[90565781,"Pöllinger Sarah"]
[90565782,"Samlen Santina"]
[90565783,"Friedrich Lukas"]
[90565785,"Jank Sophia"]
[90565787,"Kreuzberger Markus"]
[90565788,"Plamberger Viktoria, BEd"]
[90565789,"Hohenwarter Sebastian"]
[90565790,"Seiwald Marco"]
[90565792,"Tributsch Sabrina"]
[90565793,"Hadzic Martina"]
[90565794,"Hiebl Andrea"]
[90565796,"Reichmann Helena"]
[90565797,"Hutze Lina"]
[90565798,"Etzelsberger Sarah"]
[90565799,"Innerwinkler Magdalena"]
[90565800,"Kronlechner Julia"]
[90565801,"Goritschnig Simone"]
[90565802,"Tomitz Janine, BEd"]
[90565803,"Hinteregger Nina"]
[90565804,"Grojer Annalisa"]
[90565806,"Hölbling Laura"]
[90565807,"Halbrainer Eva"]
[90565808,"Nielsen Josefine, BA"]
[90565955,"Simlinger Laura, BEd"]
[90565956,"Theuermann Christoph"]
[90565965,"Scherer Tamara, Mag. BA"]
[90565976,"Graf-Weber Martina, DPäd. Ing."]
[90565984,"Oberdorfer Stefan, BEd"]
[90566000,"Tatschl Sabrina, MSc"]
[90566019,"Schwenner Piet, BSc"]
[90566030,"Glanzer Daniel, BSc"]
[90566039,"Michor Lukas, DI BSc"]
[90566235,"Rescher Johannes, BEd"]
[90566239,"Streicher Stephanie, BA BEd"]
[90566251,"Hafner Marina, BEd"]
[90566255,"Krachler Felix, BEd"]
[90566258,"Riegler Stefan, BEd"]
[90566268,"Wassertheurer Sandro, BEd"]
[90566269,"Zappe Elisabeth, BA BEd"]
[90566274,"Wultsch Astrid, BEd"]
[90566277,"Knierlinger Florian, BEd"]
[90566278,"Lesjak Tina, BEd"]
[90566734,"Biedermann Christina, BEd"]
[90566765,"Happerger Maximilian, BEd"]
[90566802,"Sternig Katharina, BEd"]
[90566810,"Koberer Magdalena, BEd"]
[90566968,"Rasinger Anna-Maria, BEd"]
[90567076,"Speiser Tobias, BEd"]
[90567173,"Sturm Tanja Malina, BEd"]
[90567235,"Payer Nadja, BEd"]
[90567256,"Moser Vanessa, BEd"]
[90567275,"Ploner Michaela, Mag. BEd"]
[90567293,"Kaplan Dania"]
[90567405,"Treiber Cornelia, BEd"]
[90567430,"Petschnigg Markus, Ing DWi-Ing(FH)"]
[90567436,"Eisendle Lukas"]
[90567442,"Kogler Anja"]
[90567445,"Kircher Laura"]
[90567446,"Rothmayr Aileen"]
[90567449,"Zipponig Julia"]
[90567453,"Krammer Caterina"]
[90567454,"Wochinz Anna"]
[90567455,"Vogt Martin"]
[90567456,"Maurer Hannah"]
[90567458,"Sprachmann Johanna"]
[90567459,"Pleschberger Anna"]
[90567460,"Freundl Lisa"]
[90567464,"Gruber Christina"]
[90567466,"Furjan Sara"]
[90567469,"Kuchling Sandra"]
[90567473,"Hille Alisa"]
[90567476,"Huber Katharina"]
[90567480,"Kolmanz Alois"]
[90567481,"Medakovic Melani"]
[90567483,"Juch Simon"]
[90567484,"Vauce Lea"]
[90567485,"Vallant Lisa"]
[90567486,"Fritz Anja"]
[90567488,"Kollienz Tanja"]
[90567490,"Prutej Jennifer, BA"]
[90567493,"Halbreiner Anne"]
[90567494,"Hambaumer Julia"]
[90567496,"Maier Hannah"]
[90567499,"Findenig Nadine"]
[90567500,"Primus Chiara"]
[90567503,"Morak Jasmin, BEd"]
[90567505,"Rutter Johannes"]
[90567506,"Londer Gloria"]
[90567508,"Jerger Jochen"]
[90567557,"Marko Alexandra"]
[90567598,"Kommetter Carmen, BA BSc"]
[90567603,"Orascanin Danija, BEd"]
[90567611,"Themessl Alena, BEd MEd"]
[90567618,"Schöppl Verena, BEd"]
[90567633,"Kapp Michael, BEd"]
[90567639,"Husic Sandra, Mag."]
[90567755,"Tabernig Stefanie, BEd"]
[90567800,"Kranner Sara Lena, Mag. Bakk."]
[90567813,"Verdin Markus Hermann Josef, Dipl.-Päd."]
[90567824,"Prosic Taida, Mag."]
[90567869,"Binder Nina, Mag. BEd"]
[90567871,"Rothleitner Raphaela Yvonne, Dipl.-Päd."]
[90567873,"Cajic Merima, Mag."]
[90567890,"Raab Stefanie, BA BEd"]
[90567900,"Hunger Tim, Mag. BA"]
[90567901,"Mustedanagic Haris, BA"]
[90567914,"Kaiser Miriam, Mag."]
[90567936,"Klenak Dorotea"]
[90568075,"Kohlmaier Lukas, MSc BSc"]
[90568128,"Ebner Manuela, BEd"]
[90568153,"Krapfl Marlene, Mag.phil."]
[90568165,"Laßnig Denise"]
[90568243,"Pettauer Stefanie, Mag.phil."]
[90568268,"Zlattinger-Wallner Heidemarie, BA"]
[90568277,"Rockenschaub Herbert, MMag."]
[90568283,"Matschnig-Sinnigen Gabriele, BA"]
[90568286,"Habernik Dieter, Mag."]
[90568310,"Scheit Luisa-Maria, MA BEd"]
[90568333,"Schein Nicole, BEd"]
[90568393,"Himmelsbach Colin, BEd"]
[90568510,"Käfer Bernd, BSc MSc"]
[90568519,"Edlinger Theresa, BEd MEd"]
[90568542,"Höffernig Anna, BEd"]
[90568553,"Malle Anna, BEd MEd"]
[90568554,"Hofer-Gabriel Johanna, Mag.(FH)"]
[90568577,"Engler Ines, BEd"]
[90568593,"Brandstätter Kerstin"]
[90568706,"Kuttin Andreas"]
[90568714,"Rainer Isabell"]
[90568745,"Bärnthaler Thomas Claus, Mag."]
[90568766,"Schmerlaib Lisa-Christina, BEd"]
[90568767,"Weinberger Theresa, BEd MEd"]
[90568842,"Brunner Adrian, Dr."]
[90568963,"Mikl Andrea, BA MA Bed"]
[90568970,"Melchior Marcel, BEd"]
[90569023,"Brandner Amelie"]
[90569050,"Obmann Karin"]
[90569073,"Torta Sabrina, BA MA"]
[90569075,"Zraunig Larissa"]
[90569087,"Schütz Ewald, DI"]
[90569096,"Lippitz Oswald, Ing."]
[90569118,"Seher Alina"]
[90569119,"Pertl Tatjana"]
[90569156,"Werkl Christina"]
[90569240,"Zorec Marie-Christin, BA MA"]
[90569332,"Sturmlechner Patrick, Mag. Bakk.Komm."]
[90569428,"Moser Daniela, BEd MEd"]
[90569447,"Abdalla Amad"]
[90569500,"Schwandt Manuel"]
[90569518,"Gutsche Nicole"]
[90569526,"Lichtenegger Rita Maria, Mag."]
[90569537,"Draxl Gerald, DI(FH)"]
[90569552,"Schewe-Lenz Carolin, DI BA"]
[90569584,"Holzmann Theresa"]
[90569593,"Bachbauer Jennifer, BEd"]
[90569604,"Burger Sabrina Ines, BEd"]
[90569609,"Kaiser Daniel, Mag. BA"]
[90569620,"Koroschetz Sabrina Stefanie, BA MA Bed"]
[90569701,"Hipfl Anna Lucia, BEd"]
[90569712,"Bilanovic Pero"]
[90569810,"Gamsler Michelle, BEd"]
[90569829,"Ramsauer Stefan, BEd"]
[90569913,"Moser Irina, MSc BSc"]
[90569924,"Köfeler Anna-Theresa, BEd"]
[90570015,"Pirker Isabelle"]
[90570098,"Maksic Edita, Mag."]
[90570117,"Krenn Domenika"]
[90570130,"Oberhofer Desiree, BEd"]
[90570204,"Röxeis Raffaella, BEd"]
[90570639,"Holzer David"]
[90570740,"Strohmaier Elisabeth, Mag. BEd"]
[90570825,"Oberhauser Jasmin"]
[90570961,"Mölschl Bianca, BEd"]
[90571097,"Schrödl Anna Sophie, BEd"]
[90571112,"Wölbl Magdalena, BEd"]
[90571154,"Müller Karina, BEd"]
[90571184,"Kelih Michael, BEd"]
[90571244,"Sima Johann, Ing.DI(FH) MBA BEd"]
[90571271,"Weger Erwin, BSc"]
[90571401,"Höberl Philipp, MEd BSc BEd"]
[90571402,"Sauer Lea, BEd"]
[90571405,"Hobel Simone, BEd"]
[90571446,"Penker Melanie, BEd MEd"]
[90571536,"Irrenfried Laura, BEd"]
[90571633,"Guggenberger Hannah-Maria, BEd MEd"]
[90571675,"Steiner Beatrix, Mag."]
[90571924,"Wernig Christiane, Mag."]
[90571965,"Werhonig Sascha, BEd"]
[90571974,"Sturm Izidor, BEd"]
[90571996,"Trabe-Breinhälter Alexandra, MSc BEd Bak"]
[90572006,"Petutschnig Sandro, BEd"]
[90572161,"Chabek Elisabeth"]
[90572191,"Pirker Sarah, MA BEd"]
[90572294,"Glanzer Marie-Kathrin, BEd MEd"]
[90572607,"Feuchter Christine, BEd"]
[90572617,"Graf Traugott"]
[90572621,"Boschitz Jasmin, BEd"]
[90572624,"Barisic Dijana, Bak."]
[90572629,"Gradischnig Viktoria, BEd MEd"]
[90572636,"Innerwinkler Magdalena, BA BA"]
[90572639,"Ates Ida, BEd"]
[90572647,"Gratzer Anna, BEd"]
[90572649,"Smolnik Heidemarie"]
[90572655,"Groß Ricardo, Mag."]
[90572657,"Pucher Ebba, Mag. BEd"]
[90572658,"Schrattel Nicole, BEd"]
[90572659,"Lobnig Jessica, BEd"]
[90572660,"Ceplak Anna, BEd"]
[90572661,"Wenzel Chiara, BEd"]
[90572662,"Jamroz Robert, Mag."]
[90572666,"Malle Alexandra, Mag."]
[90572669,"Wildhaber Andrea, Mag."]
[90572671,"Träger Sandra, BA BEd"]
[90572673,"Smuck Anja, BEd"]
[90572674,"Osebik Sandra, Dipl.-Päd."]
[90572677,"Mayer Kim, MSc BEd"]
[90572678,"Sebastian Markus, BEd"]
[90572683,"Graf Werner"]
[90572685,"Smrecnik Ivana, BEd"]
[90572688,"Höffernig Lara-Maria, BEd MEd"]
[90572691,"Aichern Gudrun"]
[90572694,"Nistelberger Julia"]
[90572696,"Schmucker Marc"]
[90572697,"Wascher Dominik"]
[90572699,"Keutschacher Lisa, BEd"]
[90572701,"Gruber Carmen, BEd"]
[90572707,"Mavudila-Bunda Dieudonné, BA MA"]
[90572718,"Kuster Benjamin Florian, BEd"]
[90572722,"Huber Mathias, MSc BSc BEd"]
[90572748,"Bucar Katharina"]
[90572749,"Trpin Jelovcan Franciska"]
[90572755,"Suntinger Bernadette"]
[90572766,"Maier Silke, BEd"]
[90572767,"Pajer Anna, BEd"]
[90572769,"Leitner Elisabeth, Mag."]
[90572793,"Slamanig Vanessa"]
[90572797,"Gentilini Rita, Ing. BEd"]
[90572803,"Binder Cornelia, BEd"]
[90572810,"Koza Marcel"]
[90572811,"Zollbrecht Andreas, BEd"]
[90572817,"Wolf Viktoria, BEd MEd"]
[90572836,"Smrtnik Ana"]
[90572874,"Keuschnig Julia, Mag."]
[90572880,"Di Bernardo-Tschuk Claudia"]
[90572914,"Brejc Ana"]
[90572929,"Hebein Stefanie, BEd"]
[90572937,"Sitter Philipp"]
[90572951,"Pawluch Kerstin, BEd MEd"]
[90572953,"Puck-Olipp Laura, BEd MEd"]
[90572961,"Unterwandling Larissa, BEd"]
[90572978,"Rumler Tamara, BEd"]
[90572994,"Gritznig Lisa, BA MA"]
[90573003,"Trattler Leonie, BEd"]
[90573021,"Kowarik Lena, BEd"]
[90573047,"Tremschnig Stefanie, BEd"]
[90573052,"Pöckl Bianca, BEd MEd"]
[90573075,"Grübler Markus, MEd BSc BEd"]
[90573093,"Wascher Lisa, BEd"]
[90573097,"Friederich Nadia, BA BEd"]
[90573099,"Gussger Marianna Katharina, BEd"]
[90573127,"Maier Johanna"]
[90573138,"Gaggl Andrea, BEd"]
[90573147,"Turuelo Palenzuela Alba, BA"]
[90573156,"Hinteregger Jasmin, MSc"]
[90573170,"Trummer-Kulics Alexandra"]
[90573172,"Wrulich Stefanie, BEd"]
[90573174,"Huber Linda, BEd"]
[90573182,"Jezernik Daniel"]
[90573193,"Hofer Anna, BEd BSc"]
[90573225,"Leberl Franciska Bernadette, Dr."]
[90573235,"Pfingstl Daniel, BEd"]
[90573243,"Daly Sandra"]
[90573244,"Kavelar Sascha"]
[90573264,"Klammer Stefan, BEd"]
[90573273,"Haupt Josia"]
[90573279,"Holzer Daniela, BEd"]
[90573371,"Hassler Daniela"]
[90573376,"Blaimschein Martin"]
[90573385,"Schottak Erwin Thomas"]
[90573401,"Reiner Iris, Mag."]
[90573451,"Guggenberger Karina"]
[90573506,"Meriga Suresh Babu"]
[90573553,"Sitter-Wastl Martina"]
[90573564,"Isip-Leordean Estera"]
[90573565,"Bertoncel Mojca, Dr."]
[90573578,"Zanardini-Arnold Bianca"]
[90573594,"Ogris Jasmin, BEd"]
[90573602,"Fritz Anja"]
[90573628,"Haschej Daniel"]
[90573644,"Reisinger Damaris Emmanuelle, BA"]
[90573645,"Naschberger Claudia"]
[90573694,"Schnaubelt Lena, BEd"]
[90573734,"Neuwirth Speirs Ian, Bachelor"]
[90573759,"Pepper Raphaela"]
[90573880,"Schiller Daniel, DI MA"]
[90573942,"Pernull Katrin, Bakk. BEd"]
[90573966,"Dobric Marina, Mag.phil."]
[90573990,"Raisova Lada, Mag.phil."]
[90574048,"Schlintl Patricia, BSc"]
[90574147,"Rigotti Karin, Mag."]
[90574319,"Piotrowski Barbara, Mag."]
[90574372,"Abdulhadi Mustafa"]
[90574539,"Stark Zsuzsanna"]
[90574767,"Mohamed Amany"]
[90574949,"Kumalic Elena, BEd"]
[90574960,"Schumi Harald, Ing. BEd"]
[90574966,"Unterberger Sabine"]
[90575002,"Knapp Melanie, Mag.phil."]
[90575266,"Gärtner Julia, BEd"]
[90575282,"Kapeller Simona, BEd BSc"]
[90575383,"Kerschbaumer Riem, Mag. BEd"]
[90575491,"Stürzenbecher Carmen Monika, Mag. BEd"]
[90575608,"Jobst Stephanie, Mag."]
[90575649,"Leitner Andrea"]
[90575692,"Begusch Marlene, Bakk. BEd"]
[90575766,"Lechner Rudolf"]
[90575858,"Bidner Nicole"]
[90576171,"Marcher Doris, Mag."]
[90576278,"Mostetschnig-Lokuschek Nina, Mag."]
[90576556,"Strutz Katharina, BEd"]
[90577375,"Brägger Yves, MMag."]
[90577451,"Stoop Sophie"]
[90577684,"Veau Sarah, BEd"]
[90577773,"Seeberg-Elverfeldt Tamara, Dipl.-Päd."]
[90577783,"Schuster Meinhard, Dr."]
[90577815,"Heiglauer Andrea, MMag."]
[90577840,"Assel Sylvia"]
[90578210,"Leitner Katharina, BEd"]
[90578419,"Elsbacher Jasmin, BEd"]
[90578465,"Moser Benedikt Viktor, BEd"]
[90591938,"Kaiser Anna"]
[90591972,"Steiner Carmen, Mag."]
[90592181,"Moritz Helga, Mag."]
[90592183,"Semler Maria Loise"]
[90592225,"Hiebl Andrea"]
[90592542,"Kollienz Tanja"]
[90592545,"Laska Karin"]
[90592559,"Nösterer Julia, Mag."]
[90596414,"Plankenauer Anna, BEd"]
[90596458,"Lauhart Stefan, BEd"]
[90596555,"Hipfl Anna Lucia, BEd"]
[90596562,"Nielsen Josefine, BA"]
[90596611,"Stattmann Anja, BEd"]
[90596641,"Silvestri Manuel, Ing."]
[90596663,"Goritschnig Simone"]
[90596804,"Schwarz Anna"]
[90596846,"Nel Marisa"]
[90597131,"Kogler Patrick"]
[90597148,"Riepl Angelika"]
[90597149,"Glaboniat Elke"]
[90597150,"Verhounig Stefan, Ing. MSc"]
[90597223,"Strassnig Astrid, Mag."]
[90597250,"Grassler Christian"]
[90597261,"Haßler Markus"]
[90597265,"Silan Hubert"]
[90597267,"Krischan Heidi"]
[90597269,"Vormaier Markus, DI(FH)"]
[90597271,"Grillitsch Richard, Ing. BEd"]
[90597313,"Kerschbaumer Jakob"]
[90597352,"Mayer Tiziana, Mag."]
[90597381,"Germ Monika, Mag. Dr BEd"]
[90597403,"Angermann Sophie"]
[90597454,"Hofer Anna"]
[90597788,"Altenburger Mario"]
[90598030,"Springer Anna"]
[90598057,"Wernitznig Andreas"]
[90598093,"Steiner Julia, BEd"]
[90598829,"Trattnig Martin"]
[90598916,"Wieser Michaela, BA"]
[90599092,"Steindl Carina, Mag."]
[90599382,"Ichovski Kristina, BEd"]
[90599435,"Holzinger David, BEd"]
[90600410,"Schwarz Margit, BEd"]
[90600610,"Fratschko Jana, BEd"]
[90600611,"Köstenberger Sabine, Mag."]
[90600639,"Michenthaler-Kohlweg Katharina, DI BSc"]
[90600649,"Enzi Ulrike, MMag."]
[90600786,"Curti Marianna, BEd"]
[90600810,"Warmuth Wolfgang"]
[90600819,"Unegg Andrea"]
[90600856,"Maurer Hannah, BEd"]
[90600912,"Rutar Elena, MA BEd"]
[90601247,"Hölbling Laura"]
[90601333,"Egger Bernhard"]
[90601380,"Kriebitz Lisa"]
[90601643,"Leber Nadine, BEd"]
[90601748,"Ogris Günther"]
[90601798,"Millner Hannah Gabriella, BEd"]
[90601838,"Mak Tanja, BEd"]
[90601901,"Wohlgemuth Barbara, BEd"]
[90601933,"Praster Alexandra, BEd"]
[90601939,"Moser Alexandra"]
[90602064,"Kroll Birgit, BEd"]
[90602073,"Nachbar Vladimir, BEd"]
[90602131,"Gipfler Franziska, BEd"]
[90602420,"Kogler Sylvia, BEd"]
[90602594,"Roth Mirja, BEd"]
[90602899,"Graf Verena Johanna, BEd MEd"]
[90603182,"Stingl Pia"]
[90603430,"Suntinger-Higueras Kathrin, Mag."]
[90603561,"Schuller Sabine"]
[90603578,"Pospischil Selina"]
[90603630,"Kummer Stefanie, BEd MEd"]
[90603875,"Mitterbacher Peter Andreas, Ing. BSc MSc"]
[90603887,"Andritsch Carmen Johanna"]
[90603957,"Vilim Tamara"]
[90604081,"Freundl Lisa"]
[90604082,"Wornig Ines"]
[90604122,"Kellner Sylvia, Dipl.-Päd. BEd"]
[90604152,"Wanker Sandro"]
[90604168,"Krasniqi Donesa, BEd"]
[90604170,"Kreisnegger Michael"]
[90604188,"Winkler Selina, BEd"]
[90604194,"Kampfer Christine, BEd"]
[90604210,"Nowak Julia, BEd"]
[90604301,"Hribernigg Chiara"]
[90604308,"Rapatz Josefa"]
[90604898,"Zettl Daniela, DI Dr."]
[90604925,"Veronik Jana, BEd"]
[90605180,"Walcher Petra, BEd"]
[90605395,"Stroj Laura, BEd MEd"]
[90605444,"Krakolinig Laura, BEd"]
[90605478,"Idczak Blazej"]
[90605506,"Zehner Rafal, Mag."]
[90605762,"Stichlberger Kurt, Mag."]
[90605956,"Zwischenberger Michaela, MSc"]
[90606008,"Nagele Karin, MA"]
[90606009,"Klein Paul Alexander, Mag. BSc"]
[90606032,"Paulitsch Manuela, Dipl.-Päd."]
[90606609,"Eberhard Sabine, BEd"]
[90606618,"Brandner Regine, Mag."]
[90606648,"Köbli Gabor, Mag."]
[90606753,"Felsberger Sonja, Mag."]
[90607241,"Rossmann Helena, BEd"]
[90607247,"Hülser-Osmonova Nazgul, Bakk."]
[90607468,"Bacher Celine"]
[90608652,"Toniutti Olivia, MBA MSc"]
[90608672,"Puggl Mathias, BEd"]
[90608710,"Seiß Fabian, BEd MEd"]
[90609101,"Fondriest Valentina, BEd"]
[90609119,"Olip Peter, Mag."]
[90609120,"Moser Jasmin, BEd"]
[90610473,"Kontschitsch-Glinik Florian"]
[90610686,"Hilpert Dominik"]
[90611119,"Novak Christian"]
[90611622,"Petritz Irina, BEd"]
[90611632,"Prutej Carina Maria, BA BEd"]
[90611682,"Osterc Katja"]
[90611878,"Graf Christopher, BA MA"]
[90612509,"Prutej Jennifer, BA"]
[90613189,"Serdarevic Halima"]
[90613259,"Maddock Elisabeth"]

{"sheet":"ZVA","index":2,"n_rows":300,"n_cols":15,"rows_kept":300,"cut":false,"hidden":false,"merged":[[295,0,295,3],[296,0,296,3],[297,0,297,3],[298,0,298,3],[299,0,299,3],[286,0,286,3],[287,0,287,3],[288,0,288,3],[289,0,289,3],[290,0,290,3],[291,0,291,3],[292,0,292,3],[293,0,293,3],[294,0,294,3],[277,0,277,3],[278,0,278,3],[279,0,279,3],[280,0,280,3],[281,0,281,3],[282,0,282,3],[283,0,283,3],[284,0,284,3],[285,0,285,3],[268,0,268,3],[269,0,269,3],[270,0,270,3],[271,0,271,3],[272,0,272,3],[273,0,273,3],[274,0,274,3],[275,0,275,3],[276,0,276,3],[259,0,259,3],[260,0,260,3],[261,0,261,3],[262,0,262,3],[263,0,263,3],[264,0,264,3],[265,0,265,3],[266,0,266,3],[267,0,267,3],[250,0,250,3],[251,0,251,3],[252,0,252,3],[253,0,253,3],[254,0,254,3],[255,0,255,3],[256,0,256,3],[257,0,257,3],[258,0,258,3],[7,0,7,3],[128,0,128,3],[129,0,129,3],[130,0,130,3],[131,0,131,3],[132,0,132,3],[133,0,133,3],[134,0,134,3],[135,0,135,3],[110,0,110,3],[111,0,111,3],[112,0,112,3],[113,0,113,3],[114,0,114,3],[115,0,115,3],[116,0,116,3],[117,0,117,3],[118,0,118,3],[101,0,101,3],[102,0,102,3],[103,0,103,3],[104,0,104,3],[105,0,105,3],[106,0,106,3],[136,0,136,3],[119,0,119,3],[120,0,120,3],[121,0,121,3],[122,0,122,3],[123,0,123,3],[124,0,124,3],[125,0,125,3],[126,0,126,3],[127,0,127,3],[109,0,109,3],[92,0,92,3],[93,0,93,3],[94,0,94,3],[95,0,95,3],[96,0,96,3],[97,0,97,3],[98,0,98,3],[99,0,99,3],[100,0,100,3],[83,0,83,3],[84,0,84,3],[85,0,85,3],[86,0,86,3],[87,0,87,3],[88,0,88,3],[89,0,89,3],[107,0,107,3],[108,0,108,3],[74,0,74,3],[75,0,75,3],[76,0,76,3],[77,0,77,3],[78,0,78,3],[79,0,79,3],[80,0,80,3],[81,0,81,3],[82,0,82,3],[34,0,34,3],[35,0,35,3],[36,0,36,3],[37,0,37,3],[38,0,38,3],[39,0,39,3],[40,0,40,3],[41,0,41,3],[42,0,42,3],[25,0,25,3],[26,0,26,3],[27,0,27,3],[28,0,28,3],[29,0,29,3],[30,0,30,3],[31,0,31,3],[32,0,32,3],[33,0,33,3],[16,0,16,3],[17,0,17,3],[18,0,18,3],[19,0,19,3],[20,0,20,3],[21,0,21,3],[22,0,22,3],[23,0,23,3],[24,0,24,3],[50,0,50,3],[51,0,51,3],[90,0,90,3],[91,0,91,3],[54,0,54,3],[55,0,55,3],[56,0,56,3],[57,0,57,3],[58,0,58,3],[59,0,59,3],[60,0,60,3],[61,0,61,3],[62,0,62,3],[63,0,63,3],[64,0,64,3],[65,0,65,3],[66,0,66,3],[67,0,67,3],[68,0,68,3],[69,0,69,3],[70,0,70,3],[71,0,71,3],[72,0,72,3],[73,0,73,3],[137,0,137,3],[138,0,138,3],[139,0,139,3],[140,0,140,3],[52,0,52,3],[53,0,53,3],[2,0,2,6],[0,0,0,6],[1,0,1,6],[8,0,8,3],[9,0,9,3],[10,0,10,3],[11,0,11,3],[12,0,12,3],[13,0,13,3],[14,0,14,3],[15,0,15,3],[43,0,43,3],[44,0,44,3],[45,0,45,3],[46,0,46,3],[47,0,47,3],[48,0,48,3],[49,0,49,3],[141,0,141,3],[142,0,142,3],[143,0,143,3],[144,0,144,3],[145,0,145,3],[146,0,146,3],[147,0,147,3],[148,0,148,3],[149,0,149,3],[150,0,150,3],[151,0,151,3],[152,0,152,3],[153,0,153,3],[154,0,154,3],[155,0,155,3],[156,0,156,3],[157,0,157,3],[158,0,158,3],[159,0,159,3],[160,0,160,3],[161,0,161,3],[162,0,162,3],[163,0,163,3],[164,0,164,3],[165,0,165,3],[166,0,166,3],[167,0,167,3],[168,0,168,3],[169,0,169,3],[170,0,170,3],[171,0,171,3],[172,0,172,3],[173,0,173,3],[174,0,174,3],[175,0,175,3],[176,0,176,3],[177,0,177,3],[178,0,178,3],[179,0,179,3],[180,0,180,3],[181,0,181,3],[182,0,182,3],[183,0,183,3],[184,0,184,3],[185,0,185,3],[186,0,186,3],[187,0,187,3],[188,0,188,3],[189,0,189,3],[190,0,190,3],[191,0,191,3],[192,0,192,3],[193,0,193,3],[194,0,194,3],[195,0,195,3],[196,0,196,3],[197,0,197,3],[198,0,198,3],[199,0,199,3],[200,0,200,3],[201,0,201,3],[202,0,202,3],[203,0,203,3],[204,0,204,3],[205,0,205,3],[206,0,206,3],[207,0,207,3],[208,0,208,3],[209,0,209,3],[210,0,210,3],[211,0,211,3],[212,0,212,3],[226,0,226,3],[227,0,227,3],[228,0,228,3],[229,0,229,3],[230,0,230,3],[213,0,213,3],[214,0,214,3],[215,0,215,3],[216,0,216,3],[217,0,217,3],[218,0,218,3],[219,0,219,3],[220,0,220,3],[221,0,221,3],[3,1,3,5],[249,0,249,3],[240,0,240,3],[241,0,241,3],[242,0,242,3],[243,0,243,3],[244,0,244,3],[245,0,245,3],[246,0,246,3],[247,0,247,3],[248,0,248,3],[231,0,231,3],[232,0,232,3],[233,0,233,3],[234,0,234,3],[235,0,235,3],[236,0,236,3],[237,0,237,3],[238,0,238,3],[239,0,239,3],[222,0,222,3],[223,0,223,3],[224,0,224,3],[225,0,225,3]]}
[]
[{"$f":"Stammdaten!C7","v":"Prüfungsentschädigung"},null,null,null,null,null,null,null,null,null,null,"BD-Zahl:"]
["Zahlungs- und Verrechnungsauftrag"]
[{"$f":"IFERROR(VLOOKUP(Stammdaten!B5,Schulen!Q:T,4,0),\"\")","v":""},{"$f":"Stammdaten!C5","v":""},null,null,null,null,{"$f":"SUM(G9:G299)","v":0},null,null,null,null,{"$f":"LEFT(L3,13)","v":""}]
["Kostenstelle","Lohnart","Datum","Auftrag","Geschäftsber.","Buchungskreis","Personalber.",null,null,null,null,{"$f":"RIGHT(L3,5)","v":""}]
[{"$f":"IF(Stammdaten!B8=\"\",Stammdaten!B5,Stammdaten!B8)","v":0},{"$f":"Stammdaten!B7","v":4811},{"$f":"Stammdaten!B6","v":"00:00:00"},{"$f":"Stammdaten!D8","v":""},3740,3000,60,null,null,null,null,{"$f":"L4&L5","v":""}]
[]
["Zu- und Vorname, akademischer Grad",null,null,null,"Personalnr.","Lohnart","Betrag",null,null,null,"Datum","Zuordnung","Kostenstelle","Auftrag"]
[{"$f":"IF(Pivot!A2=\"\",\"\",Pivot!A2)","v":""},null,null,null,{"$f":"IF(Pivot!B2=\"\",\"\",Pivot!B2)","v":""},{"$f":"IF(E9=\"\",\"\",$B$6)","v":""},{"$f":"IF(Pivot!C2=\"\",\"\",Pivot!C2)","v":""},null,null,null,{"$f":"IF(A9=\"\",\"\",$C$6)","v":""},{"$f":"IF(A9=\"\",\"\",$L$6)","v":""},{"$f":"IF(N9=\"\",\"\",$A$6)","v":""},{"$f":"IF(A9=\"\",\"\",$D$6)","v":""},{"$f":"IF(G9=\"\",\"\",\"z\")","v":""}]
[{"$f":"IF(Pivot!A3=\"\",\"\",Pivot!A3)","v":""},null,null,null,{"$f":"IF(Pivot!B3=\"\",\"\",Pivot!B3)","v":""},"",{"$f":"IF(Pivot!C3=\"\",\"\",Pivot!C3)","v":""},null,null,null,{"$f":"IF(A10=\"\",\"\",$C$6)","v":""},{"$f":"IF(A10=\"\",\"\",$L$6)","v":""},{"$f":"IF(N10=\"\",\"\",$A$6)","v":""},{"$f":"IF(A10=\"\",\"\",$D$6)","v":""},""]
[{"$f":"IF(Pivot!A4=\"\",\"\",Pivot!A4)","v":""},null,null,null,{"$f":"IF(Pivot!B4=\"\",\"\",Pivot!B4)","v":""},"",{"$f":"IF(Pivot!C4=\"\",\"\",Pivot!C4)","v":""},null,null,null,"","","","",""]
[{"$f":"IF(Pivot!A5=\"\",\"\",Pivot!A5)","v":""},null,null,null,{"$f":"IF(Pivot!B5=\"\",\"\",Pivot!B5)","v":""},"",{"$f":"IF(Pivot!C5=\"\",\"\",Pivot!C5)","v":""},null,null,null,"","","","",""]
[{"$f":"IF(Pivot!A6=\"\",\"\",Pivot!A6)","v":""},null,null,null,{"$f":"IF(Pivot!B6=\"\",\"\",Pivot!B6)","v":""},"",{"$f":"IF(Pivot!C6=\"\",\"\",Pivot!C6)","v":""},null,null,null,"","","","",""]
[{"$f":"IF(Pivot!A7=\"\",\"\",Pivot!A7)","v":""},null,null,null,{"$f":"IF(Pivot!B7=\"\",\"\",Pivot!B7)","v":""},"",{"$f":"IF(Pivot!C7=\"\",\"\",Pivot!C7)","v":""},null,null,null,"","","","",""]
[{"$f":"IF(Pivot!A8=\"\",\"\",Pivot!A8)","v":""},null,null,null,{"$f":"IF(Pivot!B8=\"\",\"\",Pivot!B8)","v":""},{"$f":"IF(E15=\"\",\"\",$B$6)","v":""},{"$f":"IF(Pivot!C8=\"\",\"\",Pivot!C8)","v":""},null,null,null,"","","","",""]
[{"$f":"IF(Pivot!A9=\"\",\"\",Pivot!A9)","v":""},null,null,null,{"$f":"IF(Pivot!B9=\"\",\"\",Pivot!B9)","v":""},"",{"$f":"IF(Pivot!C9=\"\",\"\",Pivot!C9)","v":""},null,null,null,"","","","",""]
[{"$f":"IF(Pivot!A10=\"\",\"\",Pivot!A10)","v":""},null,null,null,{"$f":"IF(Pivot!B10=\"\",\"\",Pivot!B10)","v":""},"",{"$f":"IF(Pivot!C10=\"\",\"\",Pivot!C10)","v":""},null,null,null,"","","","",""]
[{"$f":"IF(Pivot!A11=\"\",\"\",Pivot!A11)","v":""},null,null,null,{"$f":"IF(Pivot!B11=\"\",\"\",Pivot!B11)","v":""},"",{"$f":"IF(Pivot!C11=\"\",\"\",Pivot!C11)","v":""},null,null,null,"","","","",""]
[{"$f":"IF(Pivot!A12=\"\",\"\",Pivot!A12)","v":""},null,null,null,{"$f":"IF(Pivot!B12=\"\",\"\",Pivot!B12)","v":""},"",{"$f":"IF(Pivot!C12=\"\",\"\",Pivot!C12)","v":""},null,null,null,"","","","",""]
[{"$f":"IF(Pivot!A13=\"\",\"\",Pivot!A13)","v":""},null,null,null,{"$f":"IF(Pivot!B13=\"\",\"\",Pivot!B13)","v":""},"",{"$f":"IF(Pivot!C13=\"\",\"\",Pivot!C13)","v":""},null,null,null,"","","","",""]
[{"$f":"IF(Pivot!A14=\"\",\"\",Pivot!A14)","v":""},null,null,null,{"$f":"IF(Pivot!B14=\"\",\"\",Pivot!B14)","v":""},"",{"$f":"IF(Pivot!C14=\"\",\"\",Pivot!C14)","v":""},null,null,null,"","","","",""]
[{"$f":"IF(Pivot!A15=\"\",\"\",Pivot!A15)","v":""},null,null,null,{"$f":"IF(Pivot!B15=\"\",\"\",Pivot!B15)","v":""},"",{"$f":"IF(Pivot!C15=\"\",\"\",Pivot!C15)","v":""},null,null,null,"","","","",""]
[{"$f":"IF(Pivot!A16=\"\",\"\",Pivot!A16)","v":""},null,null,null,{"$f":"IF(Pivot!B16=\"\",\"\",Pivot!B16)","v":""},"",{"$f":"IF(Pivot!C16=\"\",\"\",Pivot!C16)","v":""},null,null,null,"","","","",""]
[{"$f":"IF(Pivot!A17=\"\",\"\",Pivot!A17)","v":""},null,null,null,{"$f":"IF(Pivot!B17=\"\",\"\",Pivot!B17)","v":""},"",{"$f":"IF(Pivot!C17=\"\",\"\",Pivot!C17)","v":""},null,null,null,"","","","",""]
[{"$f":"IF(Pivot!A18=\"\",\"\",Pivot!A18)","v":""},null,null,null,{"$f":"IF(Pivot!B18=\"\",\"\",Pivot!B18)","v":""},"",{"$f":"IF(Pivot!C18=\"\",\"\",Pivot!C18)","v":""},null,null,null,"","","","",""]
[{"$f":"IF(Pivot!A19=\"\",\"\",Pivot!A19)","v":""},null,null,null,{"$f":"IF(Pivot!B19=\"\",\"\",Pivot!B19)","v":""},"",{"$f":"IF(Pivot!C19=\"\",\"\",Pivot!C19)","v":""},null,null,null,"","","","",""]
[{"$f":"IF(Pivot!A20=\"\",\"\",Pivot!A20)","v":""},null,null,null,{"$f":"IF(Pivot!B20=\"\",\"\",Pivot!B20)","v":""},"",{"$f":"IF(Pivot!C20=\"\",\"\",Pivot!C20)","v":""},null,null,null,"","","","",""]
[{"$f":"IF(Pivot!A21=\"\",\"\",Pivot!A21)","v":""},null,null,null,{"$f":"IF(Pivot!B21=\"\",\"\",Pivot!B21)","v":""},"",{"$f":"IF(Pivot!C21=\"\",\"\",Pivot!C21)","v":""},null,null,null,"","","","",""]
[{"$f":"IF(Pivot!A22=\"\",\"\",Pivot!A22)","v":""},null,null,null,{"$f":"IF(Pivot!B22=\"\",\"\",Pivot!B22)","v":""},"",{"$f":"IF(Pivot!C22=\"\",\"\",Pivot!C22)","v":""},null,null,null,"","","","",""]
[{"$f":"IF(Pivot!A23=\"\",\"\",Pivot!A23)","v":""},null,null,null,{"$f":"IF(Pivot!B23=\"\",\"\",Pivot!B23)","v":""},"",{"$f":"IF(Pivot!C23=\"\",\"\",Pivot!C23)","v":""},null,null,null,"","","","",""]
[{"$f":"IF(Pivot!A24=\"\",\"\",Pivot!A24)","v":""},null,null,null,{"$f":"IF(Pivot!B24=\"\",\"\",Pivot!B24)","v":""},"",{"$f":"IF(Pivot!C24=\"\",\"\",Pivot!C24)","v":""},null,null,null,"","","","",""]
[{"$f":"IF(Pivot!A25=\"\",\"\",Pivot!A25)","v":""},null,null,null,{"$f":"IF(Pivot!B25=\"\",\"\",Pivot!B25)","v":""},"",{"$f":"IF(Pivot!C25=\"\",\"\",Pivot!C25)","v":""},null,null,null,"","","","",""]
[{"$f":"IF(Pivot!A26=\"\",\"\",Pivot!A26)","v":""},null,null,null,{"$f":"IF(Pivot!B26=\"\",\"\",Pivot!B26)","v":""},"",{"$f":"IF(Pivot!C26=\"\",\"\",Pivot!C26)","v":""},null,null,null,"","","","",""]
[{"$f":"IF(Pivot!A27=\"\",\"\",Pivot!A27)","v":""},null,null,null,{"$f":"IF(Pivot!B27=\"\",\"\",Pivot!B27)","v":""},"",{"$f":"IF(Pivot!C27=\"\",\"\",Pivot!C27)","v":""},null,null,null,"","","","",""]
[{"$f":"IF(Pivot!A28=\"\",\"\",Pivot!A28)","v":""},null,null,null,{"$f":"IF(Pivot!B28=\"\",\"\",Pivot!B28)","v":""},"",{"$f":"IF(Pivot!C28=\"\",\"\",Pivot!C28)","v":""},null,null,null,"","","","",""]
[{"$f":"IF(Pivot!A29=\"\",\"\",Pivot!A29)","v":""},null,null,null,{"$f":"IF(Pivot!B29=\"\",\"\",Pivot!B29)","v":""},"",{"$f":"IF(Pivot!C29=\"\",\"\",Pivot!C29)","v":""},null,null,null,"","","","",""]
[{"$f":"IF(Pivot!A30=\"\",\"\",Pivot!A30)","v":""},null,null,null,{"$f":"IF(Pivot!B30=\"\",\"\",Pivot!B30)","v":""},"",{"$f":"IF(Pivot!C30=\"\",\"\",Pivot!C30)","v":""},null,null,null,"","","","",""]
[{"$f":"IF(Pivot!A31=\"\",\"\",Pivot!A31)","v":""},null,null,null,{"$f":"IF(Pivot!B31=\"\",\"\",Pivot!B31)","v":""},"",{"$f":"IF(Pivot!C31=\"\",\"\",Pivot!C31)","v":""},null,null,null,"","","","",""]
[{"$f":"IF(Pivot!A32=\"\",\"\",Pivot!A32)","v":""},null,null,null,{"$f":"IF(Pivot!B32=\"\",\"\",Pivot!B32)","v":""},"",{"$f":"IF(Pivot!C32=\"\",\"\",Pivot!C32)","v":""},null,null,null,"","","","",""]
[{"$f":"IF(Pivot!A33=\"\",\"\",Pivot!A33)","v":""},null,null,null,{"$f":"IF(Pivot!B33=\"\",\"\",Pivot!B33)","v":""},"",{"$f":"IF(Pivot!C33=\"\",\"\",Pivot!C33)","v":""},null,null,null,"","","","",""]
[{"$f":"IF(Pivot!A34=\"\",\"\",Pivot!A34)","v":""},null,null,null,{"$f":"IF(Pivot!B34=\"\",\"\",Pivot!B34)","v":""},"",{"$f":"IF(Pivot!C34=\"\",\"\",Pivot!C34)","v":""},null,null,null,"","","","",""]
[{"$f":"IF(Pivot!A35=\"\",\"\",Pivot!A35)","v":""},null,null,null,{"$f":"IF(Pivot!B35=\"\",\"\",Pivot!B35)","v":""},"",{"$f":"IF(Pivot!C35=\"\",\"\",Pivot!C35)","v":""},null,null,null,"","","","",""]
[{"$f":"IF(Pivot!A36=\"\",\"\",Pivot!A36)","v":""},null,null,null,{"$f":"IF(Pivot!B36=\"\",\"\",Pivot!B36)","v":""},"",{"$f":"IF(Pivot!C36=\"\",\"\",Pivot!C36)","v":""},null,null,null,"","","","",""]
[{"$f":"IF(Pivot!A37=\"\",\"\",Pivot!A37)","v":""},null,null,null,{"$f":"IF(Pivot!B37=\"\",\"\",Pivot!B37)","v":""},"",{"$f":"IF(Pivot!C37=\"\",\"\",Pivot!C37)","v":""},null,null,null,"","","","",""]
[{"$f":"IF(Pivot!A38=\"\",\"\",Pivot!A38)","v":""},null,null,null,{"$f":"IF(Pivot!B38=\"\",\"\",Pivot!B38)","v":""},"",{"$f":"IF(Pivot!C38=\"\",\"\",Pivot!C38)","v":""},null,null,null,"","","","",""]
[{"$f":"IF(Pivot!A39=\"\",\"\",Pivot!A39)","v":""},null,null,null,{"$f":"IF(Pivot!B39=\"\",\"\",Pivot!B39)","v":""},"",{"$f":"IF(Pivot!C39=\"\",\"\",Pivot!C39)","v":""},null,null,null,"","","","",""]
[{"$f":"IF(Pivot!A40=\"\",\"\",Pivot!A40)","v":""},null,null,null,{"$f":"IF(Pivot!B40=\"\",\"\",Pivot!B40)","v":""},"",{"$f":"IF(Pivot!C40=\"\",\"\",Pivot!C40)","v":""},null,null,null,"","","","",""]
[{"$f":"IF(Pivot!A41=\"\",\"\",Pivot!A41)","v":""},null,null,null,{"$f":"IF(Pivot!B41=\"\",\"\",Pivot!B41)","v":""},"",{"$f":"IF(Pivot!C41=\"\",\"\",Pivot!C41)","v":""},null,null,null,"","","","",""]
[{"$f":"IF(Pivot!A42=\"\",\"\",Pivot!A42)","v":""},null,null,null,{"$f":"IF(Pivot!B42=\"\",\"\",Pivot!B42)","v":""},"",{"$f":"IF(Pivot!C42=\"\",\"\",Pivot!C42)","v":""},null,null,null,"","","","",""]
[{"$f":"IF(Pivot!A43=\"\",\"\",Pivot!A43)","v":""},null,null,null,{"$f":"IF(Pivot!B43=\"\",\"\",Pivot!B43)","v":""},"",{"$f":"IF(Pivot!C43=\"\",\"\",Pivot!C43)","v":""},null,null,null,"","","","",""]
[{"$f":"IF(Pivot!A44=\"\",\"\",Pivot!A44)","v":""},null,null,null,{"$f":"IF(Pivot!B44=\"\",\"\",Pivot!B44)","v":""},"",{"$f":"IF(Pivot!C44=\"\",\"\",Pivot!C44)","v":""},null,null,null,"","","","",""]
[{"$f":"IF(Pivot!A45=\"\",\"\",Pivot!A45)","v":""},null,null,null,{"$f":"IF(Pivot!B45=\"\",\"\",Pivot!B45)","v":""},"",{"$f":"IF(Pivot!C45=\"\",\"\",Pivot!C45)","v":""},null,null,null,"","","","",""]
[{"$f":"IF(Pivot!A46=\"\",\"\",Pivot!A46)","v":""},null,null,null,{"$f":"IF(Pivot!B46=\"\",\"\",Pivot!B46)","v":""},"",{"$f":"IF(Pivot!C46=\"\",\"\",Pivot!C46)","v":""},null,null,null,"","","","",""]
[{"$f":"IF(Pivot!A47=\"\",\"\",Pivot!A47)","v":""},null,null,null,{"$f":"IF(Pivot!B47=\"\",\"\",Pivot!B47)","v":""},"",{"$f":"IF(Pivot!C47=\"\",\"\",Pivot!C47)","v":""},null,null,null,"","","","",""]
[{"$f":"IF(Pivot!A48=\"\",\"\",Pivot!A48)","v":""},null,null,null,{"$f":"IF(Pivot!B48=\"\",\"\",Pivot!B48)","v":""},"",{"$f":"IF(Pivot!C48=\"\",\"\",Pivot!C48)","v":""},null,null,null,"","","","",""]
[{"$f":"IF(Pivot!A49=\"\",\"\",Pivot!A49)","v":""},null,null,null,{"$f":"IF(Pivot!B49=\"\",\"\",Pivot!B49)","v":""},"",{"$f":"IF(Pivot!C49=\"\",\"\",Pivot!C49)","v":""},null,null,null,"","","","",""]
[{"$f":"IF(Pivot!A50=\"\",\"\",Pivot!A50)","v":""},null,null,null,{"$f":"IF(Pivot!B50=\"\",\"\",Pivot!B50)","v":""},"",{"$f":"IF(Pivot!C50=\"\",\"\",Pivot!C50)","v":""},null,null,null,"","","","",""]
[{"$f":"IF(Pivot!A51=\"\",\"\",Pivot!A51)","v":""},null,null,null,{"$f":"IF(Pivot!B51=\"\",\"\",Pivot!B51)","v":""},"",{"$f":"IF(Pivot!C51=\"\",\"\",Pivot!C51)","v":""},null,null,null,"","","","",""]
[{"$f":"IF(Pivot!A52=\"\",\"\",Pivot!A52)","v":""},null,null,null,{"$f":"IF(Pivot!B52=\"\",\"\",Pivot!B52)","v":""},"",{"$f":"IF(Pivot!C52=\"\",\"\",Pivot!C52)","v":""},null,null,null,"","","","",""]
[{"$f":"IF(Pivot!A53=\"\",\"\",Pivot!A53)","v":""},null,null,null,{"$f":"IF(Pivot!B53=\"\",\"\",Pivot!B53)","v":""},"",{"$f":"IF(Pivot!C53=\"\",\"\",Pivot!C53)","v":""},null,null,null,"","","","",""]
[{"$f":"IF(Pivot!A54=\"\",\"\",Pivot!A54)","v":""},null,null,null,{"$f":"IF(Pivot!B54=\"\",\"\",Pivot!B54)","v":""},"",{"$f":"IF(Pivot!C54=\"\",\"\",Pivot!C54)","v":""},null,null,null,"","","","",""]
[{"$f":"IF(Pivot!A55=\"\",\"\",Pivot!A55)","v":""},null,null,null,{"$f":"IF(Pivot!B55=\"\",\"\",Pivot!B55)","v":""},"",{"$f":"IF(Pivot!C55=\"\",\"\",Pivot!C55)","v":""},null,null,null,"","","","",""]
[{"$f":"IF(Pivot!A56=\"\",\"\",Pivot!A56)","v":""},null,null,null,{"$f":"IF(Pivot!B56=\"\",\"\",Pivot!B56)","v":""},"",{"$f":"IF(Pivot!C56=\"\",\"\",Pivot!C56)","v":""},null,null,null,"","","","",""]
[{"$f":"IF(Pivot!A57=\"\",\"\",Pivot!A57)","v":""},null,null,null,{"$f":"IF(Pivot!B57=\"\",\"\",Pivot!B57)","v":""},"",{"$f":"IF(Pivot!C57=\"\",\"\",Pivot!C57)","v":""},null,null,null,"","","","",""]
[{"$f":"IF(Pivot!A58=\"\",\"\",Pivot!A58)","v":""},null,null,null,{"$f":"IF(Pivot!B58=\"\",\"\",Pivot!B58)","v":""},"",{"$f":"IF(Pivot!C58=\"\",\"\",Pivot!C58)","v":""},null,null,null,"","","","",""]
[{"$f":"IF(Pivot!A59=\"\",\"\",Pivot!A59)","v":""},null,null,null,{"$f":"IF(Pivot!B59=\"\",\"\",Pivot!B59)","v":""},"",{"$f":"IF(Pivot!C59=\"\",\"\",Pivot!C59)","v":""},null,null,null,"","","","",""]
[{"$f":"IF(Pivot!A60=\"\",\"\",Pivot!A60)","v":""},null,null,null,{"$f":"IF(Pivot!B60=\"\",\"\",Pivot!B60)","v":""},"",{"$f":"IF(Pivot!C60=\"\",\"\",Pivot!C60)","v":""},null,null,null,"","","","",""]
[{"$f":"IF(Pivot!A61=\"\",\"\",Pivot!A61)","v":""},null,null,null,{"$f":"IF(Pivot!B61=\"\",\"\",Pivot!B61)","v":""},"",{"$f":"IF(Pivot!C61=\"\",\"\",Pivot!C61)","v":""},null,null,null,"","","","",""]
[{"$f":"IF(Pivot!A62=\"\",\"\",Pivot!A62)","v":""},null,null,null,{"$f":"IF(Pivot!B62=\"\",\"\",Pivot!B62)","v":""},"",{"$f":"IF(Pivot!C62=\"\",\"\",Pivot!C62)","v":""},null,null,null,"","","","",""]
[{"$f":"IF(Pivot!A63=\"\",\"\",Pivot!A63)","v":""},null,null,null,{"$f":"IF(Pivot!B63=\"\",\"\",Pivot!B63)","v":""},"",{"$f":"IF(Pivot!C63=\"\",\"\",Pivot!C63)","v":""},null,null,null,"","","","",""]
[{"$f":"IF(Pivot!A64=\"\",\"\",Pivot!A64)","v":""},null,null,null,{"$f":"IF(Pivot!B64=\"\",\"\",Pivot!B64)","v":""},"",{"$f":"IF(Pivot!C64=\"\",\"\",Pivot!C64)","v":""},null,null,null,"","","","",""]
[{"$f":"IF(Pivot!A65=\"\",\"\",Pivot!A65)","v":""},null,null,null,{"$f":"IF(Pivot!B65=\"\",\"\",Pivot!B65)","v":""},"",{"$f":"IF(Pivot!C65=\"\",\"\",Pivot!C65)","v":""},null,null,null,"","","","",""]
[{"$f":"IF(Pivot!A66=\"\",\"\",Pivot!A66)","v":""},null,null,null,{"$f":"IF(Pivot!B66=\"\",\"\",Pivot!B66)","v":""},"",{"$f":"IF(Pivot!C66=\"\",\"\",Pivot!C66)","v":""},null,null,null,"","","","",""]
[{"$f":"IF(Pivot!A67=\"\",\"\",Pivot!A67)","v":""},null,null,null,{"$f":"IF(Pivot!B67=\"\",\"\",Pivot!B67)","v":""},{"$f":"IF(E74=\"\",\"\",$B$6)","v":""},{"$f":"IF(Pivot!C67=\"\",\"\",Pivot!C67)","v":""},null,null,null,{"$f":"IF(A74=\"\",\"\",$C$6)","v":""},{"$f":"IF(A74=\"\",\"\",$L$6)","v":""},{"$f":"IF(N74=\"\",\"\",$A$6)","v":""},{"$f":"IF(A74=\"\",\"\",$D$6)","v":""},{"$f":"IF(G74=\"\",\"\",\"z\")","v":""}]
[{"$f":"IF(Pivot!A68=\"\",\"\",Pivot!A68)","v":""},null,null,null,{"$f":"IF(Pivot!B68=\"\",\"\",Pivot!B68)","v":""},"",{"$f":"IF(Pivot!C68=\"\",\"\",Pivot!C68)","v":""},null,null,null,"","","","",""]
[{"$f":"IF(Pivot!A69=\"\",\"\",Pivot!A69)","v":""},null,null,null,{"$f":"IF(Pivot!B69=\"\",\"\",Pivot!B69)","v":""},"",{"$f":"IF(Pivot!C69=\"\",\"\",Pivot!C69)","v":""},null,null,null,"","","","",""]
[{"$f":"IF(Pivot!A70=\"\",\"\",Pivot!A70)","v":""},null,null,null,{"$f":"IF(Pivot!B70=\"\",\"\",Pivot!B70)","v":""},"",{"$f":"IF(Pivot!C70=\"\",\"\",Pivot!C70)","v":""},null,null,null,"","","","",""]
[{"$f":"IF(Pivot!A71=\"\",\"\",Pivot!A71)","v":""},null,null,null,{"$f":"IF(Pivot!B71=\"\",\"\",Pivot!B71)","v":""},"",{"$f":"IF(Pivot!C71=\"\",\"\",Pivot!C71)","v":""},null,null,null,"","","","",""]
[{"$f":"IF(Pivot!A72=\"\",\"\",Pivot!A72)","v":""},null,null,null,{"$f":"IF(Pivot!B72=\"\",\"\",Pivot!B72)","v":""},"",{"$f":"IF(Pivot!C72=\"\",\"\",Pivot!C72)","v":""},null,null,null,"","","","",""]
[{"$f":"IF(Pivot!A73=\"\",\"\",Pivot!A73)","v":""},null,null,null,{"$f":"IF(Pivot!B73=\"\",\"\",Pivot!B73)","v":""},"",{"$f":"IF(Pivot!C73=\"\",\"\",Pivot!C73)","v":""},null,null,null,"","","","",""]
[{"$f":"IF(Pivot!A74=\"\",\"\",Pivot!A74)","v":""},null,null,null,{"$f":"IF(Pivot!B74=\"\",\"\",Pivot!B74)","v":""},"",{"$f":"IF(Pivot!C74=\"\",\"\",Pivot!C74)","v":""},null,null,null,"","","","",""]
[{"$f":"IF(Pivot!A75=\"\",\"\",Pivot!A75)","v":""},null,null,null,{"$f":"IF(Pivot!B75=\"\",\"\",Pivot!B75)","v":""},"",{"$f":"IF(Pivot!C75=\"\",\"\",Pivot!C75)","v":""},null,null,null,"","","","",""]
[{"$f":"IF(Pivot!A76=\"\",\"\",Pivot!A76)","v":""},null,null,null,{"$f":"IF(Pivot!B76=\"\",\"\",Pivot!B76)","v":""},"",{"$f":"IF(Pivot!C76=\"\",\"\",Pivot!C76)","v":""},null,null,null,"","","","",""]
[{"$f":"IF(Pivot!A77=\"\",\"\",Pivot!A77)","v":""},null,null,null,{"$f":"IF(Pivot!B77=\"\",\"\",Pivot!B77)","v":""},"",{"$f":"IF(Pivot!C77=\"\",\"\",Pivot!C77)","v":""},null,null,null,"","","","",""]
[{"$f":"IF(Pivot!A78=\"\",\"\",Pivot!A78)","v":""},null,null,null,{"$f":"IF(Pivot!B78=\"\",\"\",Pivot!B78)","v":""},"",{"$f":"IF(Pivot!C78=\"\",\"\",Pivot!C78)","v":""},null,null,null,"","","","",""]
[{"$f":"IF(Pivot!A79=\"\",\"\",Pivot!A79)","v":""},null,null,null,{"$f":"IF(Pivot!B79=\"\",\"\",Pivot!B79)","v":""},"",{"$f":"IF(Pivot!C79=\"\",\"\",Pivot!C79)","v":""},null,null,null,"","","","",""]
[{"$f":"IF(Pivot!A80=\"\",\"\",Pivot!A80)","v":""},null,null,null,{"$f":"IF(Pivot!B80=\"\",\"\",Pivot!B80)","v":""},"",{"$f":"IF(Pivot!C80=\"\",\"\",Pivot!C80)","v":""},null,null,null,"","","","",""]
[{"$f":"IF(Pivot!A81=\"\",\"\",Pivot!A81)","v":""},null,null,null,{"$f":"IF(Pivot!B81=\"\",\"\",Pivot!B81)","v":""},"",{"$f":"IF(Pivot!C81=\"\",\"\",Pivot!C81)","v":""},null,null,null,"","","","",""]
[{"$f":"IF(Pivot!A82=\"\",\"\",Pivot!A82)","v":""},null,null,null,{"$f":"IF(Pivot!B82=\"\",\"\",Pivot!B82)","v":""},"",{"$f":"IF(Pivot!C82=\"\",\"\",Pivot!C82)","v":""},null,null,null,"","","","",""]
[{"$f":"IF(Pivot!A83=\"\",\"\",Pivot!A83)","v":""},null,null,null,{"$f":"IF(Pivot!B83=\"\",\"\",Pivot!B83)","v":""},"",{"$f":"IF(Pivot!C83=\"\",\"\",Pivot!C83)","v":""},null,null,null,"","","","",""]
[{"$f":"IF(Pivot!A84=\"\",\"\",Pivot!A84)","v":""},null,null,null,{"$f":"IF(Pivot!B84=\"\",\"\",Pivot!B84)","v":""},"",{"$f":"IF(Pivot!C84=\"\",\"\",Pivot!C84)","v":""},null,null,null,"","","","",""]
[{"$f":"IF(Pivot!A85=\"\",\"\",Pivot!A85)","v":""},null,null,null,{"$f":"IF(Pivot!B85=\"\",\"\",Pivot!B85)","v":""},"",{"$f":"IF(Pivot!C85=\"\",\"\",Pivot!C85)","v":""},null,null,null,"","","","",""]
[{"$f":"IF(Pivot!A86=\"\",\"\",Pivot!A86)","v":""},null,null,null,{"$f":"IF(Pivot!B86=\"\",\"\",Pivot!B86)","v":""},"",{"$f":"IF(Pivot!C86=\"\",\"\",Pivot!C86)","v":""},null,null,null,"","","","",""]
[{"$f":"IF(Pivot!A87=\"\",\"\",Pivot!A87)","v":""},null,null,null,{"$f":"IF(Pivot!B87=\"\",\"\",Pivot!B87)","v":""},"",{"$f":"IF(Pivot!C87=\"\",\"\",Pivot!C87)","v":""},null,null,null,"","","","",""]
[{"$f":"IF(Pivot!A88=\"\",\"\",Pivot!A88)","v":""},null,null,null,{"$f":"IF(Pivot!B88=\"\",\"\",Pivot!B88)","v":""},"",{"$f":"IF(Pivot!C88=\"\",\"\",Pivot!C88)","v":""},null,null,null,"","","","",""]
[{"$f":"IF(Pivot!A89=\"\",\"\",Pivot!A89)","v":""},null,null,null,{"$f":"IF(Pivot!B89=\"\",\"\",Pivot!B89)","v":""},"",{"$f":"IF(Pivot!C89=\"\",\"\",Pivot!C89)","v":""},null,null,null,"","","","",""]
[{"$f":"IF(Pivot!A90=\"\",\"\",Pivot!A90)","v":""},null,null,null,{"$f":"IF(Pivot!B90=\"\",\"\",Pivot!B90)","v":""},"",{"$f":"IF(Pivot!C90=\"\",\"\",Pivot!C90)","v":""},null,null,null,"","","","",""]
[{"$f":"IF(Pivot!A91=\"\",\"\",Pivot!A91)","v":""},null,null,null,{"$f":"IF(Pivot!B91=\"\",\"\",Pivot!B91)","v":""},"",{"$f":"IF(Pivot!C91=\"\",\"\",Pivot!C91)","v":""},null,null,null,"","","","",""]
[{"$f":"IF(Pivot!A92=\"\",\"\",Pivot!A92)","v":""},null,null,null,{"$f":"IF(Pivot!B92=\"\",\"\",Pivot!B92)","v":""},"",{"$f":"IF(Pivot!C92=\"\",\"\",Pivot!C92)","v":""},null,null,null,"","","","",""]
[{"$f":"IF(Pivot!A93=\"\",\"\",Pivot!A93)","v":""},null,null,null,{"$f":"IF(Pivot!B93=\"\",\"\",Pivot!B93)","v":""},"",{"$f":"IF(Pivot!C93=\"\",\"\",Pivot!C93)","v":""},null,null,null,"","","","",""]
[{"$f":"IF(Pivot!A94=\"\",\"\",Pivot!A94)","v":""},null,null,null,{"$f":"IF(Pivot!B94=\"\",\"\",Pivot!B94)","v":""},"",{"$f":"IF(Pivot!C94=\"\",\"\",Pivot!C94)","v":""},null,null,null,"","","","",""]
[{"$f":"IF(Pivot!A95=\"\",\"\",Pivot!A95)","v":""},null,null,null,{"$f":"IF(Pivot!B95=\"\",\"\",Pivot!B95)","v":""},"",{"$f":"IF(Pivot!C95=\"\",\"\",Pivot!C95)","v":""},null,null,null,"","","","",""]
[{"$f":"IF(Pivot!A96=\"\",\"\",Pivot!A96)","v":""},null,null,null,{"$f":"IF(Pivot!B96=\"\",\"\",Pivot!B96)","v":""},"",{"$f":"IF(Pivot!C96=\"\",\"\",Pivot!C96)","v":""},null,null,null,"","","","",""]
[{"$f":"IF(Pivot!A97=\"\",\"\",Pivot!A97)","v":""},null,null,null,{"$f":"IF(Pivot!B97=\"\",\"\",Pivot!B97)","v":""},"",{"$f":"IF(Pivot!C97=\"\",\"\",Pivot!C97)","v":""},null,null,null,"","","","",""]
[{"$f":"IF(Pivot!A98=\"\",\"\",Pivot!A98)","v":""},null,null,null,{"$f":"IF(Pivot!B98=\"\",\"\",Pivot!B98)","v":""},"",{"$f":"IF(Pivot!C98=\"\",\"\",Pivot!C98)","v":""},null,null,null,"","","","",""]
[{"$f":"IF(Pivot!A99=\"\",\"\",Pivot!A99)","v":""},null,null,null,{"$f":"IF(Pivot!B99=\"\",\"\",Pivot!B99)","v":""},"",{"$f":"IF(Pivot!C99=\"\",\"\",Pivot!C99)","v":""},null,null,null,"","","","",""]
[{"$f":"IF(Pivot!A100=\"\",\"\",Pivot!A100)","v":""},null,null,null,{"$f":"IF(Pivot!B100=\"\",\"\",Pivot!B100)","v":""},"",{"$f":"IF(Pivot!C100=\"\",\"\",Pivot!C100)","v":""},null,null,null,"","","","",""]
[{"$f":"IF(Pivot!A101=\"\",\"\",Pivot!A101)","v":""},null,null,null,{"$f":"IF(Pivot!B101=\"\",\"\",Pivot!B101)","v":""},"",{"$f":"IF(Pivot!C101=\"\",\"\",Pivot!C101)","v":""},null,null,null,"","","","",""]
[{"$f":"IF(Pivot!A102=\"\",\"\",Pivot!A102)","v":""},null,null,null,{"$f":"IF(Pivot!B102=\"\",\"\",Pivot!B102)","v":""},"",{"$f":"IF(Pivot!C102=\"\",\"\",Pivot!C102)","v":""},null,null,null,"","","","",""]
[{"$f":"IF(Pivot!A103=\"\",\"\",Pivot!A103)","v":""},null,null,null,{"$f":"IF(Pivot!B103=\"\",\"\",Pivot!B103)","v":""},"",{"$f":"IF(Pivot!C103=\"\",\"\",Pivot!C103)","v":""},null,null,null,"","","","",""]
[{"$f":"IF(Pivot!A104=\"\",\"\",Pivot!A104)","v":""},null,null,null,{"$f":"IF(Pivot!B104=\"\",\"\",Pivot!B104)","v":""},"",{"$f":"IF(Pivot!C104=\"\",\"\",Pivot!C104)","v":""},null,null,null,"","","","",""]
[{"$f":"IF(Pivot!A105=\"\",\"\",Pivot!A105)","v":""},null,null,null,{"$f":"IF(Pivot!B105=\"\",\"\",Pivot!B105)","v":""},"",{"$f":"IF(Pivot!C105=\"\",\"\",Pivot!C105)","v":""},null,null,null,"","","","",""]
[{"$f":"IF(Pivot!A106=\"\",\"\",Pivot!A106)","v":""},null,null,null,{"$f":"IF(Pivot!B106=\"\",\"\",Pivot!B106)","v":""},"",{"$f":"IF(Pivot!C106=\"\",\"\",Pivot!C106)","v":""},null,null,null,"","","","",""]
[{"$f":"IF(Pivot!A107=\"\",\"\",Pivot!A107)","v":""},null,null,null,{"$f":"IF(Pivot!B107=\"\",\"\",Pivot!B107)","v":""},"",{"$f":"IF(Pivot!C107=\"\",\"\",Pivot!C107)","v":""},null,null,null,"","","","",""]
[{"$f":"IF(Pivot!A108=\"\",\"\",Pivot!A108)","v":""},null,null,null,{"$f":"IF(Pivot!B108=\"\",\"\",Pivot!B108)","v":""},"",{"$f":"IF(Pivot!C108=\"\",\"\",Pivot!C108)","v":""},null,null,null,"","","","",""]
[{"$f":"IF(Pivot!A109=\"\",\"\",Pivot!A109)","v":""},null,null,null,{"$f":"IF(Pivot!B109=\"\",\"\",Pivot!B109)","v":""},"",{"$f":"IF(Pivot!C109=\"\",\"\",Pivot!C109)","v":""},null,null,null,"","","","",""]
[{"$f":"IF(Pivot!A110=\"\",\"\",Pivot!A110)","v":""},null,null,null,{"$f":"IF(Pivot!B110=\"\",\"\",Pivot!B110)","v":""},"",{"$f":"IF(Pivot!C110=\"\",\"\",Pivot!C110)","v":""},null,null,null,"","","","",""]
[{"$f":"IF(Pivot!A111=\"\",\"\",Pivot!A111)","v":""},null,null,null,{"$f":"IF(Pivot!B111=\"\",\"\",Pivot!B111)","v":""},"",{"$f":"IF(Pivot!C111=\"\",\"\",Pivot!C111)","v":""},null,null,null,"","","","",""]
[{"$f":"IF(Pivot!A112=\"\",\"\",Pivot!A112)","v":""},null,null,null,{"$f":"IF(Pivot!B112=\"\",\"\",Pivot!B112)","v":""},"",{"$f":"IF(Pivot!C112=\"\",\"\",Pivot!C112)","v":""},null,null,null,"","","","",""]
[{"$f":"IF(Pivot!A113=\"\",\"\",Pivot!A113)","v":""},null,null,null,{"$f":"IF(Pivot!B113=\"\",\"\",Pivot!B113)","v":""},"",{"$f":"IF(Pivot!C113=\"\",\"\",Pivot!C113)","v":""},null,null,null,"","","","",""]
[{"$f":"IF(Pivot!A114=\"\",\"\",Pivot!A114)","v":""},null,null,null,{"$f":"IF(Pivot!B114=\"\",\"\",Pivot!B114)","v":""},"",{"$f":"IF(Pivot!C114=\"\",\"\",Pivot!C114)","v":""},null,null,null,"","","","",""]
[{"$f":"IF(Pivot!A115=\"\",\"\",Pivot!A115)","v":""},null,null,null,{"$f":"IF(Pivot!B115=\"\",\"\",Pivot!B115)","v":""},"",{"$f":"IF(Pivot!C115=\"\",\"\",Pivot!C115)","v":""},null,null,null,"","","","",""]
[{"$f":"IF(Pivot!A116=\"\",\"\",Pivot!A116)","v":""},null,null,null,{"$f":"IF(Pivot!B116=\"\",\"\",Pivot!B116)","v":""},"",{"$f":"IF(Pivot!C116=\"\",\"\",Pivot!C116)","v":""},null,null,null,"","","","",""]
[{"$f":"IF(Pivot!A117=\"\",\"\",Pivot!A117)","v":""},null,null,null,{"$f":"IF(Pivot!B117=\"\",\"\",Pivot!B117)","v":""},"",{"$f":"IF(Pivot!C117=\"\",\"\",Pivot!C117)","v":""},null,null,null,"","","","",""]
[{"$f":"IF(Pivot!A118=\"\",\"\",Pivot!A118)","v":""},null,null,null,{"$f":"IF(Pivot!B118=\"\",\"\",Pivot!B118)","v":""},"",{"$f":"IF(Pivot!C118=\"\",\"\",Pivot!C118)","v":""},null,null,null,"","","","",""]
[{"$f":"IF(Pivot!A119=\"\",\"\",Pivot!A119)","v":""},null,null,null,{"$f":"IF(Pivot!B119=\"\",\"\",Pivot!B119)","v":""},"",{"$f":"IF(Pivot!C119=\"\",\"\",Pivot!C119)","v":""},null,null,null,"","","","",""]
[{"$f":"IF(Pivot!A120=\"\",\"\",Pivot!A120)","v":""},null,null,null,{"$f":"IF(Pivot!B120=\"\",\"\",Pivot!B120)","v":""},"",{"$f":"IF(Pivot!C120=\"\",\"\",Pivot!C120)","v":""},null,null,null,"","","","",""]
[{"$f":"IF(Pivot!A121=\"\",\"\",Pivot!A121)","v":""},null,null,null,{"$f":"IF(Pivot!B121=\"\",\"\",Pivot!B121)","v":""},"",{"$f":"IF(Pivot!C121=\"\",\"\",Pivot!C121)","v":""},null,null,null,"","","","",""]
[{"$f":"IF(Pivot!A122=\"\",\"\",Pivot!A122)","v":""},null,null,null,{"$f":"IF(Pivot!B122=\"\",\"\",Pivot!B122)","v":""},"",{"$f":"IF(Pivot!C122=\"\",\"\",Pivot!C122)","v":""},null,null,null,"","","","",""]
[{"$f":"IF(Pivot!A123=\"\",\"\",Pivot!A123)","v":""},null,null,null,{"$f":"IF(Pivot!B123=\"\",\"\",Pivot!B123)","v":""},"",{"$f":"IF(Pivot!C123=\"\",\"\",Pivot!C123)","v":""},null,null,null,"","","","",""]
[{"$f":"IF(Pivot!A124=\"\",\"\",Pivot!A124)","v":""},null,null,null,{"$f":"IF(Pivot!B124=\"\",\"\",Pivot!B124)","v":""},"",{"$f":"IF(Pivot!C124=\"\",\"\",Pivot!C124)","v":""},null,null,null,"","","","",""]
[{"$f":"IF(Pivot!A125=\"\",\"\",Pivot!A125)","v":""},null,null,null,{"$f":"IF(Pivot!B125=\"\",\"\",Pivot!B125)","v":""},"",{"$f":"IF(Pivot!C125=\"\",\"\",Pivot!C125)","v":""},null,null,null,"","","","",""]
[{"$f":"IF(Pivot!A126=\"\",\"\",Pivot!A126)","v":""},null,null,null,{"$f":"IF(Pivot!B126=\"\",\"\",Pivot!B126)","v":""},"",{"$f":"IF(Pivot!C126=\"\",\"\",Pivot!C126)","v":""},null,null,null,"","","","",""]
[{"$f":"IF(Pivot!A127=\"\",\"\",Pivot!A127)","v":""},null,null,null,{"$f":"IF(Pivot!B127=\"\",\"\",Pivot!B127)","v":""},"",{"$f":"IF(Pivot!C127=\"\",\"\",Pivot!C127)","v":""},null,null,null,"","","","",""]
[{"$f":"IF(Pivot!A128=\"\",\"\",Pivot!A128)","v":""},null,null,null,{"$f":"IF(Pivot!B128=\"\",\"\",Pivot!B128)","v":""},"",{"$f":"IF(Pivot!C128=\"\",\"\",Pivot!C128)","v":""},null,null,null,"","","","",""]
[{"$f":"IF(Pivot!A129=\"\",\"\",Pivot!A129)","v":""},null,null,null,{"$f":"IF(Pivot!B129=\"\",\"\",Pivot!B129)","v":""},"",{"$f":"IF(Pivot!C129=\"\",\"\",Pivot!C129)","v":""},null,null,null,"","","","",""]
[{"$f":"IF(Pivot!A130=\"\",\"\",Pivot!A130)","v":""},null,null,null,{"$f":"IF(Pivot!B130=\"\",\"\",Pivot!B130)","v":""},"",{"$f":"IF(Pivot!C130=\"\",\"\",Pivot!C130)","v":""},null,null,null,"","","","",""]
[{"$f":"IF(Pivot!A131=\"\",\"\",Pivot!A131)","v":""},null,null,null,{"$f":"IF(Pivot!B131=\"\",\"\",Pivot!B131)","v":""},{"$f":"IF(E138=\"\",\"\",$B$6)","v":""},{"$f":"IF(Pivot!C131=\"\",\"\",Pivot!C131)","v":""},null,null,null,{"$f":"IF(A138=\"\",\"\",$C$6)","v":""},{"$f":"IF(A138=\"\",\"\",$L$6)","v":""},{"$f":"IF(N138=\"\",\"\",$A$6)","v":""},{"$f":"IF(A138=\"\",\"\",$D$6)","v":""},{"$f":"IF(G138=\"\",\"\",\"z\")","v":""}]
[{"$f":"IF(Pivot!A132=\"\",\"\",Pivot!A132)","v":""},null,null,null,{"$f":"IF(Pivot!B132=\"\",\"\",Pivot!B132)","v":""},"",{"$f":"IF(Pivot!C132=\"\",\"\",Pivot!C132)","v":""},null,null,null,"","","","",""]
[{"$f":"IF(Pivot!A133=\"\",\"\",Pivot!A133)","v":""},null,null,null,{"$f":"IF(Pivot!B133=\"\",\"\",Pivot!B133)","v":""},"",{"$f":"IF(Pivot!C133=\"\",\"\",Pivot!C133)","v":""},null,null,null,"","","","",""]
[{"$f":"IF(Pivot!A134=\"\",\"\",Pivot!A134)","v":""},null,null,null,{"$f":"IF(Pivot!B134=\"\",\"\",Pivot!B134)","v":""},"",{"$f":"IF(Pivot!C134=\"\",\"\",Pivot!C134)","v":""},null,null,null,"","","","",""]
[{"$f":"IF(Pivot!A135=\"\",\"\",Pivot!A135)","v":""},null,null,null,{"$f":"IF(Pivot!B135=\"\",\"\",Pivot!B135)","v":""},"",{"$f":"IF(Pivot!C135=\"\",\"\",Pivot!C135)","v":""},null,null,null,"","","","",""]
[{"$f":"IF(Pivot!A136=\"\",\"\",Pivot!A136)","v":""},null,null,null,{"$f":"IF(Pivot!B136=\"\",\"\",Pivot!B136)","v":""},"",{"$f":"IF(Pivot!C136=\"\",\"\",Pivot!C136)","v":""},null,null,null,"","","","",""]
[{"$f":"IF(Pivot!A137=\"\",\"\",Pivot!A137)","v":""},null,null,null,{"$f":"IF(Pivot!B137=\"\",\"\",Pivot!B137)","v":""},"",{"$f":"IF(Pivot!C137=\"\",\"\",Pivot!C137)","v":""},null,null,null,"","","","",""]
[{"$f":"IF(Pivot!A138=\"\",\"\",Pivot!A138)","v":""},null,null,null,{"$f":"IF(Pivot!B138=\"\",\"\",Pivot!B138)","v":""},"",{"$f":"IF(Pivot!C138=\"\",\"\",Pivot!C138)","v":""},null,null,null,"","","","",""]
[{"$f":"IF(Pivot!A139=\"\",\"\",Pivot!A139)","v":""},null,null,null,{"$f":"IF(Pivot!B139=\"\",\"\",Pivot!B139)","v":""},"",{"$f":"IF(Pivot!C139=\"\",\"\",Pivot!C139)","v":""},null,null,null,"","","","",""]
[{"$f":"IF(Pivot!A140=\"\",\"\",Pivot!A140)","v":""},null,null,null,{"$f":"IF(Pivot!B140=\"\",\"\",Pivot!B140)","v":""},"",{"$f":"IF(Pivot!C140=\"\",\"\",Pivot!C140)","v":""},null,null,null,"","","","",""]
[{"$f":"IF(Pivot!A141=\"\",\"\",Pivot!A141)","v":""},null,null,null,{"$f":"IF(Pivot!B141=\"\",\"\",Pivot!B141)","v":""},"",{"$f":"IF(Pivot!C141=\"\",\"\",Pivot!C141)","v":""},null,null,null,"","","","",""]
[{"$f":"IF(Pivot!A142=\"\",\"\",Pivot!A142)","v":""},null,null,null,{"$f":"IF(Pivot!B142=\"\",\"\",Pivot!B142)","v":""},"",{"$f":"IF(Pivot!C142=\"\",\"\",Pivot!C142)","v":""},null,null,null,"","","","",""]
[{"$f":"IF(Pivot!A143=\"\",\"\",Pivot!A143)","v":""},null,null,null,{"$f":"IF(Pivot!B143=\"\",\"\",Pivot!B143)","v":""},"",{"$f":"IF(Pivot!C143=\"\",\"\",Pivot!C143)","v":""},null,null,null,"","","","",""]
[{"$f":"IF(Pivot!A144=\"\",\"\",Pivot!A144)","v":""},null,null,null,{"$f":"IF(Pivot!B144=\"\",\"\",Pivot!B144)","v":""},"",{"$f":"IF(Pivot!C144=\"\",\"\",Pivot!C144)","v":""},null,null,null,"","","","",""]
[{"$f":"IF(Pivot!A145=\"\",\"\",Pivot!A145)","v":""},null,null,null,{"$f":"IF(Pivot!B145=\"\",\"\",Pivot!B145)","v":""},"",{"$f":"IF(Pivot!C145=\"\",\"\",Pivot!C145)","v":""},null,null,null,"","","","",""]
[{"$f":"IF(Pivot!A146=\"\",\"\",Pivot!A146)","v":""},null,null,null,{"$f":"IF(Pivot!B146=\"\",\"\",Pivot!B146)","v":""},"",{"$f":"IF(Pivot!C146=\"\",\"\",Pivot!C146)","v":""},null,null,null,"","","","",""]
[{"$f":"IF(Pivot!A147=\"\",\"\",Pivot!A147)","v":""},null,null,null,{"$f":"IF(Pivot!B147=\"\",\"\",Pivot!B147)","v":""},"",{"$f":"IF(Pivot!C147=\"\",\"\",Pivot!C147)","v":""},null,null,null,"","","","",""]
[{"$f":"IF(Pivot!A148=\"\",\"\",Pivot!A148)","v":""},null,null,null,{"$f":"IF(Pivot!B148=\"\",\"\",Pivot!B148)","v":""},"",{"$f":"IF(Pivot!C148=\"\",\"\",Pivot!C148)","v":""},null,null,null,"","","","",""]
[{"$f":"IF(Pivot!A149=\"\",\"\",Pivot!A149)","v":""},null,null,null,{"$f":"IF(Pivot!B149=\"\",\"\",Pivot!B149)","v":""},"",{"$f":"IF(Pivot!C149=\"\",\"\",Pivot!C149)","v":""},null,null,null,"","","","",""]
[{"$f":"IF(Pivot!A150=\"\",\"\",Pivot!A150)","v":""},null,null,null,{"$f":"IF(Pivot!B150=\"\",\"\",Pivot!B150)","v":""},"",{"$f":"IF(Pivot!C150=\"\",\"\",Pivot!C150)","v":""},null,null,null,"","","","",""]
[{"$f":"IF(Pivot!A151=\"\",\"\",Pivot!A151)","v":""},null,null,null,{"$f":"IF(Pivot!B151=\"\",\"\",Pivot!B151)","v":""},"",{"$f":"IF(Pivot!C151=\"\",\"\",Pivot!C151)","v":""},null,null,null,"","","","",""]
[{"$f":"IF(Pivot!A152=\"\",\"\",Pivot!A152)","v":""},null,null,null,{"$f":"IF(Pivot!B152=\"\",\"\",Pivot!B152)","v":""},"",{"$f":"IF(Pivot!C152=\"\",\"\",Pivot!C152)","v":""},null,null,null,"","","","",""]
[{"$f":"IF(Pivot!A153=\"\",\"\",Pivot!A153)","v":""},null,null,null,{"$f":"IF(Pivot!B153=\"\",\"\",Pivot!B153)","v":""},"",{"$f":"IF(Pivot!C153=\"\",\"\",Pivot!C153)","v":""},null,null,null,"","","","",""]
[{"$f":"IF(Pivot!A154=\"\",\"\",Pivot!A154)","v":""},null,null,null,{"$f":"IF(Pivot!B154=\"\",\"\",Pivot!B154)","v":""},"",{"$f":"IF(Pivot!C154=\"\",\"\",Pivot!C154)","v":""},null,null,null,"","","","",""]
[{"$f":"IF(Pivot!A155=\"\",\"\",Pivot!A155)","v":""},null,null,null,{"$f":"IF(Pivot!B155=\"\",\"\",Pivot!B155)","v":""},"",{"$f":"IF(Pivot!C155=\"\",\"\",Pivot!C155)","v":""},null,null,null,"","","","",""]
[{"$f":"IF(Pivot!A156=\"\",\"\",Pivot!A156)","v":""},null,null,null,{"$f":"IF(Pivot!B156=\"\",\"\",Pivot!B156)","v":""},"",{"$f":"IF(Pivot!C156=\"\",\"\",Pivot!C156)","v":""},null,null,null,"","","","",""]
[{"$f":"IF(Pivot!A157=\"\",\"\",Pivot!A157)","v":""},null,null,null,{"$f":"IF(Pivot!B157=\"\",\"\",Pivot!B157)","v":""},"",{"$f":"IF(Pivot!C157=\"\",\"\",Pivot!C157)","v":""},null,null,null,"","","","",""]
[{"$f":"IF(Pivot!A158=\"\",\"\",Pivot!A158)","v":""},null,null,null,{"$f":"IF(Pivot!B158=\"\",\"\",Pivot!B158)","v":""},"",{"$f":"IF(Pivot!C158=\"\",\"\",Pivot!C158)","v":""},null,null,null,"","","","",""]
[{"$f":"IF(Pivot!A159=\"\",\"\",Pivot!A159)","v":""},null,null,null,{"$f":"IF(Pivot!B159=\"\",\"\",Pivot!B159)","v":""},"",{"$f":"IF(Pivot!C159=\"\",\"\",Pivot!C159)","v":""},null,null,null,"","","","",""]
[{"$f":"IF(Pivot!A160=\"\",\"\",Pivot!A160)","v":""},null,null,null,{"$f":"IF(Pivot!B160=\"\",\"\",Pivot!B160)","v":""},"",{"$f":"IF(Pivot!C160=\"\",\"\",Pivot!C160)","v":""},null,null,null,"","","","",""]
[{"$f":"IF(Pivot!A161=\"\",\"\",Pivot!A161)","v":""},null,null,null,{"$f":"IF(Pivot!B161=\"\",\"\",Pivot!B161)","v":""},"",{"$f":"IF(Pivot!C161=\"\",\"\",Pivot!C161)","v":""},null,null,null,"","","","",""]
[{"$f":"IF(Pivot!A162=\"\",\"\",Pivot!A162)","v":""},null,null,null,{"$f":"IF(Pivot!B162=\"\",\"\",Pivot!B162)","v":""},"",{"$f":"IF(Pivot!C162=\"\",\"\",Pivot!C162)","v":""},null,null,null,"","","","",""]
[{"$f":"IF(Pivot!A163=\"\",\"\",Pivot!A163)","v":""},null,null,null,{"$f":"IF(Pivot!B163=\"\",\"\",Pivot!B163)","v":""},"",{"$f":"IF(Pivot!C163=\"\",\"\",Pivot!C163)","v":""},null,null,null,"","","","",""]
[{"$f":"IF(Pivot!A164=\"\",\"\",Pivot!A164)","v":""},null,null,null,{"$f":"IF(Pivot!B164=\"\",\"\",Pivot!B164)","v":""},"",{"$f":"IF(Pivot!C164=\"\",\"\",Pivot!C164)","v":""},null,null,null,"","","","",""]
[{"$f":"IF(Pivot!A165=\"\",\"\",Pivot!A165)","v":""},null,null,null,{"$f":"IF(Pivot!B165=\"\",\"\",Pivot!B165)","v":""},"",{"$f":"IF(Pivot!C165=\"\",\"\",Pivot!C165)","v":""},null,null,null,"","","","",""]
[{"$f":"IF(Pivot!A166=\"\",\"\",Pivot!A166)","v":""},null,null,null,{"$f":"IF(Pivot!B166=\"\",\"\",Pivot!B166)","v":""},"",{"$f":"IF(Pivot!C166=\"\",\"\",Pivot!C166)","v":""},null,null,null,"","","","",""]
[{"$f":"IF(Pivot!A167=\"\",\"\",Pivot!A167)","v":""},null,null,null,{"$f":"IF(Pivot!B167=\"\",\"\",Pivot!B167)","v":""},"",{"$f":"IF(Pivot!C167=\"\",\"\",Pivot!C167)","v":""},null,null,null,"","","","",""]
[{"$f":"IF(Pivot!A168=\"\",\"\",Pivot!A168)","v":""},null,null,null,{"$f":"IF(Pivot!B168=\"\",\"\",Pivot!B168)","v":""},"",{"$f":"IF(Pivot!C168=\"\",\"\",Pivot!C168)","v":""},null,null,null,"","","","",""]
[{"$f":"IF(Pivot!A169=\"\",\"\",Pivot!A169)","v":""},null,null,null,{"$f":"IF(Pivot!B169=\"\",\"\",Pivot!B169)","v":""},"",{"$f":"IF(Pivot!C169=\"\",\"\",Pivot!C169)","v":""},null,null,null,"","","","",""]
[{"$f":"IF(Pivot!A170=\"\",\"\",Pivot!A170)","v":""},null,null,null,{"$f":"IF(Pivot!B170=\"\",\"\",Pivot!B170)","v":""},"",{"$f":"IF(Pivot!C170=\"\",\"\",Pivot!C170)","v":""},null,null,null,"","","","",""]
[{"$f":"IF(Pivot!A171=\"\",\"\",Pivot!A171)","v":""},null,null,null,{"$f":"IF(Pivot!B171=\"\",\"\",Pivot!B171)","v":""},"",{"$f":"IF(Pivot!C171=\"\",\"\",Pivot!C171)","v":""},null,null,null,"","","","",""]
[{"$f":"IF(Pivot!A172=\"\",\"\",Pivot!A172)","v":""},null,null,null,{"$f":"IF(Pivot!B172=\"\",\"\",Pivot!B172)","v":""},"",{"$f":"IF(Pivot!C172=\"\",\"\",Pivot!C172)","v":""},null,null,null,"","","","",""]
[{"$f":"IF(Pivot!A173=\"\",\"\",Pivot!A173)","v":""},null,null,null,{"$f":"IF(Pivot!B173=\"\",\"\",Pivot!B173)","v":""},"",{"$f":"IF(Pivot!C173=\"\",\"\",Pivot!C173)","v":""},null,null,null,"","","","",""]
[{"$f":"IF(Pivot!A174=\"\",\"\",Pivot!A174)","v":""},null,null,null,{"$f":"IF(Pivot!B174=\"\",\"\",Pivot!B174)","v":""},"",{"$f":"IF(Pivot!C174=\"\",\"\",Pivot!C174)","v":""},null,null,null,"","","","",""]
[{"$f":"IF(Pivot!A175=\"\",\"\",Pivot!A175)","v":""},null,null,null,{"$f":"IF(Pivot!B175=\"\",\"\",Pivot!B175)","v":""},"",{"$f":"IF(Pivot!C175=\"\",\"\",Pivot!C175)","v":""},null,null,null,"","","","",""]
[{"$f":"IF(Pivot!A176=\"\",\"\",Pivot!A176)","v":""},null,null,null,{"$f":"IF(Pivot!B176=\"\",\"\",Pivot!B176)","v":""},"",{"$f":"IF(Pivot!C176=\"\",\"\",Pivot!C176)","v":""},null,null,null,"","","","",""]
[{"$f":"IF(Pivot!A177=\"\",\"\",Pivot!A177)","v":""},null,null,null,{"$f":"IF(Pivot!B177=\"\",\"\",Pivot!B177)","v":""},"",{"$f":"IF(Pivot!C177=\"\",\"\",Pivot!C177)","v":""},null,null,null,"","","","",""]
[{"$f":"IF(Pivot!A178=\"\",\"\",Pivot!A178)","v":""},null,null,null,{"$f":"IF(Pivot!B178=\"\",\"\",Pivot!B178)","v":""},"",{"$f":"IF(Pivot!C178=\"\",\"\",Pivot!C178)","v":""},null,null,null,"","","","",""]
[{"$f":"IF(Pivot!A179=\"\",\"\",Pivot!A179)","v":""},null,null,null,{"$f":"IF(Pivot!B179=\"\",\"\",Pivot!B179)","v":""},"",{"$f":"IF(Pivot!C179=\"\",\"\",Pivot!C179)","v":""},null,null,null,"","","","",""]
[{"$f":"IF(Pivot!A180=\"\",\"\",Pivot!A180)","v":""},null,null,null,{"$f":"IF(Pivot!B180=\"\",\"\",Pivot!B180)","v":""},"",{"$f":"IF(Pivot!C180=\"\",\"\",Pivot!C180)","v":""},null,null,null,"","","","",""]
[{"$f":"IF(Pivot!A181=\"\",\"\",Pivot!A181)","v":""},null,null,null,{"$f":"IF(Pivot!B181=\"\",\"\",Pivot!B181)","v":""},"",{"$f":"IF(Pivot!C181=\"\",\"\",Pivot!C181)","v":""},null,null,null,"","","","",""]
[{"$f":"IF(Pivot!A182=\"\",\"\",Pivot!A182)","v":""},null,null,null,{"$f":"IF(Pivot!B182=\"\",\"\",Pivot!B182)","v":""},"",{"$f":"IF(Pivot!C182=\"\",\"\",Pivot!C182)","v":""},null,null,null,"","","","",""]
[{"$f":"IF(Pivot!A183=\"\",\"\",Pivot!A183)","v":""},null,null,null,{"$f":"IF(Pivot!B183=\"\",\"\",Pivot!B183)","v":""},"",{"$f":"IF(Pivot!C183=\"\",\"\",Pivot!C183)","v":""},null,null,null,"","","","",""]
[{"$f":"IF(Pivot!A184=\"\",\"\",Pivot!A184)","v":""},null,null,null,{"$f":"IF(Pivot!B184=\"\",\"\",Pivot!B184)","v":""},"",{"$f":"IF(Pivot!C184=\"\",\"\",Pivot!C184)","v":""},null,null,null,"","","","",""]
[{"$f":"IF(Pivot!A185=\"\",\"\",Pivot!A185)","v":""},null,null,null,{"$f":"IF(Pivot!B185=\"\",\"\",Pivot!B185)","v":""},"",{"$f":"IF(Pivot!C185=\"\",\"\",Pivot!C185)","v":""},null,null,null,"","","","",""]
[{"$f":"IF(Pivot!A186=\"\",\"\",Pivot!A186)","v":""},null,null,null,{"$f":"IF(Pivot!B186=\"\",\"\",Pivot!B186)","v":""},"",{"$f":"IF(Pivot!C186=\"\",\"\",Pivot!C186)","v":""},null,null,null,"","","","",""]
[{"$f":"IF(Pivot!A187=\"\",\"\",Pivot!A187)","v":""},null,null,null,{"$f":"IF(Pivot!B187=\"\",\"\",Pivot!B187)","v":""},"",{"$f":"IF(Pivot!C187=\"\",\"\",Pivot!C187)","v":""},null,null,null,"","","","",""]
[{"$f":"IF(Pivot!A188=\"\",\"\",Pivot!A188)","v":""},null,null,null,{"$f":"IF(Pivot!B188=\"\",\"\",Pivot!B188)","v":""},"",{"$f":"IF(Pivot!C188=\"\",\"\",Pivot!C188)","v":""},null,null,null,"","","","",""]
[{"$f":"IF(Pivot!A189=\"\",\"\",Pivot!A189)","v":""},null,null,null,{"$f":"IF(Pivot!B189=\"\",\"\",Pivot!B189)","v":""},"",{"$f":"IF(Pivot!C189=\"\",\"\",Pivot!C189)","v":""},null,null,null,"","","","",""]
[{"$f":"IF(Pivot!A190=\"\",\"\",Pivot!A190)","v":""},null,null,null,{"$f":"IF(Pivot!B190=\"\",\"\",Pivot!B190)","v":""},"",{"$f":"IF(Pivot!C190=\"\",\"\",Pivot!C190)","v":""},null,null,null,"","","","",""]
[{"$f":"IF(Pivot!A191=\"\",\"\",Pivot!A191)","v":""},null,null,null,{"$f":"IF(Pivot!B191=\"\",\"\",Pivot!B191)","v":""},"",{"$f":"IF(Pivot!C191=\"\",\"\",Pivot!C191)","v":""},null,null,null,"","","","",""]
[{"$f":"IF(Pivot!A192=\"\",\"\",Pivot!A192)","v":""},null,null,null,{"$f":"IF(Pivot!B192=\"\",\"\",Pivot!B192)","v":""},"",{"$f":"IF(Pivot!C192=\"\",\"\",Pivot!C192)","v":""},null,null,null,"","","","",""]
[{"$f":"IF(Pivot!A193=\"\",\"\",Pivot!A193)","v":""},null,null,null,{"$f":"IF(Pivot!B193=\"\",\"\",Pivot!B193)","v":""},"",{"$f":"IF(Pivot!C193=\"\",\"\",Pivot!C193)","v":""},null,null,null,"","","","",""]
[{"$f":"IF(Pivot!A194=\"\",\"\",Pivot!A194)","v":""},null,null,null,{"$f":"IF(Pivot!B194=\"\",\"\",Pivot!B194)","v":""},"",{"$f":"IF(Pivot!C194=\"\",\"\",Pivot!C194)","v":""},null,null,null,"","","","",""]
[{"$f":"IF(Pivot!A195=\"\",\"\",Pivot!A195)","v":""},null,null,null,{"$f":"IF(Pivot!B195=\"\",\"\",Pivot!B195)","v":""},{"$f":"IF(E202=\"\",\"\",$B$6)","v":""},{"$f":"IF(Pivot!C195=\"\",\"\",Pivot!C195)","v":""},null,null,null,{"$f":"IF(A202=\"\",\"\",$C$6)","v":""},{"$f":"IF(A202=\"\",\"\",$L$6)","v":""},{"$f":"IF(N202=\"\",\"\",$A$6)","v":""},{"$f":"IF(A202=\"\",\"\",$D$6)","v":""},{"$f":"IF(G202=\"\",\"\",\"z\")","v":""}]
[{"$f":"IF(Pivot!A196=\"\",\"\",Pivot!A196)","v":""},null,null,null,{"$f":"IF(Pivot!B196=\"\",\"\",Pivot!B196)","v":""},"",{"$f":"IF(Pivot!C196=\"\",\"\",Pivot!C196)","v":""},null,null,null,"","","","",""]
[{"$f":"IF(Pivot!A197=\"\",\"\",Pivot!A197)","v":""},null,null,null,{"$f":"IF(Pivot!B197=\"\",\"\",Pivot!B197)","v":""},"",{"$f":"IF(Pivot!C197=\"\",\"\",Pivot!C197)","v":""},null,null,null,"","","","",""]
[{"$f":"IF(Pivot!A198=\"\",\"\",Pivot!A198)","v":""},null,null,null,{"$f":"IF(Pivot!B198=\"\",\"\",Pivot!B198)","v":""},"",{"$f":"IF(Pivot!C198=\"\",\"\",Pivot!C198)","v":""},null,null,null,"","","","",""]
[{"$f":"IF(Pivot!A199=\"\",\"\",Pivot!A199)","v":""},null,null,null,{"$f":"IF(Pivot!B199=\"\",\"\",Pivot!B199)","v":""},"",{"$f":"IF(Pivot!C199=\"\",\"\",Pivot!C199)","v":""},null,null,null,"","","","",""]
[{"$f":"IF(Pivot!A200=\"\",\"\",Pivot!A200)","v":""},null,null,null,{"$f":"IF(Pivot!B200=\"\",\"\",Pivot!B200)","v":""},"",{"$f":"IF(Pivot!C200=\"\",\"\",Pivot!C200)","v":""},null,null,null,"","","","",""]
[{"$f":"IF(Pivot!A201=\"\",\"\",Pivot!A201)","v":""},null,null,null,{"$f":"IF(Pivot!B201=\"\",\"\",Pivot!B201)","v":""},"",{"$f":"IF(Pivot!C201=\"\",\"\",Pivot!C201)","v":""},null,null,null,"","","","",""]
[{"$f":"IF(Pivot!A202=\"\",\"\",Pivot!A202)","v":""},null,null,null,{"$f":"IF(Pivot!B202=\"\",\"\",Pivot!B202)","v":""},"",{"$f":"IF(Pivot!C202=\"\",\"\",Pivot!C202)","v":""},null,null,null,"","","","",""]
[{"$f":"IF(Pivot!A203=\"\",\"\",Pivot!A203)","v":""},null,null,null,{"$f":"IF(Pivot!B203=\"\",\"\",Pivot!B203)","v":""},"",{"$f":"IF(Pivot!C203=\"\",\"\",Pivot!C203)","v":""},null,null,null,"","","","",""]
[{"$f":"IF(Pivot!A204=\"\",\"\",Pivot!A204)","v":""},null,null,null,{"$f":"IF(Pivot!B204=\"\",\"\",Pivot!B204)","v":""},"",{"$f":"IF(Pivot!C204=\"\",\"\",Pivot!C204)","v":""},null,null,null,"","","","",""]
[{"$f":"IF(Pivot!A205=\"\",\"\",Pivot!A205)","v":""},null,null,null,{"$f":"IF(Pivot!B205=\"\",\"\",Pivot!B205)","v":""},"",{"$f":"IF(Pivot!C205=\"\",\"\",Pivot!C205)","v":""},null,null,null,"","","","",""]
[{"$f":"IF(Pivot!A206=\"\",\"\",Pivot!A206)","v":""},null,null,null,{"$f":"IF(Pivot!B206=\"\",\"\",Pivot!B206)","v":""},"",{"$f":"IF(Pivot!C206=\"\",\"\",Pivot!C206)","v":""},null,null,null,"","","","",""]
[{"$f":"IF(Pivot!A207=\"\",\"\",Pivot!A207)","v":""},null,null,null,{"$f":"IF(Pivot!B207=\"\",\"\",Pivot!B207)","v":""},"",{"$f":"IF(Pivot!C207=\"\",\"\",Pivot!C207)","v":""},null,null,null,"","","","",""]
[{"$f":"IF(Pivot!A208=\"\",\"\",Pivot!A208)","v":""},null,null,null,{"$f":"IF(Pivot!B208=\"\",\"\",Pivot!B208)","v":""},"",{"$f":"IF(Pivot!C208=\"\",\"\",Pivot!C208)","v":""},null,null,null,"","","","",""]
[{"$f":"IF(Pivot!A209=\"\",\"\",Pivot!A209)","v":""},null,null,null,{"$f":"IF(Pivot!B209=\"\",\"\",Pivot!B209)","v":""},"",{"$f":"IF(Pivot!C209=\"\",\"\",Pivot!C209)","v":""},null,null,null,"","","","",""]
[{"$f":"IF(Pivot!A210=\"\",\"\",Pivot!A210)","v":""},null,null,null,{"$f":"IF(Pivot!B210=\"\",\"\",Pivot!B210)","v":""},"",{"$f":"IF(Pivot!C210=\"\",\"\",Pivot!C210)","v":""},null,null,null,"","","","",""]
[{"$f":"IF(Pivot!A211=\"\",\"\",Pivot!A211)","v":""},null,null,null,{"$f":"IF(Pivot!B211=\"\",\"\",Pivot!B211)","v":""},"",{"$f":"IF(Pivot!C211=\"\",\"\",Pivot!C211)","v":""},null,null,null,"","","","",""]
[{"$f":"IF(Pivot!A212=\"\",\"\",Pivot!A212)","v":""},null,null,null,{"$f":"IF(Pivot!B212=\"\",\"\",Pivot!B212)","v":""},"",{"$f":"IF(Pivot!C212=\"\",\"\",Pivot!C212)","v":""},null,null,null,"","","","",""]
[{"$f":"IF(Pivot!A213=\"\",\"\",Pivot!A213)","v":""},null,null,null,{"$f":"IF(Pivot!B213=\"\",\"\",Pivot!B213)","v":""},"",{"$f":"IF(Pivot!C213=\"\",\"\",Pivot!C213)","v":""},null,null,null,"","","","",""]
[{"$f":"IF(Pivot!A214=\"\",\"\",Pivot!A214)","v":""},null,null,null,{"$f":"IF(Pivot!B214=\"\",\"\",Pivot!B214)","v":""},"",{"$f":"IF(Pivot!C214=\"\",\"\",Pivot!C214)","v":""},null,null,null,"","","","",""]
[{"$f":"IF(Pivot!A215=\"\",\"\",Pivot!A215)","v":""},null,null,null,{"$f":"IF(Pivot!B215=\"\",\"\",Pivot!B215)","v":""},"",{"$f":"IF(Pivot!C215=\"\",\"\",Pivot!C215)","v":""},null,null,null,"","","","",""]
[{"$f":"IF(Pivot!A216=\"\",\"\",Pivot!A216)","v":""},null,null,null,{"$f":"IF(Pivot!B216=\"\",\"\",Pivot!B216)","v":""},"",{"$f":"IF(Pivot!C216=\"\",\"\",Pivot!C216)","v":""},null,null,null,"","","","",""]
[{"$f":"IF(Pivot!A217=\"\",\"\",Pivot!A217)","v":""},null,null,null,{"$f":"IF(Pivot!B217=\"\",\"\",Pivot!B217)","v":""},"",{"$f":"IF(Pivot!C217=\"\",\"\",Pivot!C217)","v":""},null,null,null,"","","","",""]
[{"$f":"IF(Pivot!A218=\"\",\"\",Pivot!A218)","v":""},null,null,null,{"$f":"IF(Pivot!B218=\"\",\"\",Pivot!B218)","v":""},"",{"$f":"IF(Pivot!C218=\"\",\"\",Pivot!C218)","v":""},null,null,null,"","","","",""]
[{"$f":"IF(Pivot!A219=\"\",\"\",Pivot!A219)","v":""},null,null,null,{"$f":"IF(Pivot!B219=\"\",\"\",Pivot!B219)","v":""},"",{"$f":"IF(Pivot!C219=\"\",\"\",Pivot!C219)","v":""},null,null,null,"","","","",""]
[{"$f":"IF(Pivot!A220=\"\",\"\",Pivot!A220)","v":""},null,null,null,{"$f":"IF(Pivot!B220=\"\",\"\",Pivot!B220)","v":""},"",{"$f":"IF(Pivot!C220=\"\",\"\",Pivot!C220)","v":""},null,null,null,"","","","",""]
[{"$f":"IF(Pivot!A221=\"\",\"\",Pivot!A221)","v":""},null,null,null,{"$f":"IF(Pivot!B221=\"\",\"\",Pivot!B221)","v":""},"",{"$f":"IF(Pivot!C221=\"\",\"\",Pivot!C221)","v":""},null,null,null,"","","","",""]
[{"$f":"IF(Pivot!A222=\"\",\"\",Pivot!A222)","v":""},null,null,null,{"$f":"IF(Pivot!B222=\"\",\"\",Pivot!B222)","v":""},"",{"$f":"IF(Pivot!C222=\"\",\"\",Pivot!C222)","v":""},null,null,null,"","","","",""]
[{"$f":"IF(Pivot!A223=\"\",\"\",Pivot!A223)","v":""},null,null,null,{"$f":"IF(Pivot!B223=\"\",\"\",Pivot!B223)","v":""},"",{"$f":"IF(Pivot!C223=\"\",\"\",Pivot!C223)","v":""},null,null,null,"","","","",""]
[{"$f":"IF(Pivot!A224=\"\",\"\",Pivot!A224)","v":""},null,null,null,{"$f":"IF(Pivot!B224=\"\",\"\",Pivot!B224)","v":""},"",{"$f":"IF(Pivot!C224=\"\",\"\",Pivot!C224)","v":""},null,null,null,"","","","",""]
[{"$f":"IF(Pivot!A225=\"\",\"\",Pivot!A225)","v":""},null,null,null,{"$f":"IF(Pivot!B225=\"\",\"\",Pivot!B225)","v":""},"",{"$f":"IF(Pivot!C225=\"\",\"\",Pivot!C225)","v":""},null,null,null,"","","","",""]
[{"$f":"IF(Pivot!A226=\"\",\"\",Pivot!A226)","v":""},null,null,null,{"$f":"IF(Pivot!B226=\"\",\"\",Pivot!B226)","v":""},"",{"$f":"IF(Pivot!C226=\"\",\"\",Pivot!C226)","v":""},null,null,null,"","","","",""]
[{"$f":"IF(Pivot!A227=\"\",\"\",Pivot!A227)","v":""},null,null,null,{"$f":"IF(Pivot!B227=\"\",\"\",Pivot!B227)","v":""},"",{"$f":"IF(Pivot!C227=\"\",\"\",Pivot!C227)","v":""},null,null,null,"","","","",""]
[{"$f":"IF(Pivot!A228=\"\",\"\",Pivot!A228)","v":""},null,null,null,{"$f":"IF(Pivot!B228=\"\",\"\",Pivot!B228)","v":""},"",{"$f":"IF(Pivot!C228=\"\",\"\",Pivot!C228)","v":""},null,null,null,"","","","",""]
[{"$f":"IF(Pivot!A229=\"\",\"\",Pivot!A229)","v":""},null,null,null,{"$f":"IF(Pivot!B229=\"\",\"\",Pivot!B229)","v":""},"",{"$f":"IF(Pivot!C229=\"\",\"\",Pivot!C229)","v":""},null,null,null,"","","","",""]
[{"$f":"IF(Pivot!A230=\"\",\"\",Pivot!A230)","v":""},null,null,null,{"$f":"IF(Pivot!B230=\"\",\"\",Pivot!B230)","v":""},"",{"$f":"IF(Pivot!C230=\"\",\"\",Pivot!C230)","v":""},null,null,null,"","","","",""]
[{"$f":"IF(Pivot!A231=\"\",\"\",Pivot!A231)","v":""},null,null,null,{"$f":"IF(Pivot!B231=\"\",\"\",Pivot!B231)","v":""},"",{"$f":"IF(Pivot!C231=\"\",\"\",Pivot!C231)","v":""},null,null,null,"","","","",""]
[{"$f":"IF(Pivot!A232=\"\",\"\",Pivot!A232)","v":""},null,null,null,{"$f":"IF(Pivot!B232=\"\",\"\",Pivot!B232)","v":""},"",{"$f":"IF(Pivot!C232=\"\",\"\",Pivot!C232)","v":""},null,null,null,"","","","",""]
[{"$f":"IF(Pivot!A233=\"\",\"\",Pivot!A233)","v":""},null,null,null,{"$f":"IF(Pivot!B233=\"\",\"\",Pivot!B233)","v":""},"",{"$f":"IF(Pivot!C233=\"\",\"\",Pivot!C233)","v":""},null,null,null,"","","","",""]
[{"$f":"IF(Pivot!A234=\"\",\"\",Pivot!A234)","v":""},null,null,null,{"$f":"IF(Pivot!B234=\"\",\"\",Pivot!B234)","v":""},"",{"$f":"IF(Pivot!C234=\"\",\"\",Pivot!C234)","v":""},null,null,null,"","","","",""]
[{"$f":"IF(Pivot!A235=\"\",\"\",Pivot!A235)","v":""},null,null,null,{"$f":"IF(Pivot!B235=\"\",\"\",Pivot!B235)","v":""},"",{"$f":"IF(Pivot!C235=\"\",\"\",Pivot!C235)","v":""},null,null,null,"","","","",""]
[{"$f":"IF(Pivot!A236=\"\",\"\",Pivot!A236)","v":""},null,null,null,{"$f":"IF(Pivot!B236=\"\",\"\",Pivot!B236)","v":""},"",{"$f":"IF(Pivot!C236=\"\",\"\",Pivot!C236)","v":""},null,null,null,"","","","",""]
[{"$f":"IF(Pivot!A237=\"\",\"\",Pivot!A237)","v":""},null,null,null,{"$f":"IF(Pivot!B237=\"\",\"\",Pivot!B237)","v":""},"",{"$f":"IF(Pivot!C237=\"\",\"\",Pivot!C237)","v":""},null,null,null,"","","","",""]
[{"$f":"IF(Pivot!A238=\"\",\"\",Pivot!A238)","v":""},null,null,null,{"$f":"IF(Pivot!B238=\"\",\"\",Pivot!B238)","v":""},"",{"$f":"IF(Pivot!C238=\"\",\"\",Pivot!C238)","v":""},null,null,null,"","","","",""]
[{"$f":"IF(Pivot!A239=\"\",\"\",Pivot!A239)","v":""},null,null,null,{"$f":"IF(Pivot!B239=\"\",\"\",Pivot!B239)","v":""},"",{"$f":"IF(Pivot!C239=\"\",\"\",Pivot!C239)","v":""},null,null,null,"","","","",""]
[{"$f":"IF(Pivot!A240=\"\",\"\",Pivot!A240)","v":""},null,null,null,{"$f":"IF(Pivot!B240=\"\",\"\",Pivot!B240)","v":""},"",{"$f":"IF(Pivot!C240=\"\",\"\",Pivot!C240)","v":""},null,null,null,"","","","",""]
[{"$f":"IF(Pivot!A241=\"\",\"\",Pivot!A241)","v":""},null,null,null,{"$f":"IF(Pivot!B241=\"\",\"\",Pivot!B241)","v":""},"",{"$f":"IF(Pivot!C241=\"\",\"\",Pivot!C241)","v":""},null,null,null,"","","","",""]
[{"$f":"IF(Pivot!A242=\"\",\"\",Pivot!A242)","v":""},null,null,null,{"$f":"IF(Pivot!B242=\"\",\"\",Pivot!B242)","v":""},"",{"$f":"IF(Pivot!C242=\"\",\"\",Pivot!C242)","v":""},null,null,null,"","","","",""]
[{"$f":"IF(Pivot!A243=\"\",\"\",Pivot!A243)","v":""},null,null,null,{"$f":"IF(Pivot!B243=\"\",\"\",Pivot!B243)","v":""},"",{"$f":"IF(Pivot!C243=\"\",\"\",Pivot!C243)","v":""},null,null,null,"","","","",""]
[{"$f":"IF(Pivot!A244=\"\",\"\",Pivot!A244)","v":""},null,null,null,{"$f":"IF(Pivot!B244=\"\",\"\",Pivot!B244)","v":""},{"$f":"IF(E251=\"\",\"\",$B$6)","v":""},{"$f":"IF(Pivot!C244=\"\",\"\",Pivot!C244)","v":""},null,null,null,"","","","",""]
[{"$f":"IF(Pivot!A245=\"\",\"\",Pivot!A245)","v":""},null,null,null,{"$f":"IF(Pivot!B245=\"\",\"\",Pivot!B245)","v":""},"",{"$f":"IF(Pivot!C245=\"\",\"\",Pivot!C245)","v":""},null,null,null,"","","","",""]
[{"$f":"IF(Pivot!A246=\"\",\"\",Pivot!A246)","v":""},null,null,null,{"$f":"IF(Pivot!B246=\"\",\"\",Pivot!B246)","v":""},"",{"$f":"IF(Pivot!C246=\"\",\"\",Pivot!C246)","v":""},null,null,null,"","","","",""]
[{"$f":"IF(Pivot!A247=\"\",\"\",Pivot!A247)","v":""},null,null,null,{"$f":"IF(Pivot!B247=\"\",\"\",Pivot!B247)","v":""},"",{"$f":"IF(Pivot!C247=\"\",\"\",Pivot!C247)","v":""},null,null,null,"","","","",""]
[{"$f":"IF(Pivot!A248=\"\",\"\",Pivot!A248)","v":""},null,null,null,{"$f":"IF(Pivot!B248=\"\",\"\",Pivot!B248)","v":""},"",{"$f":"IF(Pivot!C248=\"\",\"\",Pivot!C248)","v":""},null,null,null,"","","","",""]
[{"$f":"IF(Pivot!A249=\"\",\"\",Pivot!A249)","v":""},null,null,null,{"$f":"IF(Pivot!B249=\"\",\"\",Pivot!B249)","v":""},"",{"$f":"IF(Pivot!C249=\"\",\"\",Pivot!C249)","v":""},null,null,null,"","","","",""]
[{"$f":"IF(Pivot!A250=\"\",\"\",Pivot!A250)","v":""},null,null,null,{"$f":"IF(Pivot!B250=\"\",\"\",Pivot!B250)","v":""},"",{"$f":"IF(Pivot!C250=\"\",\"\",Pivot!C250)","v":""},null,null,null,"","","","",""]
[{"$f":"IF(Pivot!A251=\"\",\"\",Pivot!A251)","v":""},null,null,null,{"$f":"IF(Pivot!B251=\"\",\"\",Pivot!B251)","v":""},"",{"$f":"IF(Pivot!C251=\"\",\"\",Pivot!C251)","v":""},null,null,null,"","","","",""]
[{"$f":"IF(Pivot!A252=\"\",\"\",Pivot!A252)","v":""},null,null,null,{"$f":"IF(Pivot!B252=\"\",\"\",Pivot!B252)","v":""},"",{"$f":"IF(Pivot!C252=\"\",\"\",Pivot!C252)","v":""},null,null,null,"","","","",""]
[{"$f":"IF(Pivot!A253=\"\",\"\",Pivot!A253)","v":""},null,null,null,{"$f":"IF(Pivot!B253=\"\",\"\",Pivot!B253)","v":""},"",{"$f":"IF(Pivot!C253=\"\",\"\",Pivot!C253)","v":""},null,null,null,"","","","",""]
[{"$f":"IF(Pivot!A254=\"\",\"\",Pivot!A254)","v":""},null,null,null,{"$f":"IF(Pivot!B254=\"\",\"\",Pivot!B254)","v":""},"",{"$f":"IF(Pivot!C254=\"\",\"\",Pivot!C254)","v":""},null,null,null,"","","","",""]
[{"$f":"IF(Pivot!A255=\"\",\"\",Pivot!A255)","v":""},null,null,null,{"$f":"IF(Pivot!B255=\"\",\"\",Pivot!B255)","v":""},"",{"$f":"IF(Pivot!C255=\"\",\"\",Pivot!C255)","v":""},null,null,null,"","","","",""]
[{"$f":"IF(Pivot!A256=\"\",\"\",Pivot!A256)","v":""},null,null,null,{"$f":"IF(Pivot!B256=\"\",\"\",Pivot!B256)","v":""},"",{"$f":"IF(Pivot!C256=\"\",\"\",Pivot!C256)","v":""},null,null,null,"","","","",""]
[{"$f":"IF(Pivot!A257=\"\",\"\",Pivot!A257)","v":""},null,null,null,{"$f":"IF(Pivot!B257=\"\",\"\",Pivot!B257)","v":""},"",{"$f":"IF(Pivot!C257=\"\",\"\",Pivot!C257)","v":""},null,null,null,"","","","",""]
[{"$f":"IF(Pivot!A258=\"\",\"\",Pivot!A258)","v":""},null,null,null,{"$f":"IF(Pivot!B258=\"\",\"\",Pivot!B258)","v":""},"",{"$f":"IF(Pivot!C258=\"\",\"\",Pivot!C258)","v":""},null,null,null,"","","","",""]
[{"$f":"IF(Pivot!A259=\"\",\"\",Pivot!A259)","v":""},null,null,null,{"$f":"IF(Pivot!B259=\"\",\"\",Pivot!B259)","v":""},"",{"$f":"IF(Pivot!C259=\"\",\"\",Pivot!C259)","v":""},null,null,null,{"$f":"IF(A266=\"\",\"\",$C$6)","v":""},{"$f":"IF(A266=\"\",\"\",$L$6)","v":""},{"$f":"IF(N266=\"\",\"\",$A$6)","v":""},{"$f":"IF(A266=\"\",\"\",$D$6)","v":""},{"$f":"IF(G266=\"\",\"\",\"z\")","v":""}]
[{"$f":"IF(Pivot!A260=\"\",\"\",Pivot!A260)","v":""},null,null,null,{"$f":"IF(Pivot!B260=\"\",\"\",Pivot!B260)","v":""},"",{"$f":"IF(Pivot!C260=\"\",\"\",Pivot!C260)","v":""},null,null,null,"","","","",""]
[{"$f":"IF(Pivot!A261=\"\",\"\",Pivot!A261)","v":""},null,null,null,{"$f":"IF(Pivot!B261=\"\",\"\",Pivot!B261)","v":""},"",{"$f":"IF(Pivot!C261=\"\",\"\",Pivot!C261)","v":""},null,null,null,"","","","",""]
[{"$f":"IF(Pivot!A262=\"\",\"\",Pivot!A262)","v":""},null,null,null,{"$f":"IF(Pivot!B262=\"\",\"\",Pivot!B262)","v":""},"",{"$f":"IF(Pivot!C262=\"\",\"\",Pivot!C262)","v":""},null,null,null,"","","","",""]
[{"$f":"IF(Pivot!A263=\"\",\"\",Pivot!A263)","v":""},null,null,null,{"$f":"IF(Pivot!B263=\"\",\"\",Pivot!B263)","v":""},"",{"$f":"IF(Pivot!C263=\"\",\"\",Pivot!C263)","v":""},null,null,null,"","","","",""]
[{"$f":"IF(Pivot!A264=\"\",\"\",Pivot!A264)","v":""},null,null,null,{"$f":"IF(Pivot!B264=\"\",\"\",Pivot!B264)","v":""},"",{"$f":"IF(Pivot!C264=\"\",\"\",Pivot!C264)","v":""},null,null,null,"","","","",""]
[{"$f":"IF(Pivot!A265=\"\",\"\",Pivot!A265)","v":""},null,null,null,{"$f":"IF(Pivot!B265=\"\",\"\",Pivot!B265)","v":""},"",{"$f":"IF(Pivot!C265=\"\",\"\",Pivot!C265)","v":""},null,null,null,"","","","",""]
[{"$f":"IF(Pivot!A266=\"\",\"\",Pivot!A266)","v":""},null,null,null,{"$f":"IF(Pivot!B266=\"\",\"\",Pivot!B266)","v":""},"",{"$f":"IF(Pivot!C266=\"\",\"\",Pivot!C266)","v":""},null,null,null,"","","","",""]
[{"$f":"IF(Pivot!A267=\"\",\"\",Pivot!A267)","v":""},null,null,null,{"$f":"IF(Pivot!B267=\"\",\"\",Pivot!B267)","v":""},"",{"$f":"IF(Pivot!C267=\"\",\"\",Pivot!C267)","v":""},null,null,null,"","","","",""]
[{"$f":"IF(Pivot!A268=\"\",\"\",Pivot!A268)","v":""},null,null,null,{"$f":"IF(Pivot!B268=\"\",\"\",Pivot!B268)","v":""},"",{"$f":"IF(Pivot!C268=\"\",\"\",Pivot!C268)","v":""},null,null,null,"","","","",""]
[{"$f":"IF(Pivot!A269=\"\",\"\",Pivot!A269)","v":""},null,null,null,{"$f":"IF(Pivot!B269=\"\",\"\",Pivot!B269)","v":""},"",{"$f":"IF(Pivot!C269=\"\",\"\",Pivot!C269)","v":""},null,null,null,"","","","",""]
[{"$f":"IF(Pivot!A270=\"\",\"\",Pivot!A270)","v":""},null,null,null,{"$f":"IF(Pivot!B270=\"\",\"\",Pivot!B270)","v":""},"",{"$f":"IF(Pivot!C270=\"\",\"\",Pivot!C270)","v":""},null,null,null,"","","","",""]
[{"$f":"IF(Pivot!A271=\"\",\"\",Pivot!A271)","v":""},null,null,null,{"$f":"IF(Pivot!B271=\"\",\"\",Pivot!B271)","v":""},"",{"$f":"IF(Pivot!C271=\"\",\"\",Pivot!C271)","v":""},null,null,null,"","","","",""]
[{"$f":"IF(Pivot!A272=\"\",\"\",Pivot!A272)","v":""},null,null,null,{"$f":"IF(Pivot!B272=\"\",\"\",Pivot!B272)","v":""},"",{"$f":"IF(Pivot!C272=\"\",\"\",Pivot!C272)","v":""},null,null,null,"","","","",""]
[{"$f":"IF(Pivot!A273=\"\",\"\",Pivot!A273)","v":""},null,null,null,{"$f":"IF(Pivot!B273=\"\",\"\",Pivot!B273)","v":""},"",{"$f":"IF(Pivot!C273=\"\",\"\",Pivot!C273)","v":""},null,null,null,"","","","",""]
[{"$f":"IF(Pivot!A274=\"\",\"\",Pivot!A274)","v":""},null,null,null,{"$f":"IF(Pivot!B274=\"\",\"\",Pivot!B274)","v":""},"",{"$f":"IF(Pivot!C274=\"\",\"\",Pivot!C274)","v":""},null,null,null,"","","","",""]
[{"$f":"IF(Pivot!A275=\"\",\"\",Pivot!A275)","v":""},null,null,null,{"$f":"IF(Pivot!B275=\"\",\"\",Pivot!B275)","v":""},"",{"$f":"IF(Pivot!C275=\"\",\"\",Pivot!C275)","v":""},null,null,null,"","","","",""]
[{"$f":"IF(Pivot!A276=\"\",\"\",Pivot!A276)","v":""},null,null,null,{"$f":"IF(Pivot!B276=\"\",\"\",Pivot!B276)","v":""},"",{"$f":"IF(Pivot!C276=\"\",\"\",Pivot!C276)","v":""},null,null,null,"","","","",""]
[{"$f":"IF(Pivot!A277=\"\",\"\",Pivot!A277)","v":""},null,null,null,{"$f":"IF(Pivot!B277=\"\",\"\",Pivot!B277)","v":""},"",{"$f":"IF(Pivot!C277=\"\",\"\",Pivot!C277)","v":""},null,null,null,"","","","",""]
[{"$f":"IF(Pivot!A278=\"\",\"\",Pivot!A278)","v":""},null,null,null,{"$f":"IF(Pivot!B278=\"\",\"\",Pivot!B278)","v":""},"",{"$f":"IF(Pivot!C278=\"\",\"\",Pivot!C278)","v":""},null,null,null,"","","","",""]
[{"$f":"IF(Pivot!A279=\"\",\"\",Pivot!A279)","v":""},null,null,null,{"$f":"IF(Pivot!B279=\"\",\"\",Pivot!B279)","v":""},"",{"$f":"IF(Pivot!C279=\"\",\"\",Pivot!C279)","v":""},null,null,null,"","","","",""]
[{"$f":"IF(Pivot!A280=\"\",\"\",Pivot!A280)","v":""},null,null,null,{"$f":"IF(Pivot!B280=\"\",\"\",Pivot!B280)","v":""},"",{"$f":"IF(Pivot!C280=\"\",\"\",Pivot!C280)","v":""},null,null,null,"","","","",""]
[{"$f":"IF(Pivot!A281=\"\",\"\",Pivot!A281)","v":""},null,null,null,{"$f":"IF(Pivot!B281=\"\",\"\",Pivot!B281)","v":""},"",{"$f":"IF(Pivot!C281=\"\",\"\",Pivot!C281)","v":""},null,null,null,"","","","",""]
[{"$f":"IF(Pivot!A282=\"\",\"\",Pivot!A282)","v":""},null,null,null,{"$f":"IF(Pivot!B282=\"\",\"\",Pivot!B282)","v":""},"",{"$f":"IF(Pivot!C282=\"\",\"\",Pivot!C282)","v":""},null,null,null,"","","","",""]
[{"$f":"IF(Pivot!A283=\"\",\"\",Pivot!A283)","v":""},null,null,null,{"$f":"IF(Pivot!B283=\"\",\"\",Pivot!B283)","v":""},"",{"$f":"IF(Pivot!C283=\"\",\"\",Pivot!C283)","v":""},null,null,null,"","","","",""]
[{"$f":"IF(Pivot!A284=\"\",\"\",Pivot!A284)","v":""},null,null,null,{"$f":"IF(Pivot!B284=\"\",\"\",Pivot!B284)","v":""},"",{"$f":"IF(Pivot!C284=\"\",\"\",Pivot!C284)","v":""},null,null,null,"","","","",""]
[{"$f":"IF(Pivot!A285=\"\",\"\",Pivot!A285)","v":""},null,null,null,{"$f":"IF(Pivot!B285=\"\",\"\",Pivot!B285)","v":""},"",{"$f":"IF(Pivot!C285=\"\",\"\",Pivot!C285)","v":""},null,null,null,"","","","",""]
[{"$f":"IF(Pivot!A286=\"\",\"\",Pivot!A286)","v":""},null,null,null,{"$f":"IF(Pivot!B286=\"\",\"\",Pivot!B286)","v":""},"",{"$f":"IF(Pivot!C286=\"\",\"\",Pivot!C286)","v":""},null,null,null,"","","","",""]
[{"$f":"IF(Pivot!A287=\"\",\"\",Pivot!A287)","v":""},null,null,null,{"$f":"IF(Pivot!B287=\"\",\"\",Pivot!B287)","v":""},"",{"$f":"IF(Pivot!C287=\"\",\"\",Pivot!C287)","v":""},null,null,null,"","","","",""]
[{"$f":"IF(Pivot!A288=\"\",\"\",Pivot!A288)","v":""},null,null,null,{"$f":"IF(Pivot!B288=\"\",\"\",Pivot!B288)","v":""},"",{"$f":"IF(Pivot!C288=\"\",\"\",Pivot!C288)","v":""},null,null,null,"","","","",""]
[{"$f":"IF(Pivot!A289=\"\",\"\",Pivot!A289)","v":""},null,null,null,{"$f":"IF(Pivot!B289=\"\",\"\",Pivot!B289)","v":""},"",{"$f":"IF(Pivot!C289=\"\",\"\",Pivot!C289)","v":""},null,null,null,"","","","",""]
[{"$f":"IF(Pivot!A290=\"\",\"\",Pivot!A290)","v":""},null,null,null,{"$f":"IF(Pivot!B290=\"\",\"\",Pivot!B290)","v":""},"",{"$f":"IF(Pivot!C290=\"\",\"\",Pivot!C290)","v":""},null,null,null,"","","","",""]
[{"$f":"IF(Pivot!A291=\"\",\"\",Pivot!A291)","v":""},null,null,null,{"$f":"IF(Pivot!B291=\"\",\"\",Pivot!B291)","v":""},"",{"$f":"IF(Pivot!C291=\"\",\"\",Pivot!C291)","v":""},null,null,null,"","","","",""]
[{"$f":"IF(Pivot!A292=\"\",\"\",Pivot!A292)","v":""},null,null,null,{"$f":"IF(Pivot!B292=\"\",\"\",Pivot!B292)","v":""},"",{"$f":"IF(Pivot!C292=\"\",\"\",Pivot!C292)","v":""},null,null,null,"","","","",""]
[{"$f":"IF(Pivot!A294=\"\",\"\",Pivot!A294)","v":""},null,null,null,{"$f":"IF(Pivot!B293=\"\",\"\",Pivot!B293)","v":""},null,{"$f":"IF(Pivot!C294=\"\",\"\",Pivot!C294)","v":""},null,null,null,{"$f":"IF(A300=\"\",\"\",$C$6)","v":""},"","","",""]

{"sheet":"Tabelle5","index":3,"n_rows":0,"n_cols":0,"rows_kept":0,"cut":false,"hidden":true,"merged":[]}

{"sheet":"Prüfungskommissionen","index":4,"n_rows":5,"n_cols":6,"rows_kept":5,"cut":false,"hidden":true,"merged":[]}
[]
["Klasse","Art der Prüfung","Prüfungstätigkeit","Ausm.","Teilpr.","Kandid."]
["(Leer)","(Leer)","(Leer)","(Leer)"]
["(Leer) Ergebnis"]
["Gesamtergebnis"]

{"sheet":"test","index":5,"n_rows":8,"n_cols":10,"rows_kept":8,"cut":false,"hidden":true,"merged":[]}
[730153,42616,"Reifepr./Diplompr.","Vorsitz",1,"d",8,100,null,3]
[90042928,42616,"Reifepr./Diplompr.","Schulleiter/AV/fachk. LP",1,"d",8,100,null,2]
[77002,42614,"Reifepr./Diplompr.","Vorsitz/mdl. Kompens.",1,"d",8,100,null,3]
[1086226,42705,"Reifepr./Diplompr.","mündl. m. Schwerp./2 Prüfer",null,"e",8,100,null,8]
[730153,42614,"Reifepr./Diplompr.","Schulleiter/AV/fachk. LP",7,"d",8,100,null,4]
[730153,42614,"Reifepr./Diplompr.","Schulleit./AV/LP/mdl. Komp",7,"d",8,100,null,5]
[610044,42614,"Reifepr./Diplompr.","JV/FV/SK/LP/mdl. Komp.",7,"d",8,100,null,6]
[610044,42614,"Reifepr./Diplompr.","JV/FV/SK/LP/mdl. Komp.",7,"d",8,100,null,7]

{"sheet":"Pivot","index":6,"n_rows":1,"n_cols":3,"rows_kept":1,"cut":false,"hidden":true,"merged":[]}
["Zu- und Vorname, akad. Grad","Personal-Nr.","Summe von Gesamt"]

{"sheet":"Schulen","index":7,"n_rows":361,"n_cols":20,"rows_kept":361,"cut":false,"hidden":true,"merged":[]}
[201016,"BG/BRG Europagymnasium",null,2010161,4817,4818,"30W000000002",4811,"Prüfungsentschädigung",null,null,null,201016,"Mag. Sabine Wintschnig",{"$f":"VLOOKUP(M1,$A:$C,2,0)","v":"BG/BRG Europagymnasium"},null,201016,"Ogris","AHS","Kollmann"]
[201026,"BG/BRG Mössinger Straße ",null,2010261,4817,4818,"30W000000002",4817,"Abgelt. Zusatzqualifik.",null,null,null,201026,"Mag. Franz Furtschegger",{"$f":"VLOOKUP(M2,$A:$C,2,0)","v":"BG/BRG Mössinger Straße "},null,201026,"Ogris","AHS","Polluk"]
[201036,"BORG Klagenfurt",null,2010361,4817,4818,"30W000000002",4818,"Extern. (Berufsreifepr.)",null,null,null,201036,"Mag. Michael Seher ","BORG Klagenfurt",null,201036,"Ogris","AHS","Perchtaler"]
[201046,"BG/BRG Lerchenfeldstraße ",null,2010461,4817,4818,"30W000000002",null,null,null,null,null,201046,"Mag. Sabine Weber","BG/BRG Lerchenfeldstraße ",null,201046,"Ogris","AHS","Perchtaler"]
[201056,"BG/BRG \"Ingeborg Bachmann\"",null,2010561,4817,4818,"30W000000002",null,null,null,null,null,201056,"MMMag.Dr. Markus Krainz ","BG/BRG \"Ingeborg Bachmann\"",null,201056,"Ogris","AHS","Perchtaler"]
[201066,"BG für Slowenen",null,2010661,4817,4818,"30W000000002",null,null,null,null,null,201066,"Mag. Rosalia Kuchling ","BG für Slowenen",null,201066,"Ogris","AHS","Perchtaler"]
[201076,"BRG Klagenfurt-Viktring",null,2010761,4817,4818,"30W000000002",null,null,null,null,null,201076,"Mag.Dr. Gabriele Fenkart ","BRG Klagenfurt-Viktring",null,201076,"Ogris","AHS","Hrovat"]
[201086,"BG für Berufstätige",null,2010861,4817,4818,"30W000000002",null,null,null,null,null,201086,"Mag.Dr. Anneliese Theuermann ","BG für Berufstätige",null,201086,"Ogris","AHS","Perchtaler"]
[201106,"Priv. RG und ORG St. Ursula d. Diözese Gurk",null,2011061,4817,4818,"30W000000002",null,null,null,null,null,201106,"Mag. Hans Omann ","Priv. RG und ORG St. Ursula d. Diözese Gurk",null,201106,"Ogris","AHS","Polluk"]
[201419,"HBLA Klagenfurt",null,2014191,4817,4818,"30W000000002",null,null,null,null,null,201419,"Mag. Michaela Graßler","HBLA Klagenfurt",null,201419,"Dobrautz","HBLA","Hrovat"]
[201427,"HTBLA Klagenfurt Lastenstraße ",null,2014271,4817,4818,"30W000000002",null,null,null,null,null,201427,"Dr. Michael Archer ","HTBLA Klagenfurt Lastenstraße ",null,201427,"Dobrautz","HTL","Hrovat"]
[201438,"BHAK/BHASCH I Klagenfurt",null,2014381,4817,4818,"30W000000002",null,null,null,null,null,201438,"Mag. Franz Hudelist ","BHAK/BHASCH I Klagenfurt",null,201438,"Zager","HAK","Kollmann"]
[201448,"BHAK/BHASCH International",null,2014481,4817,4818,"30W000000002",null,null,null,null,null,201448,"Mag. Franz Hudelist ","BHAK/BHASCH International",null,201448,"Zager","HAK","Kollmann"]
[201469,"HLW f. wirtschaftliche Berufe des Kärntner Caritasverbandes",null,2014691,4817,4818,"30W000000002",null,null,null,null,null,201469,"Mag. Tanja Perchtold","HLW f. wirtschaftliche Berufe des Kärntner Caritasverbandes",null,201469,"Dobrautz","HBLA","Perchtaler"]
[201529,"FS f. Sozialberufe 2 ",null,2015291,4817,4818,"30W000000002",null,null,null,null,null,201529,"Mag. Wilfried Hude ","FS f. Sozialberufe 2 ",null,201529,"Dobrautz","HBLA","Perchtaler"]
[201537,"HTBLA Klagenfurt Mössingerstraße ",null,2015371,4817,4818,"30W000000002",null,null,null,null,null,201537,"DI Hubert Lutnik ","HTBLA Klagenfurt Mössingerstraße ",null,201537,"Dobrautz","HTL","Hrovat"]
[201549,"FS f. Ehe- und Familienberatung ",null,2015491,4817,4818,"30W000000002",null,null,null,null,null,201549,"Dr. Sylvia Hude ","FS f. Ehe- und Familienberatung ",null,201549,"Dobrautz","HBLA","Perchtaler"]
[201568,"Zweisprachige BHAK",null,2015681,4817,4818,"30W000000002",null,null,null,null,null,201568,"Mag. Hans Pogelschek ","Zweisprachige BHAK",null,201568,"Zager","HAK","Kollmann"]
[201810,"BBA f. Kindergartenpäd. ",null,2018101,4817,4818,"30W000000002",null,null,null,null,null,201810,"Mag. Barbara Graber","BBA f. Kindergartenpäd. ",null,201810,"Zager","AHS","Polluk"]
[202016,"BG/BRG Villach Peraustraße",null,2020161,4817,4818,"30W000000002",null,null,null,null,null,202016,"Mag.Dr. Felix Kucher","BG/BRG Villach Peraustraße",null,202016,"Ogris","AHS","Polluk"]
[202026,"BG/BRG Villach St. Martin",null,2020261,4817,4818,"30W000000002",null,null,null,null,null,202026,"Mag. Roswitha Errath ","BG/BRG Villach St. Martin",null,202026,"Ogris","AHS","Polluk"]
[202417,"HTBLuVA Villach",null,2024171,4817,4818,"30W000000002",null,null,null,null,null,202417,"DI Peter Kusstatscher ","HTBLuVA Villach",null,202417,"Dobrautz","HTL","Hrovat"]
[202429,"Centr. Humanber. Schulen d. B. Villach",null,2024291,4817,4818,"30W000000002",null,null,null,null,null,202429,"Dr. Petra Mayer ","Centr. Humanber. Schulen d. B. Villach",null,202429,"Dobrautz","HBLA","Polluk"]
[202438,"BHAK/BHASCH Villach",null,2024381,4817,4818,"30W000000002",null,null,null,null,null,202438,"Mag.Dr. Florian Buchmayr ","BHAK/BHASCH Villach",null,202438,"Zager","HAK","Kollmann"]
[202479,"Ktn. Tourismusschulen Warmbad Villach",null,2024791,4817,4818,"30W000000002",null,null,null,null,null,202479,"Dr. Gerfried Pirker ","Ktn. Tourismusschulen Warmbad Villach",null,202479,"Dobrautz","HBLA","Polluk"]
[203016,"BORG Hermagor",null,2030161,4817,4818,"30W000000002",null,null,null,null,null,203016,"Dr. Andreas Schuller ","BORG Hermagor",null,203016,"Ogris","AHS","Kollmann"]
[203419,"HBLA f. w. Berufe \"Karnische Region\"",null,2034191,4817,4818,"30W000000002",null,null,null,null,null,203419,"Mag. Wölbitsch Werner","HBLA f. w. Berufe \"Karnische Region\"",null,203419,"Dobrautz","HBLA","Hrovat"]
[204417,"HTBLA Ferlach",null,2044171,4817,4818,"30W000000002",null,null,null,null,null,204417,"Mag. Silke Bergmoser ","HTBLA Ferlach",null,204417,"Dobrautz","HTL","Hrovat"]
[205016,"BG/BRG St. Veit/Glan",null,2050161,4817,4818,"30W000000002",null,null,null,null,null,205016,"Mag. Manuel Pichler ","BG/BRG St. Veit/Glan",null,205016,"Ogris","AHS","Polluk"]
[205026,"BORG \"Auer von Welsbach\"",null,2050261,4817,4818,"30W000000002",null,null,null,null,null,205026,"Mag. Scherzer Hannes","BORG \"Auer von Welsbach\"",null,205026,"Ogris","AHS","Kollmann"]
[205036,"BG Tanzenberg",null,2050361,4817,4818,"30W000000002",null,null,null,null,null,205036,"Mag. Gerald Horn ","BG Tanzenberg",null,205036,"Ogris","AHS","Polluk"]
[205419,"HBLA f. wirtsch Berufe St. Veit/Glan",null,2054191,4817,4818,"30W000000002",null,null,null,null,null,205419,"Mag. Gerlinde Zergoi-Wagner ","HBLA f. wirtsch Berufe St. Veit/Glan",null,205419,"Dobrautz","HBLA","Polluk"]
[205458,"BHAK/BHASCH Althofen",null,2054581,4817,4818,"30W000000002",null,null,null,null,null,205458,"Mag. Hannes Scherzer ","BHAK/BHASCH Althofen",null,205458,"Zager","HAK","Kollmann"]
[206016,"BG \"Porcia\"",null,2060161,4817,4818,"30W000000002",null,null,null,null,null,206016,"Mag. Dagmar Rauter ","BG \"Porcia\"",null,206016,"Ogris","AHS","Polluk"]
[206026,"BRG Spittal/Drau",null,2060261,4817,4818,"30W000000002",null,null,null,null,null,206026,"Mag. Norbert Santner ","BRG Spittal/Drau",null,206026,"Ogris","AHS","Polluk"]
[206036,"BORG Spittal/Drau",null,2060361,4817,4818,"30W000000002",null,null,null,null,null,206036,"Mag. Andreas Biedermann ","BORG Spittal/Drau",null,206036,"Ogris","AHS","Kollmann"]
[206419,"HBLA f. w. Berufe Spittal/Drau",null,2064191,4817,4818,"30W000000002",null,null,null,null,null,206419,"Dr. Adolf Lackner ","HBLA f. w. Berufe Spittal/Drau",null,206419,"Dobrautz","HBLA","Hrovat"]
[206448,"BHAK/BHASCH Spittal/Drau",null,2064481,4817,4818,"30W000000002",null,null,null,null,null,206448,"Mag. Reinhold Strobl ","BHAK/BHASCH Spittal/Drau",null,206448,"Zager","HAK","Kollmann"]
[207419,"Priv. höh. LA f. w. B. d. Konvents d. Schuls.",null,2074191,4817,4818,"30W000000002",null,null,null,null,null,207419,"Mag. Marija Olip MAS","Priv. höh. LA f. w. B. d. Konvents d. Schuls.",null,207419,"Dobrautz","HBLA","Perchtaler"]
[208016,"BG/BRG \"Alpen-Adria-Gymn.\" Völkerm.",null,2080161,4817,4818,"30W000000002",null,null,null,null,null,208016,"Mag. Elvira Steindorfer ","BG/BRG \"Alpen-Adria-Gymn.\" Völkerm.",null,208016,"Ogris","AHS","Perchtaler"]
[208428,"BHAK/BHASCH Völkermarkt",null,2084281,4817,4818,"30W000000002",null,null,null,null,null,208428,"Dr. Felizitas Wedenig","BHAK/BHASCH Völkermarkt",null,208428,"Zager","HAK","Kollmann"]
[209016,"Öffentl. Stiftsgymn. d. Benediktiner",null,2090161,4817,4818,"30W000000002",null,null,null,null,null,209016,"Mag. Ines Leschirnig-Reichel ","Öffentl. Stiftsgymn. d. Benediktiner",null,209016,"Ogris","AHS","Kollmann"]
[209026,"BORG Wolfsberg",null,2090261,4817,4818,"30W000000002",null,null,null,null,null,209026,"Mag. Peter Reischl ","BORG Wolfsberg",null,209026,"Ogris","AHS","Polluk"]
[209419,"HBLA f. wirtsch Berufe Wolfsberg",null,2094191,4817,4818,"30W000000002",null,null,null,null,null,209419,"Mag.Dr. Gerhard Veidl ","HBLA f. wirtsch Berufe Wolfsberg",null,209419,"Dobrautz","HBLA","Polluk"]
[209448,"BHAK/BHASCH Wolfsberg",null,2094481,4817,4818,"30W000000002",null,null,null,null,null,209448,"Mag.Dr. Gerhard Veidl ","BHAK/BHASCH Wolfsberg",null,209448,"Zager","HAK","Kollmann"]
[209467,"HTBLA Wolfsberg",null,2094671,4817,4818,"30W000000002",null,null,null,null,null,209467,"DI Jürgen Jantschgi ","HTBLA Wolfsberg",null,209467,"Dobrautz","HTL","Hrovat"]
[209509,"Exp. d. FS f. Sozialber. D. Ktn. Caritasv.",null,2095091,4817,4818,"30W000000002",null,null,null,null,null,209509,"Mag. Roland Lassenberger ","Exp. d. FS f. Sozialber. D. Ktn. Caritasv.",null,209509,"Dobrautz","HBLA","Perchtaler"]
[210026,"BSC Feldkirchen - BRG Feldkirchen",null,2100261,4817,4818,"30W000000002",null,null,null,null,null,210026,"Mag. Herwig Klautzer ","BSC Feldkirchen - BRG Feldkirchen",null,210026,"Ogris","AHS","Kollmann"]
[210458,"BSC Feldkirchen - BHAK/BHASCH Feldkirchen",null,2104581,4817,4818,"30W000000002",null,null,null,null,null,210458,"Mag. Herwig Klautzer ","BSC Feldkirchen - BHAK/BHASCH Feldkirchen",null,210458,"Zager","HAK","Kollmann"]
[210469,"LA f. Heilp. B. f. Berufst. d. Ev. Diakoniew.",null,2104691,4817,4818,"30W000000002",null,null,null,null,null,210469,"Mag.Dr. Susanne Lissy MAS","LA f. Heilp. B. f. Berufst. d. Ev. Diakoniew.",null,210469,"Dobrautz","HBLA","Perchtaler"]
[200000,"Bildungsdirektion für Kärnten",null,null,null,null,null,null,null,null,null,null,200000,"Mag. Isabella Penz","Bildungsdirektion für Kärnten",null,200000,"Langer","AHS","Perchtaler"]
[202042,"MS Villach-Auen"]
[202082,"MS Villach Landskron"]
[202011,"VS 1 Villach, Khevenhüller"]
[202021,"VS 2 Villach, Friedensschule"]
[202023,"ASO Villach"]
[202031,"VS 3 Villach, Lind"]
[202033,"SeF Villach"]
[202041,"VS 4 Villach, Völkendorf"]
[202051,"VS 6 Villach, Auen"]
[202052,"MS Villach-Lind"]
[202062,"MS Villach-Völkendorf (MSW)"]
[202091,"VS 5 Villach, St.Martin"]
[202111,"VS 10 Villach, Vassach"]
[202131,"VS 8 Villach, St. Andrä"]
[202141,"VS 13 Villach, St. Magdalen"]
[202151,"VS 11 Villach, Maria Gail (MSW)"]
[202161,"VS 9 Villach, Fellach"]
[202171,"VS 12 Villach, Pogöriach"]
[202231,"VS Villach Trinity, priv."]
[209012,"MS Bad St. Leonhard i. Lav."]
[209014,"PTS Wolfsberg"]
[209022,"MS Lavamünd"]
[209031,"VS Bad St. Leonhard"]
[209032,"MS St. Andrä i. Lav."]
[209042,"MS St. Gertraud i. Lav."]
[209062,"MS Wolfsberg 1"]
[209071,"VS Granitztal"]
[209081,"VS Jakling"]
[209082,"MS Wolfsberg 2, Musik"]
[209092,"MS Wolfsberg St. Marein"]
[209102,"VS und MS Lavantinum"]
[209111,"VS Lavamünd"]
[209112,"MS Wolfsberg St. Stefan"]
[209122,"MS St. Paul i. Lav."]
[209131,"VS Maria Rojach"]
[209161,"VS Prebl"]
[209181,"VS Preitenegg"]
[209191,"VS Reichenfels"]
[209201,"VS St. Andrä i. Lav."]
[209221,"VS St. Georgen i. Lav."]
[209231,"VS St. Gertraud i. Lav."]
[209251,"VS St. Johann i. Lav."]
[209261,"VS St. Marein i. Lav."]
[209281,"VS St. Margarethen i. Lav."]
[209291,"VS St. Michael i. Lav."]
[209301,"VS St. Paul i. Lav."]
[209321,"VS St. Stefan i. Lav."]
[209331,"VS St. Ulrich an der Goding"]
[209341,"VS Schiefling"]
[209391,"VS Wolfsberg"]
[202025,"FBS Villach 2"]
[202035,"FBS Villach 1"]
[202045,"FBS Warmbad Villach"]
[206015,"FBS Spittal/Drau"]
[206032,"MS Gmünd, Musik"]
[206041,"VS Baldramsdorf"]
[206052,"MS Dellach im Drautal"]
[206061,"VS Dellach im Drautal"]
[206081,"VS Großkirchheim"]
[206171,"VS Heiligenblut"]
[206181,"VS Lendorf"]
[206191,"VS Irschen"]
[206202,"MS Möllbrücke Lurnfeld"]
[206221,"VS Bad Kleinkirchheim"]
[206281,"VS Lind im Drautal"]
[206341,"VS Lurnfeld"]
[206521,"VS Spittal/Drau West"]
[206551,"VS Stall im Mölltal"]
[206561,"VS Steinfeld"]
[206591,"VS Trebesing"]
[206361,"VS Mörtschach"]
[206381,"VS Oberdrauburg"]
[206022,"MS Rennweg"]
[206034,"PTS Spittal/Drau"]
[206043,"SeF Seebach"]
[206231,"VS Reißeck"]
[206451,"VS Rangersdorf"]
[206461,"VS Rennweg"]
[206491,"VS Sachsenburg"]
[206251,"Privatschule „Trinity – christliche Privatschule Spittal an der Drau“."]
[210012,"MS Feldkirchen"]
[210021,"VS Bodensdorf"]
[210024,"PTS Feldkirchen"]
[210031,"VS Ebene Reichenau"]
[210032,"MS Feldkirchen reformpäd."]
[210061,"VS Feldkirchen"]
[210122,"MS Nockberge - Patergassen"]
[210131,"VS Glanhofen"]
[210141,"VS Gnesau"]
[210171,"VS Himmelberg"]
[210321,"VS Ossiach"]
[210391,"VS Radweg"]
[210431,"VS St. Martin bei Feldkirchen"]
[210471,"VS St. Ulrich bei Feldkirchen"]
[210481,"VS St. Urban"]
[210501,"VS Sirnitz"]
[210511,"VS Steindorf"]
[210521,"VS Steuerberg"]
[210671,"VS Glanegg"]
[203011,"VS Dellach im Gailtal"]
[203012,"MS Hermagor (MSW)"]
[203021,"VS Egg (MSW)"]
[203041,"VS Gundersheim"]
[203042,"MS Kötschach-Mauthen"]
[203052,"MS Lesachtal"]
[203061,"VS Kirchbach"]
[203081,"VS Kötschach-Mauthen"]
[203191,"VS St. Stefan/Gail (MSW)"]
[203201,"VS Tröpolach"]
[203241,"VS Weißbriach"]
[203261,"VS Hermagor"]
[208031,"VS Bleiburg (MSW)"]
[208041,"VS Diex (MSW)"]
[208051,"VS Eberndorf (MSW)"]
[208141,"VS 3 Völkermarkt (MSW)"]
[208151,"VS Heiligengrab (MSW)"]
[208161,"VS 4 Völkermarkt (MSW)"]
[208181,"VS Kühnsdorf (MSW)"]
[208251,"VS Neuhaus (MSW)"]
[208291,"VS Ruden (MSW)"]
[208311,"VS St. Kanzian (MSW)"]
[208331,"VS 6 Völkermarkt (MSW)"]
[208341,"VS St. Michael ob Bleiburg (MSW)"]
[208361,"VS 7 Völkermarkt (MSW)"]
[208381,"VS St. Primus (MSW)"]
[208391,"VS Sittersdorf (MSW)"]
[208411,"VS 8 Völkermarkt (MSW)"]
[208431,"VS Völkermarkt Stadt (MSW)"]
[201750,"Landesfachberufsschule Ehrental"]
[201710,"Landesfachschule Ehrental"]
[205710,"Landesfachschule Althofen"]
[207720,"Landesfachschule Stiegerhof"]
[208720,"Landesfachschule Goldbrunnhof"]
[209710,"Landesfachschule St. Andrä"]
[209720,"Landesfachschule Buchhof"]
[206720,"Landesfachschule Litzlhof"]
[201141,"VS 14 Klagenfurt"]
[201151,"VS 15 Klagenfurt"]
[201191,"VS Klagenfurt St. Ursula, priv."]
[201221,"VS 20 Klagenfurt"]
[201231,"VS 21 Klagenfurt"]
[201241,"VS 22 Klagenfurt"]
[201251,"VS 23 Klagenfurt"]
[201301,"VS 27 Klagenfurt"]
[201331,"VS Hermagoras Mohorjeva, priv. (MSW)"]
[201341,"VS Klagenfurt de la Tour, priv."]
[208012,"MS Bleiburg (MSW)"]
[208014,"PTS Völkermarkt"]
[208042,"MS Griffen (MSW)"]
[208052,"MS Kühnsdorf (MSW)"]
[208062,"MS Eberndorf (MSW)"]
[208072,"MS Völkermarkt (MSW)"]
[208081,"VS Bad Eisenkappel (MSW)"]
[208091,"VS Gallizien (MSW)"]
[208101,"VS Globasnitz (MSW)"]
[208131,"VS Griffen (MSW)"]
[201132,"MS Klagenfurt, St. Ursula priv."]
[201142,"MS 13 Klagenfurt, Viktring (MSW)"]
[201182,"MS Klagenfurt de La Tour, priv."]
[201025,"FBS Klagenfurt 1"]
[201035,"FBS Klagenfurt 2"]
[204025,"FBS Ferlach"]
[205015,"FBS St. Veit/Glan"]
[208015,"FBS Völkermarkt"]
[209025,"FBS Wolfsberg"]
[206051,"VS Berg im Drautal"]
[206091,"VS Eisentratten"]
[206131,"VS Flattach"]
[206141,"VS Gmünd"]
[206161,"VS Greifenburg"]
[206072,"MS Obervellach"]
[206082,"MS Radenthein"]
[206611,"VS Weißensee"]
[206301,"VS Mallnitz"]
[206311,"VS Malta"]
[206351,"VS Molzbichl"]
[206371,"VS Mühldorf"]
[206391,"VS Millstatt am See"]
[206132,"MS Spittal/Drau"]
[206401,"VS Obervellach"]
[205012,"MS Althofen"]
[205021,"VS Althofen"]
[205024,"PTS Althofen"]
[205032,"MS Friesach"]
[205041,"VS Brückl"]
[205051,"VS Deutsch-Griffen"]
[205081,"VS Eberstein"]
[205102,"MS St. Veit an der Glan"]
[205121,"VS Glödnitz"]
[205122,"MS Weitensfeld"]
[205132,"MS Straßburg"]
[205161,"VS Gurk"]
[205162,"MS Brückl"]
[205171,"VS Guttaring"]
[205211,"VS Hörzendorf"]
[205241,"VS Kappel am Krappfeld"]
[205251,"VS Klein St. Paul"]
[205261,"VS Hüttenberg"]
[205271,"VS Kraig"]
[205301,"VS Liebenfels"]
[205321,"VS Meiselding"]
[205331,"VS Metnitz"]
[205341,"VS Micheldorf"]
[205361,"VS Obermühlbach"]
[205421,"VS St. Georgen am Längsee"]
[205481,"VS St. Salvator"]
[205521,"VS St. Veit an der Glan"]
[205571,"VS Sörg"]
[205591,"VS Straßburg"]
[205611,"VS Weitensfeld"]
[205701,"VS Launsdorf"]
[201011,"VS 1 am Kreuzbergl, Klagenfurt"]
[201041,"VS 4 Klagenfurt"]
[201081,"VS 8 Klagenfurt"]
[201091,"VS 9 Klagenfurt"]
[201101,"VS 10 Klagenfurt"]
[201111,"VS 11 Klagenfurt"]
[201121,"VS 12 Klagenfurt"]
[201131,"VS 13 Klagenfurt, Spitalberg"]
[201014,"PTS Klagenfurt"]
[201052,"MS 11 Klagenfurt, Annabichl"]
[201053,"HSS Klagenfurt Kärnten"]
[201062,"MS 12 Klagenfurt, St. Ruprecht"]
[201073,"ASO Klagenfurt Josefinum priv."]
[201082,"MS 2 Klagenfurt, Waidmannsdorf"]
[201083,"SeF Klagenfurt"]
[201112,"MS 5 Klagenfurt, Wölfnitz"]
[206042,"MS Greifenburg"]
[206071,"VS Döbriach"]
[206271,"VS Lieserhofen"]
[206541,"VS Spittal/Drau Ost"]
[206601,"VS Treffling"]
[206631,"VS Winklern"]
[206102,"MS Seeboden, Musik"]
[206142,"MS Winklern"]
[206441,"VS Radenthein"]
[206501,"VS Seeboden"]
[202024,"PTS Villach"]
[202121,"VS 7 Villach, Landskron"]
[207032,"MS Feistritz/Drau"]
[207101,"VS Feistritz/Drau"]
[207112,"MS Velden (MSW)"]
[207132,"MS Treffen de La Tour priv."]
[207341,"VS Ledenitzen (MSW)"]
[207411,"VS Nötsch im Gailtal (MSW)"]
[207551,"VS Velden am Wörther See (MSW)"]
[207011,"VS Afritz am See"]
[207012,"MS Arnoldstein (MSW)"]
[207021,"VS Arnoldstein (MSW)"]
[207041,"VS Arriach"]
[207051,"VS Bad Bleiberg"]
[207052,"MS Finkenstein (MSW)"]
[207062,"MS St. Jakob im Rosental (MSW)"]
[207071,"VS Damtschach (MSW)"]
[207081,"VS St. Egyden/Drau (MSW)"]
[207092,"MS Nötsch im Gailtal (MSW)"]
[207121,"VS Hohenthurn (MSW)"]
[207122,"MS Gegendtal - Treffen"]
[207131,"VS Feld am See"]
[207151,"VS Ferndorf"]
[207161,"VS Finkenstein (MSW)"]
[207171,"VS Fresach"]
[207181,"VS Fürnitz (MSW)"]
[207201,"VS Gödersdorf (MSW)"]
[207221,"VS Goritschach (MSW)"]
[207261,"VS St. Jakob im Rosental (MSW)"]
[207281,"VS Köstenberg (MSW)"]
[207331,"VS Latschach (MSW)"]
[207351,"VS St. Leonhard b. S. (MSW)"]
[207361,"VS Lind ob Velden (MSW)"]
[207421,"VS Paternion"]
[207461,"VS Rosegg (MSW)"]
[207491,"VS Sattendorf"]
[207501,"VS Stadelbach"]
[207531,"VS Treffen"]
[207571,"VS Weißenstein"]
[207581,"VS Zlan"]
[207601,"VS Treffen de La Tour, priv."]
[207611,"VS Velden ISC, priv."]
[201261,"VS 24 Klagenfurt (MSW)"]
[205111,"VS Friesach"]
[201092,"MS 3 Klagenfurt, Hasnerschule (MSW)"]
[201122,"MS 6 Klagenfurt, St. Peter (MSW)"]
[204041,"VS Ebenthal"]
[204051,"VS Feistritz im Rosental (MSW)"]
[204052,"MS Ferlach (MSW)"]
[204072,"MS Moosburg"]
[204091,"VS 1 Ferlach (MSW)"]
[204101,"VS 2 Ferlach (MSW)"]
[204131,"VS Karnburg Trinity, priv."]
[204151,"VS Grafenstein (MSW)"]
[204161,"VS Gurnitz (MSW)"]
[204211,"VS Keutschach (MSW)"]
[204221,"VS Köttmannsdorf (MSW)"]
[204231,"VS Krumpendorf am Wörthersee"]
[204251,"VS Ludmannsdorf (MSW)"]
[204271,"VS Maria Rain (MSW)"]
[204281,"VS Maria Saal"]
[204311,"VS Moosburg"]
[204351,"VS Poggersdorf"]
[204371,"VS Pörtschach am Wörther See"]
[204401,"VS Reifnitz"]
[204421,"VS St. Margareten im Rosental (MSW)"]
[204461,"VS Magdalensberg"]
[204491,"VS Schiefling am Wörthersee (MSW)"]
[204541,"VS Techelsberg"]
[204561,"VS Tigring"]
[204601,"VS Wabelsdorf (MSW)"]
[204641,"VS Zell-Pfarre (MSW)"]
[204691,"VS 2 Ferlach (MSW)"]

{"sheet":"G","index":8,"n_rows":201,"n_cols":31,"rows_kept":201,"cut":false,"hidden":true,"merged":[]}
["Art","Leistung","E-Betrag","Abg.2",null,null,"Spalte1",null,1,"Vorsitz",null,"Reifepr./Diplompr.","Vorpr. d. Reifepr./Diplompr./AP","Externistenreifeprüfung","Zulassungsprüfung z. Extern.RP","Sonst. Externistenprüfungen","Aufnahmeprüfung/Einstufungspr.","Kommissionelle Prüfungen/Kolloquien","Abschlussprüfung","Käsek./Jungbark./Weinsom.","BRP/LmM",1,{"$f":"$B$99","v":43.2},null,"Spalte1",null,null,null,1,null,"Kanditaden"]
["Reifepr./Diplompr.","Vorsitz",2.2999999999999998,null,null,1,"Reifepr./Diplompr.",null,1,"Schulleiter/AV",null,"Vorsitz","Vorsitz","Vorsitz","Vorsitz","Vorsitz","Vorsitz","Vorsitz (komm. Prüfung)","Vorsitz","Vorsitz","Vorsitz",2,{"$f":"$B$99","v":43.2},null,100,null,100,null,2,null,1]
["Reifepr./Diplompr.","Vorsitz/mdl. Kompens.",2.2999999999999998,null,null,2,"Vorpr. d. Reifepr./Diplompr./AP",null,1,"Jahrgangsvorstand",null,"Vorsitz/mdl. Kompens.","Fachvorst./fachk. LP","Schulleiter","Schriftführung","Vorsitz §3/7","mündlich ","mündlich","Vorsitz/mdl. Kompens.","schriftlich","Prüfer schriftl.",3,43.2,null,99,null,null,null,3,null,2]
["Reifepr./Diplompr.","Schulleiter/AV/fachk. LP",1.9,null,null,3,"Externistenreifeprüfung",null,1,"Klassenvorstand/FV/WL",null,"Schulleiter/AV/fachk. LP","Schriftführung","Schriftführung BHS","mündlich ","Prüfer mündl. VS","praktisch","schriftlich/graph./prakt.","Schulleiter/AV/LP","praktisch","Prüfer mündl.",4,43.2,null,98,null,null,null,4,null,3]
["Reifepr./Diplompr.","Schulleit./AV/LP/mdl. Komp",1.9,null,null,4,"Zulassungsprüfung z. Extern.RP",null,1,"Vorsitz",null,"Schulleit./AV/LP/mdl. Komp","mündlich ","Schriftführung AHS","schriftl. /graphisch/prakt.","Prüfer mündl. §3/7 VS","schriftlich/graph./prakt.","Schriftf./fachk. Beisitzer","Schulleit./AV/LP/mdl. Komp","sensorisch","Prüfer Fachb./Klausur.",5,43.2,null,97,null,null,null,5,null,4]
["Reifepr./Diplompr.","JV/FV/SK/LP",1.9,null,null,5,"Sonst. Externistenprüfungen",null,1,"Schulleiter/AV",null,"JV/FV/SK/LP","schriftl. /graphisch/prakt.","mündlich AHS",null,"Schriftführung",null,null,"KV/FV/SK/LP","Organisat. d. Prüfung/JP","Prüfer Fachb./Korrektur",6,43.2,null,96,null,null,null,6,null,5]
["Reifepr./Diplompr.","JV/FV/SK/LP/mdl. Komp.",1.9,null,null,6,"Aufnahms- u. Einstufungsprüfungen",null,1,"KV/Jahrgangsvorstand",null,"JV/FV/SK/LP/mdl. Komp.","Projekt bzw. BDA","mündlich BHS",null,"Schriftführung §3/7",null,null,"JV/FV/SK/LP/mdl. Komp.","Organisat. d. Prüfung/KK","Beisitzer",7,43.2,null,95,null,null,null,7,null,6]
["Reifepr./Diplompr.","Klassenvorstand",1.9,null,null,7,"Komm. Prüfung/Kolloquien",null,1,"Fachvorstand/WL",null,"Klassenvorstand",null,"mündlich Schwerpunkt",null,"Prüfer mündl./prakt. MS",null,null,"Beisitzer","Organisat. d. Prüfung/Weins.","Schriftführung",8,43.2,null,94,null,null,null,null,null,7]
["Reifepr./Diplompr.","Klassenvorst./mdl. Komp.",1.9,null,null,10,"Abschlussprüfung",null,null,null,null,"Klassenvorst./mdl. Komp.",null,"schriftllich ",null,"Prüfer mündl./prakt. §3/7 MS",null,null,"Beisitzer mdl. Kompens.-Pr.",null,null,9,43.2,null,93,null,null,null,null,null,8]
["Reifepr./Diplompr.","schriftl. /graphisch/prakt.",24.5,null,null,null,"Bitte Lohnart und Prüfungsd. Eingeben",null,null,null,null,"schriftl. /graphisch/prakt.",null,"schriftl. - graf./prakt. AHS",null,"Prüfer schriftl. MS",null,null,"schriftl. /graphisch/prakt.",null,null,10,43.2,null,92,null,null,null,null,null,9]
["Reifepr./Diplompr.","schriftlich/standardisiert",13.6,null,null,null,null,null,null,null,null,"schriftlich/standardisiert",null,null,null,"Prüfer schriftl. §3/7 MS",null,null,"graphisch/prakt. Fachklaus.",null,null,11,{"$f":"W10+$C$99","v":47.5},null,91,null,null,null,null,null,10]
["Reifepr./Diplompr.","mündlich ",13.6,null,null,8,"Zertifikatsprüfung Käsek./Jungbark.",null,null,null,null,"mündlich ",null,null,null,null,null,null,"mdl. Kompensationspr.",null,null,12,{"$f":"W11+$C$99","v":51.8},null,90,null,null,null,null,null,11]
["Reifepr./Diplompr.","mündlich 2 Prüfer",10.5,null,null,8,"Zertifikatsprüfung Weinsommelier",null,null,null,null,"mündlich 2 Prüfer",null,null,null,null,null,null,"mündlich 2 Prüfer",null,null,13,56.099999999999994,null,89,null,null,null,null,null,12]
["Reifepr./Diplompr.","mündl. m. Schwerpunkt",18.3,null,null,null,null,null,null,null,null,"mündl. m. Schwerpunkt",null,null,null,null,null,null,"Korr. abschließende Arb.",null,null,14,60.399999999999991,null,88,null,null,null,null,null,13]
["Reifepr./Diplompr.","mündl. m. Schwerp./2 Prüfer",12.9,null,null,null,null,null,null,null,null,"mündl. m. Schwerp./2 Prüfer",null,null,null,null,null,null,"mündlich ",null,null,15,64.699999999999989,null,87,null,null,null,null,null,14]
["Reifepr./Diplompr.","Beisitzer",7,null,null,9,"BRP / Lehre m. Matura",null,null,null,null,"Beisitzer",null,null,null,null,null,null,"Projekt bzw. BDA",null,null,16,68.999999999999986,null,86,null,null,null,null,null,15]
["Reifepr./Diplompr.","Beisitzer mdl. Kompens.-Pr.",7,null,null,null,null,null,null,null,null,"Beisitzer mdl. Kompens.-Pr.",null,null,null,null,null,null,"Vorsitz",null,null,17,73.299999999999983,null,85,null,null,null,null,null,16]
["Reifepr./Diplompr.","praktisch/BAfEP/Berufst.",16,null,null,null,null,null,null,null,null,"praktisch/BAfEP/Berufst.",null,null,null,null,null,null,"Prüfer schriftl.",null,null,18,77.59999999999998,null,84,null,null,null,null,null,17]
["Reifepr./Diplompr.","mdl. Kompensationspr.",13.6,null,null,null,null,null,null,null,null,"mdl. Kompensationspr.",null,null,null,null,null,null,"Prüfer mündl.",null,null,19,81.899999999999977,null,83,null,{"$f":"3.7*90","v":333},null,null,null,18]
["Reifepr./Diplompr.","Korr. Abschl.  Arb./Präs./Dis.",37.799999999999997,null,null,null,null,null,null,null,null,"Korr. Abschl.  Arb./Präs./Dis.",null,null,null,null,null,null,"Prüfer Fachb./Klausur.",null,null,20,86.199999999999974,null,82,null,37.299999999999997,null,null,null,19]
["Reifepr./Diplompr.","Projekt bzw. BDA",null,null,null,null,null,null,null,null,null,"Projekt bzw. BDA",null,null,null,null,null,null,"Prüfer Fachb./Proj.",null,null,21,90.499999999999972,null,81,null,{"$f":"SUM(AA19:AA20)","v":370.3},null,null,null,20]
["Vorpr. d. Reifepr./Diplompr./AP","Vorsitz",10.9,null,null,null,null,null,null,null,null,null,null,null,null,null,null,null,"Beisitzer",null,null,22,94.799999999999969,null,80,null,null,null,null,null,21]
["Vorpr. d. Reifepr./Diplompr./AP","Fachvorst./fachk. LP",8.1999999999999993,null,null,null,null,null,null,null,null,null,null,null,null,null,null,null,"Schriftführung",null,null,23,99.099999999999966,null,79,null,null,null,null,null,22]
["Vorpr. d. Reifepr./Diplompr./AP","Schriftführung",8.1999999999999993,null,null,null,null,null,null,null,null,null,null,null,null,null,null,null,null,null,null,24,103.39999999999996,null,78,null,null,null,null,null,23]
["Vorpr. d. Reifepr./Diplompr./AP","mündlich ",13.6,null,null,null,null,null,null,null,null,1,2,3,4,5,6,"7",10,8,9,25,107.69999999999996,null,77,null,null,null,null,null,24]
["Vorpr. d. Reifepr./Diplompr./AP","schriftl. /graphisch/prakt.",24.5,null,null,null,null,null,null,null,null,null,null,null,null,null,null,null,null,null,null,26,111.99999999999996,null,76,null,null,null,null,null,25]
["Vorpr. d. Reifepr./Diplompr./AP","Projekt bzw. BDA",null,null,null,null,null,null,null,null,null,null,null,null,null,null,null,null,null,null,null,27,116.29999999999995,null,75,null,null,null,null,null,26]
["Externistenreifeprüfung","Vorsitz",16,null,null,null,null,null,null,null,null,null,null,null,null,null,null,null,null,null,null,28,120.59999999999995,null,74,null,null,null,null,null,27]
["Externistenreifeprüfung","Schulleiter",16,null,null,null,null,null,null,null,null,null,null,null,null,null,null,null,null,null,null,29,124.89999999999995,null,73,null,null,null,null,null,28]
["Externistenreifeprüfung","Schriftführung BHS",16,null,null,null,null,null,null,null,null,null,null,null,null,null,null,null,null,null,null,30,129.19999999999996,null,72,null,null,null,null,null,29]
["Externistenreifeprüfung","Schriftführung AHS",16.399999999999999,null,null,null,null,null,null,null,null,null,null,null,null,null,null,null,null,null,null,31,133.49999999999997,null,71,null,null,null,null,null,30]
["Externistenreifeprüfung","mündlich AHS",16.399999999999999,null,null,null,null,null,null,null,null,null,null,null,null,null,null,null,null,null,null,32,137.79999999999998,null,70,null,null,null,null,null,31]
["Externistenreifeprüfung","mündlich BHS",16,null,null,null,null,null,null,null,null,null,null,null,null,null,null,null,null,null,null,33,142.1,null,69,null,null,null,null,null,32]
["Externistenreifeprüfung","mündlich Schwerpunkt",27.3,null,null,null,null,null,null,null,null,null,null,null,null,null,null,null,null,null,null,34,146.4,null,68,null,null,null,null,null,33]
["Externistenreifeprüfung","schriftllich ",24.5,null,null,null,null,null,null,null,null,null,null,null,null,null,null,null,null,null,null,35,150.70000000000002,null,67,null,null,null,null,null,34]
["Externistenreifeprüfung","schriftl. - graf./prakt. AHS",16.399999999999999,null,null,null,null,null,null,null,null,null,null,null,null,null,null,null,null,null,null,36,155.00000000000003,null,66,null,null,null,null,null,35]
["Zulassungsprüfung z. Extern.RP","Vorsitz",4.3,null,null,null,null,null,null,null,null,null,null,null,null,null,null,null,null,null,null,37,159.30000000000004,null,65,null,null,null,null,null,36]
["Zulassungsprüfung z. Extern.RP","Schriftführung",4.3,null,null,null,null,null,null,null,null,null,null,null,null,null,null,null,null,null,null,38,163.60000000000005,null,64,null,null,null,null,null,37]
["Zulassungsprüfung z. Extern.RP","mündlich ",8.1999999999999993,null,null,null,null,null,null,null,null,null,null,null,null,null,null,null,null,null,null,39,167.90000000000006,null,63,null,null,null,null,null,38]
["Zulassungsprüfung z. Extern.RP","schriftl. /graphisch/prakt.",10.9,null,null,null,null,null,null,null,null,null,null,null,null,null,null,null,null,null,null,40,172.20000000000007,null,62,null,null,null,null,null,39]
["Aufnahms- u. Einstufungsprüfungen","Vorsitz",2.7,null,null,null,null,null,null,null,null,null,null,null,null,null,null,null,null,null,null,41,176.50000000000009,null,61,null,null,null,null,null,40]
["Aufnahms- u. Einstufungsprüfungen","mündlich ",5.5,null,null,null,null,null,null,null,null,null,null,null,null,null,null,null,null,null,null,42,180.8000000000001,null,60,null,null,null,null,null,41]
["Aufnahms- u. Einstufungsprüfungen","praktisch",5.5,null,null,null,null,null,null,null,null,null,null,null,null,null,null,null,null,null,null,43,185.10000000000011,null,59,null,null,null,null,null,42]
["Aufnahms- u. Einstufungsprüfungen","schriftlich/graph./prakt.",8.1999999999999993,null,null,null,null,null,null,null,null,null,null,null,null,null,null,null,null,null,null,44,189.40000000000012,null,58,null,null,null,null,null,43]
["Sonst. Externistenprüfungen","Vorsitz",1.3,null,null,null,null,null,null,null,null,null,null,null,null,null,null,null,null,null,null,45,193.70000000000013,null,57,null,null,null,null,null,44]
["Sonst. Externistenprüfungen","Vorsitz §3/7",2.1,null,null,null,null,null,null,null,null,null,null,null,null,null,null,null,null,null,null,46,198.00000000000014,null,56,null,null,null,null,null,45]
["Sonst. Externistenprüfungen","Prüfer mündl. VS",5.8,null,null,null,null,null,null,null,null,null,null,null,null,null,null,null,null,null,null,47,202.30000000000015,null,55,null,null,null,null,null,46]
["Sonst. Externistenprüfungen","Prüfer mündl. §3/7 VS",11.3,null,null,null,null,null,null,null,null,null,null,null,null,null,null,null,null,null,null,48,206.60000000000016,null,54,null,null,null,null,null,47]
["Sonst. Externistenprüfungen","Schriftführung",1.3,null,null,null,null,null,null,null,null,null,null,null,null,null,null,null,null,null,null,49,210.90000000000018,null,53,null,null,null,null,null,48]
["Sonst. Externistenprüfungen","Schriftführung §3/7",2.1,null,null,null,null,null,null,null,null,null,null,null,null,null,null,null,null,null,null,50,215.20000000000019,null,52,null,null,null,null,null,49]
["Sonst. Externistenprüfungen","Prüfer mündl./prakt. MS",8.8000000000000007,null,null,null,null,null,null,null,null,null,null,null,null,null,null,null,null,null,null,51,219.5000000000002,null,51,null,null,null,null,null,50]
["Sonst. Externistenprüfungen","Prüfer mündl./prakt. §3/7 MS",14.2,null,null,null,null,null,null,null,null,null,null,null,null,null,null,null,null,null,null,52,223.80000000000021,null,50,null,null,null,null,null,51]
["Sonst. Externistenprüfungen","Prüfer schriftl. MS",11.7,null,null,null,null,null,null,null,null,null,null,null,null,null,null,null,null,null,null,53,228.10000000000022,null,49,null,null,null,null,null,52]
["Sonst. Externistenprüfungen","Prüfer schriftl. §3/7 MS",17.100000000000001,null,null,null,null,null,null,null,null,null,null,null,null,null,null,null,null,null,null,54,232.40000000000023,null,48,null,null,null,null,null,53]
["Komm. Prüfung/Kolloquien","Vorsitz (komm. Prüfung)",5.5,null,null,null,null,null,null,null,null,null,null,null,null,null,null,null,null,null,null,55,236.70000000000024,null,47,null,null,null,null,null,54]
["Komm. Prüfung/Kolloquien","mündlich",5.5,null,null,null,null,null,null,null,null,null,null,null,null,null,null,null,null,null,null,56,241.00000000000026,null,46,null,null,null,null,null,55]
["Komm. Prüfung/Kolloquien","schriftlich/graph./prakt.",8.1999999999999993,null,null,null,null,null,null,null,null,null,null,null,null,null,null,null,null,null,null,57,245.30000000000027,null,45,null,null,null,null,null,56]
["Komm. Prüfung/Kolloquien","Schriftf./fachk. Beisitzer",4.3,null,null,null,null,null,null,null,null,null,null,null,null,null,null,null,null,null,null,58,249.60000000000028,null,44,null,null,null,null,null,57]
["Abschlussprüfung","Vorsitz",2.2999999999999998,null,null,null,null,null,null,null,null,null,null,null,null,null,null,null,null,null,null,59,253.90000000000029,null,43,null,null,null,null,null,58]
["Abschlussprüfung","Vorsitz/mdl. Kompens.",2.2999999999999998,null,null,null,null,null,null,null,null,null,null,null,null,null,null,null,null,null,null,60,258.20000000000027,null,42,null,null,null,null,null,59]
["Abschlussprüfung","Schulleiter/AV/LP",1.9,null,null,null,null,null,null,null,null,null,null,null,null,null,null,null,null,null,null,61,262.50000000000028,null,41,null,null,null,null,null,60]
["Abschlussprüfung","Schulleit./AV/LP/mdl. Komp",1.9,null,null,null,null,null,null,null,null,null,null,null,null,null,null,null,null,null,null,62,266.8000000000003,null,40,null,null,null,null,null,61]
["Abschlussprüfung","KV/FV/SK/LP",1.9,null,null,null,null,null,null,null,null,null,null,null,null,null,null,null,null,null,null,63,271.10000000000031,null,39,null,null,null,null,null,62]
["Abschlussprüfung","JV/FV/SK/LP/mdl. Komp.",1.9,null,null,null,null,null,null,null,null,null,null,null,null,null,null,null,null,null,null,64,275.40000000000032,null,38,null,null,null,null,null,63]
["Abschlussprüfung","Beisitzer",7,null,null,null,null,null,null,null,null,null,null,null,null,null,null,null,null,null,null,65,279.70000000000033,null,37,null,null,null,null,null,64]
["Abschlussprüfung","Beisitzer mdl. Kompens.-Pr.",7,null,null,null,null,null,null,null,null,null,null,null,null,null,null,null,null,null,null,66,284.00000000000034,null,36,null,null,null,null,null,65]
["Abschlussprüfung","schriftl. /graphisch/prakt.",24.5,null,null,null,null,null,null,null,null,null,null,null,null,null,null,null,null,null,null,67,288.30000000000035,null,35,null,null,null,null,null,66]
["Abschlussprüfung","graphisch/prakt. Fachklaus.",27.3,null,null,null,null,null,null,null,null,null,null,null,null,null,null,null,null,null,null,68,292.60000000000036,null,34,null,null,null,null,null,67]
["Abschlussprüfung","mdl. Kompensationspr.",13.6,null,null,null,null,null,null,null,null,null,null,null,null,null,null,null,null,null,null,69,296.90000000000038,null,33,null,null,null,null,null,68]
["Abschlussprüfung","mündlich 2 Prüfer",10.5,null,null,null,null,null,null,null,null,null,null,null,null,null,null,null,null,null,null,70,301.20000000000039,null,32,null,null,null,null,null,69]
["Abschlussprüfung","Korr. abschließende Arb.",37.799999999999997,null,null,null,null,null,null,null,null,null,null,null,null,null,null,null,null,null,null,71,305.5000000000004,null,31,null,null,null,null,null,70]
["Abschlussprüfung","mündlich ",13.6,null,null,null,null,null,null,null,null,null,null,null,null,null,null,null,null,null,null,72,309.80000000000041,null,30,null,null,null,null,null,71]
["Abschlussprüfung","Projekt bzw. BDA",null,null,null,null,null,null,null,null,null,null,null,null,null,null,null,null,null,null,null,73,314.10000000000042,null,29,null,null,null,null,null,72]
["BRP / Lehre m. Matura","Vorsitz",7,null,null,null,null,null,null,null,null,null,null,null,null,null,null,null,null,null,null,74,318.40000000000043,null,28,null,null,null,null,null,73]
["BRP / Lehre m. Matura","Prüfer schriftl.",13.6,null,null,null,null,null,null,null,null,null,null,null,null,null,null,null,null,null,null,75,322.70000000000044,null,27,null,null,null,null,null,74]
["BRP / Lehre m. Matura","Prüfer mündl.",13.6,null,null,null,null,null,null,null,null,null,null,null,null,null,null,null,null,null,null,76,{"$f":"W75+$C$99","v":327.00000000000045},null,26,null,null,null,null,null,75]
["BRP / Lehre m. Matura","Prüfer Fachb./Klausur.",24.5,null,null,null,null,null,null,null,null,null,null,null,null,null,null,null,null,null,null,77,331.30000000000047,null,25,null,null,null,null,null,76]
["BRP / Lehre m. Matura","Prüfer Fachb./Korrektur",37.799999999999997,null,null,null,null,null,null,null,null,null,null,null,null,null,null,null,null,null,null,78,335.60000000000048,null,24,null,null,null,null,null,77]
["BRP / Lehre m. Matura","Beisitzer",7,null,null,null,null,null,null,null,null,null,null,null,null,null,null,null,null,null,null,79,339.90000000000049,null,23,null,null,null,null,null,78]
["BRP / Lehre m. Matura","Schriftführung",2.2999999999999998,null,null,null,null,null,null,null,null,null,null,null,null,null,null,null,null,null,null,80,344.2000000000005,null,22,null,null,null,null,null,79]
["Zertifikatsprüfung Käsek./Jungbark.","Organisat. d. Prüfung/JP",18,null,null,null,null,null,null,null,null,null,null,null,null,null,null,null,null,null,null,81,348.50000000000051,null,21,null,null,null,null,null,80]
["Zertifikatsprüfung Käsek./Jungbark.","Organisat. d. Prüfung/KK",12,null,null,null,null,null,null,null,null,null,null,null,null,null,null,null,null,null,null,82,352.80000000000052,null,20,null,null,null,null,null,81]
["Zertifikatsprüfung Käsek./Jungbark.","Vorsitz",6,null,null,null,null,null,null,null,null,null,null,null,null,null,null,null,null,null,null,83,357.10000000000053,null,19,null,null,null,null,null,82]
["Zertifikatsprüfung Käsek./Jungbark.","schriftlich",6,null,null,null,null,null,null,null,null,null,null,null,null,null,null,null,null,null,null,84,361.40000000000055,null,18,null,null,null,null,null,83]
["Zertifikatsprüfung Käsek./Jungbark.","praktisch",6,null,null,null,null,null,null,null,null,null,null,null,null,null,null,null,null,null,null,85,365.70000000000056,null,17,null,null,null,null,null,84]
["Zertifikatsprüfung Käsek./Jungbark.","sensorisch",6,null,null,null,null,null,null,null,null,null,null,null,null,null,null,null,null,null,null,86,370.00000000000057,null,16,null,null,null,null,null,85]
["Zertifikatsprüfung Weinsommelier","Organisat. d. Prüfung/Weins.",12,null,null,null,null,null,null,null,null,null,null,null,null,null,null,null,null,null,null,87,374.30000000000058,null,15,null,null,null,null,null,86]
["Zertifikatsprüfung Weinsommelier","Vorsitz",6,null,null,null,null,null,null,null,null,null,null,null,null,null,null,null,null,null,null,88,378.60000000000059,null,14,null,null,null,null,null,87]
["Zertifikatsprüfung Weinsommelier","schriftlich",6,null,null,null,null,null,null,null,null,null,null,null,null,null,null,null,null,null,null,89,382.9000000000006,null,13,null,null,null,null,null,88]
["Zertifikatsprüfung Weinsommelier","praktisch",6,null,null,null,null,null,null,null,null,null,null,null,null,null,null,null,null,null,null,90,387.20000000000061,null,12,null,null,null,null,null,89]
["Zertifikatsprüfung Weinsommelier","sensorisch",6,null,null,null,null,null,null,null,null,null,null,null,null,null,null,null,null,null,null,91,391.50000000000063,null,11,null,null,null,null,null,90]
[null,null,null,null,null,null,null,null,null,null,null,null,null,null,null,null,null,null,null,null,null,92,395.80000000000064,null,10,null,null,null,null,null,91]
[null,null,null,null,null,null,null,null,null,null,null,null,null,null,null,null,null,null,null,null,null,93,400.10000000000065,null,9,null,null,null,null,null,92]
[null,null,null,null,null,null,null,null,null,null,null,null,null,null,null,null,null,null,null,null,null,94,404.40000000000066,null,8,null,null,null,null,null,93]
[null,null,null,null,null,null,null,null,null,null,null,null,null,null,null,null,null,null,null,null,null,95,408.70000000000067,null,7,null,null,null,null,null,94]
[null,null,null,null,null,null,null,null,null,null,null,null,null,null,null,null,null,null,null,null,null,96,413.00000000000068,null,6,null,null,null,null,null,95]
[null,null,null,null,null,null,null,null,null,null,null,null,null,null,null,null,null,null,null,null,null,97,417.30000000000069,null,5,null,null,null,null,null,96]
[null,"Projekt bzw. BDA",null,null,null,null,null,null,null,null,null,null,null,null,null,null,null,null,null,null,null,98,421.6000000000007,null,4,null,null,null,null,null,97]
[null,43.2,4.3,null,null,null,null,null,null,null,null,null,null,null,null,null,null,null,null,null,null,99,425.90000000000072,null,3,null,null,null,null,null,98]
[null,null,null,null,null,null,null,null,null,null,null,null,null,null,null,null,null,null,null,null,null,100,430.20000000000073,null,2,null,null,null,null,null,99]
[null,null,null,null,null,null,null,null,null,null,null,null,null,null,null,null,null,null,null,null,null,null,null,null,1,null,null,null,null,null,100]
[null,null,null,null,null,null,null,null,null,null,null,null,null,null,null,null,null,null,null,null,null,null,null,null,0,null,null,null,null,null,-1]
[null,null,null,null,null,null,null,null,null,null,null,null,null,null,null,null,null,null,null,null,null,null,null,null,null,null,null,null,null,null,-2]
[null,null,null,null,null,null,null,null,null,null,null,null,null,null,null,null,null,null,null,null,null,null,null,null,null,null,null,null,null,null,-3]
[null,null,null,null,null,null,null,null,null,null,null,null,null,null,null,null,null,null,null,null,null,null,null,null,null,null,null,null,null,null,-4]
[null,null,null,null,null,null,null,null,null,null,null,null,null,null,null,null,null,null,null,null,null,null,null,null,null,null,null,null,null,null,-5]
[null,null,null,null,null,null,null,null,null,null,null,null,null,null,null,null,null,null,null,null,{"$f":"4.1*90","v":368.99999999999994},{"$f":"90*4.2","v":378},{"$f":"90*4.3","v":387},null,null,null,null,null,null,null,-6]
[null,null,null,null,null,null,null,null,null,null,null,null,null,null,null,null,null,null,null,null,41.3,41.9,43.2,null,null,null,null,null,null,null,-7]
[null,null,null,null,null,null,null,null,null,null,null,null,null,null,null,null,null,null,null,null,{"$f":"SUM(U107:U108)","v":410.29999999999995},{"$f":"SUM(V107:V108)","v":419.9},{"$f":"SUM(W107:W108)","v":430.2},null,null,null,null,null,null,null,-8]
[null,null,null,null,null,null,null,null,null,null,null,null,null,null,null,null,null,null,null,null,null,null,null,null,null,null,null,null,null,null,-9]
[null,null,null,null,null,null,null,null,null,null,null,null,null,null,null,null,null,null,null,null,null,null,null,null,null,null,null,null,null,null,-10]
[null,null,null,null,null,null,null,null,null,null,null,null,null,null,null,null,null,null,null,null,null,null,null,null,null,null,null,null,null,null,-11]
[null,null,null,null,null,null,null,null,null,null,null,null,null,null,null,null,null,null,null,null,null,null,null,null,null,null,null,null,null,null,-12]
[null,null,null,null,null,null,null,null,null,null,null,null,null,null,null,null,null,null,null,null,null,null,null,null,null,null,null,null,null,null,-13]
[null,null,null,null,null,null,null,null,null,null,null,null,null,null,null,null,null,null,null,null,null,null,null,null,null,null,null,null,null,null,-14]
[null,null,null,null,null,null,null,null,null,null,null,null,null,null,null,null,null,null,null,null,null,null,null,null,null,null,null,null,null,null,-15]
[null,null,null,null,null,null,null,null,null,null,null,null,null,null,null,null,null,null,null,null,null,null,null,null,null,null,null,null,null,null,-16]
[null,null,null,null,null,null,null,null,null,null,null,null,null,null,null,null,null,null,null,null,null,null,null,null,null,null,null,null,null,null,-17]
[null,null,null,null,null,null,null,null,null,null,null,null,null,null,null,null,null,null,null,null,null,null,null,null,null,null,null,null,null,null,-18]
[null,null,null,null,null,null,null,null,null,null,null,null,null,null,null,null,null,null,null,null,null,null,null,null,null,null,null,null,null,null,-19]
[null,null,null,null,null,null,null,null,null,null,null,null,null,null,null,null,null,null,null,null,null,null,null,null,null,null,null,null,null,null,-20]
[null,null,null,null,null,null,null,null,null,null,null,null,null,null,null,null,null,null,null,null,null,null,null,null,null,null,null,null,null,null,-21]
[null,null,null,null,null,null,null,null,null,null,null,null,null,null,null,null,null,null,null,null,null,null,null,null,null,null,null,null,null,null,-22]
[null,null,null,null,null,null,null,null,null,null,null,null,null,null,null,null,null,null,null,null,null,null,null,null,null,null,null,null,null,null,-23]
[null,null,null,null,null,null,null,null,null,null,null,null,null,null,null,null,null,null,null,null,null,null,null,null,null,null,null,null,null,null,-24]
[null,null,null,null,null,null,null,null,null,null,null,null,null,null,null,null,null,null,null,null,null,null,null,null,null,null,null,null,null,null,-25]
[null,null,null,null,null,null,null,null,null,null,null,null,null,null,null,null,null,null,null,null,null,null,null,null,null,null,null,null,null,null,-26]
[null,null,null,null,null,null,null,null,null,null,null,null,null,null,null,null,null,null,null,null,null,null,null,null,null,null,null,null,null,null,-27]
[null,null,null,null,null,null,null,null,null,null,null,null,null,null,null,null,null,null,null,null,null,null,null,null,null,null,null,null,null,null,-28]
[null,null,null,null,null,null,null,null,null,null,null,null,null,null,null,null,null,null,null,null,null,null,null,null,null,null,null,null,null,null,-29]
[null,null,null,null,null,null,null,null,null,null,null,null,null,null,null,null,null,null,null,null,null,null,null,null,null,null,null,null,null,null,-30]
[null,null,null,null,null,null,null,null,null,null,null,null,null,null,null,null,null,null,null,null,null,null,null,null,null,null,null,null,null,null,-31]
[null,null,null,null,null,null,null,null,null,null,null,null,null,null,null,null,null,null,null,null,null,null,null,null,null,null,null,null,null,null,-32]
[null,null,null,null,null,null,null,null,null,null,null,null,null,null,null,null,null,null,null,null,null,null,null,null,null,null,null,null,null,null,-33]
[null,null,null,null,null,null,null,null,null,null,null,null,null,null,null,null,null,null,null,null,null,null,null,null,null,null,null,null,null,null,-34]
[null,null,null,null,null,null,null,null,null,null,null,null,null,null,null,null,null,null,null,null,null,null,null,null,null,null,null,null,null,null,-35]
[null,null,null,null,null,null,null,null,null,null,null,null,null,null,null,null,null,null,null,null,null,null,null,null,null,null,null,null,null,null,-36]
[null,null,null,null,null,null,null,null,null,null,null,null,null,null,null,null,null,null,null,null,null,null,null,null,null,null,null,null,null,null,-37]
[null,null,null,null,null,null,null,null,null,null,null,null,null,null,null,null,null,null,null,null,null,null,null,null,null,null,null,null,null,null,-38]
[null,null,null,null,null,null,null,null,null,null,null,null,null,null,null,null,null,null,null,null,null,null,null,null,null,null,null,null,null,null,-39]
[null,null,null,null,null,null,null,null,null,null,null,null,null,null,null,null,null,null,null,null,null,null,null,null,null,null,null,null,null,null,-40]
[null,null,null,null,null,null,null,null,null,null,null,null,null,null,null,null,null,null,null,null,null,null,null,null,null,null,null,null,null,null,-41]
[null,null,null,null,null,null,null,null,null,null,null,null,null,null,null,null,null,null,null,null,null,null,null,null,null,null,null,null,null,null,-42]
[null,null,null,null,null,null,null,null,null,null,null,null,null,null,null,null,null,null,null,null,null,null,null,null,null,null,null,null,null,null,-43]
[null,null,null,null,null,null,null,null,null,null,null,null,null,null,null,null,null,null,null,null,null,null,null,null,null,null,null,null,null,null,-44]
[null,null,null,null,null,null,null,null,null,null,null,null,null,null,null,null,null,null,null,null,null,null,null,null,null,null,null,null,null,null,-45]
[null,null,null,null,null,null,null,null,null,null,null,null,null,null,null,null,null,null,null,null,null,null,null,null,null,null,null,null,null,null,-46]
[null,null,null,null,null,null,null,null,null,null,null,null,null,null,null,null,null,null,null,null,null,null,null,null,null,null,null,null,null,null,-47]
[null,null,null,null,null,null,null,null,null,null,null,null,null,null,null,null,null,null,null,null,null,null,null,null,null,null,null,null,null,null,-48]
[null,null,null,null,null,null,null,null,null,null,null,null,null,null,null,null,null,null,null,null,null,null,null,null,null,null,null,null,null,null,-49]
[null,null,null,null,null,null,null,null,null,null,null,null,null,null,null,null,null,null,null,null,null,null,null,null,null,null,null,null,null,null,-50]
[null,null,null,null,null,null,null,null,null,null,null,null,null,null,null,null,null,null,null,null,null,null,null,null,null,null,null,null,null,null,-51]
[null,null,null,null,null,null,null,null,null,null,null,null,null,null,null,null,null,null,null,null,null,null,null,null,null,null,null,null,null,null,-52]
[null,null,null,null,null,null,null,null,null,null,null,null,null,null,null,null,null,null,null,null,null,null,null,null,null,null,null,null,null,null,-53]
[null,null,null,null,null,null,null,null,null,null,null,null,null,null,null,null,null,null,null,null,null,null,null,null,null,null,null,null,null,null,-54]
[null,null,null,null,null,null,null,null,null,null,null,null,null,null,null,null,null,null,null,null,null,null,null,null,null,null,null,null,null,null,-55]
[null,null,null,null,null,null,null,null,null,null,null,null,null,null,null,null,null,null,null,null,null,null,null,null,null,null,null,null,null,null,-56]
[null,null,null,null,null,null,null,null,null,null,null,null,null,null,null,null,null,null,null,null,null,null,null,null,null,null,null,null,null,null,-57]
[null,null,null,null,null,null,null,null,null,null,null,null,null,null,null,null,null,null,null,null,null,null,null,null,null,null,null,null,null,null,-58]
[null,null,null,null,null,null,null,null,null,null,null,null,null,null,null,null,null,null,null,null,null,null,null,null,null,null,null,null,null,null,-59]
[null,null,null,null,null,null,null,null,null,null,null,null,null,null,null,null,null,null,null,null,null,null,null,null,null,null,null,null,null,null,-60]
[null,null,null,null,null,null,null,null,null,null,null,null,null,null,null,null,null,null,null,null,null,null,null,null,null,null,null,null,null,null,-61]
[null,null,null,null,null,null,null,null,null,null,null,null,null,null,null,null,null,null,null,null,null,null,null,null,null,null,null,null,null,null,-62]
[null,null,null,null,null,null,null,null,null,null,null,null,null,null,null,null,null,null,null,null,null,null,null,null,null,null,null,null,null,null,-63]
[null,null,null,null,null,null,null,null,null,null,null,null,null,null,null,null,null,null,null,null,null,null,null,null,null,null,null,null,null,null,-64]
[null,null,null,null,null,null,null,null,null,null,null,null,null,null,null,null,null,null,null,null,null,null,null,null,null,null,null,null,null,null,-65]
[null,null,null,null,null,null,null,null,null,null,null,null,null,null,null,null,null,null,null,null,null,null,null,null,null,null,null,null,null,null,-66]
[null,null,null,null,null,null,null,null,null,null,null,null,null,null,null,null,null,null,null,null,null,null,null,null,null,null,null,null,null,null,-67]
[null,null,null,null,null,null,null,null,null,null,null,null,null,null,null,null,null,null,null,null,null,null,null,null,null,null,null,null,null,null,-68]
[null,null,null,null,null,null,null,null,null,null,null,null,null,null,null,null,null,null,null,null,null,null,null,null,null,null,null,null,null,null,-69]
[null,null,null,null,null,null,null,null,null,null,null,null,null,null,null,null,null,null,null,null,null,null,null,null,null,null,null,null,null,null,-70]
[null,null,null,null,null,null,null,null,null,null,null,null,null,null,null,null,null,null,null,null,null,null,null,null,null,null,null,null,null,null,-71]
[null,null,null,null,null,null,null,null,null,null,null,null,null,null,null,null,null,null,null,null,null,null,null,null,null,null,null,null,null,null,-72]
[null,null,null,null,null,null,null,null,null,null,null,null,null,null,null,null,null,null,null,null,null,null,null,null,null,null,null,null,null,null,-73]
[null,null,null,null,null,null,null,null,null,null,null,null,null,null,null,null,null,null,null,null,null,null,null,null,null,null,null,null,null,null,-74]
[null,null,null,null,null,null,null,null,null,null,null,null,null,null,null,null,null,null,null,null,null,null,null,null,null,null,null,null,null,null,-75]
[null,null,null,null,null,null,null,null,null,null,null,null,null,null,null,null,null,null,null,null,null,null,null,null,null,null,null,null,null,null,-76]
[null,null,null,null,null,null,null,null,null,null,null,null,null,null,null,null,null,null,null,null,null,null,null,null,null,null,null,null,null,null,-77]
[null,null,null,null,null,null,null,null,null,null,null,null,null,null,null,null,null,null,null,null,null,null,null,null,null,null,null,null,null,null,-78]
[null,null,null,null,null,null,null,null,null,null,null,null,null,null,null,null,null,null,null,null,null,null,null,null,null,null,null,null,null,null,-79]
[null,null,null,null,null,null,null,null,null,null,null,null,null,null,null,null,null,null,null,null,null,null,null,null,null,null,null,null,null,null,-80]
[null,null,null,null,null,null,null,null,null,null,null,null,null,null,null,null,null,null,null,null,null,null,null,null,null,null,null,null,null,null,-81]
[null,null,null,null,null,null,null,null,null,null,null,null,null,null,null,null,null,null,null,null,null,null,null,null,null,null,null,null,null,null,-82]
[null,null,null,null,null,null,null,null,null,null,null,null,null,null,null,null,null,null,null,null,null,null,null,null,null,null,null,null,null,null,-83]
[null,null,null,null,null,null,null,null,null,null,null,null,null,null,null,null,null,null,null,null,null,null,null,null,null,null,null,null,null,null,-84]
[null,null,null,null,null,null,null,null,null,null,null,null,null,null,null,null,null,null,null,null,null,null,null,null,null,null,null,null,null,null,-85]
[null,null,null,null,null,null,null,null,null,null,null,null,null,null,null,null,null,null,null,null,null,null,null,null,null,null,null,null,null,null,-86]
[null,null,null,null,null,null,null,null,null,null,null,null,null,null,null,null,null,null,null,null,null,null,null,null,null,null,null,null,null,null,-87]
[null,null,null,null,null,null,null,null,null,null,null,null,null,null,null,null,null,null,null,null,null,null,null,null,null,null,null,null,null,null,-88]
[null,null,null,null,null,null,null,null,null,null,null,null,null,null,null,null,null,null,null,null,null,null,null,null,null,null,null,null,null,null,-89]
[null,null,null,null,null,null,null,null,null,null,null,null,null,null,null,null,null,null,null,null,null,null,null,null,null,null,null,null,null,null,-90]
[null,null,null,null,null,null,null,null,null,null,null,null,null,null,null,null,null,null,null,null,null,null,null,null,null,null,null,null,null,null,-91]
[null,null,null,null,null,null,null,null,null,null,null,null,null,null,null,null,null,null,null,null,null,null,null,null,null,null,null,null,null,null,-92]
[null,null,null,null,null,null,null,null,null,null,null,null,null,null,null,null,null,null,null,null,null,null,null,null,null,null,null,null,null,null,-93]
[null,null,null,null,null,null,null,null,null,null,null,null,null,null,null,null,null,null,null,null,null,null,null,null,null,null,null,null,null,null,-94]
[null,null,null,null,null,null,null,null,null,null,null,null,null,null,null,null,null,null,null,null,null,null,null,null,null,null,null,null,null,null,-95]
[null,null,null,null,null,null,null,null,null,null,null,null,null,null,null,null,null,null,null,null,null,null,null,null,null,null,null,null,null,null,-96]
[null,null,null,null,null,null,null,null,null,null,null,null,null,null,null,null,null,null,null,null,null,null,null,null,null,null,null,null,null,null,-97]
[null,null,null,null,null,null,null,null,null,null,null,null,null,null,null,null,null,null,null,null,null,null,null,null,null,null,null,null,null,null,-98]
[null,null,null,null,null,null,null,null,null,null,null,null,null,null,null,null,null,null,null,null,null,null,null,null,null,null,null,null,null,null,-99]
[null,null,null,null,null,null,null,null,null,null,null,null,null,null,null,null,null,null,null,null,null,null,null,null,null,null,null,null,null,null,-100]

{"sheet":"Tabelle2","index":9,"n_rows":0,"n_cols":0,"rows_kept":0,"cut":false,"hidden":true,"merged":[]}

{"sheet":"Tabelle1","index":10,"n_rows":9,"n_cols":1,"rows_kept":9,"cut":false,"hidden":true,"merged":[]}
[]
["Vorsitz"]
["Direktor"]
["Klassenvorstand"]
["schriftlich"]
["praktisch/graphisch"]
["mündlich "]
["mündl. m. Schwerpunkt"]
["Schriftführung"]

{"sheet":"Tabelle3","index":11,"n_rows":0,"n_cols":0,"rows_kept":0,"cut":false,"hidden":true,"merged":[]}

{"sheet":"Tabelle4","index":12,"n_rows":10,"n_cols":1,"rows_kept":10,"cut":false,"hidden":true,"merged":[]}
[90233500]
[90054133]
[730153]
[610044]
[610044]
[211580]
[211580]
[191825]
[77002]
[77002]